BEGIN:VCALENDAR
VERSION:2.0
PRODID:-//Mostra d&#039;Oltremare - ECPv6.7.0//NONSGML v1.0//EN
CALSCALE:GREGORIAN
METHOD:PUBLISH
X-ORIGINAL-URL:https://sviluppo.mostradoltremare.it
X-WR-CALDESC:Eventi per Mostra d&#039;Oltremare
REFRESH-INTERVAL;VALUE=DURATION:PT1H
X-Robots-Tag:noindex
X-PUBLISHED-TTL:PT1H
BEGIN:VTIMEZONE
TZID:UTC
BEGIN:STANDARD
TZOFFSETFROM:+0000
TZOFFSETTO:+0000
TZNAME:UTC
DTSTART:20230101T000000
END:STANDARD
END:VTIMEZONE
BEGIN:VEVENT
DTSTART;TZID=UTC:20230301T080000
DTEND;TZID=UTC:20230301T150000
DTSTAMP:20260421T224649
CREATED:20241001T224801Z
LAST-MODIFIED:20241001T224821Z
UID:20159-1677657600-1677682800@sviluppo.mostradoltremare.it
SUMMARY:Concorso So.Re.Sa. per MMG
DESCRIPTION:CONCORSO PER L’ACCESSO AL CORSO DI FORMAZIONE SPECIFICA IN MEDICINA GENERALE  triennio 2023-2025.\nEntrata Piazzale Tecchio
URL:https://sviluppo.mostradoltremare.it/event/concorso-so-re-sa-per-mmg/
LOCATION:Padiglione 10\, Piazzale Tecchio\, Napoli\, 80125
ATTACH;FMTTYPE=image/png:https://sviluppo.mostradoltremare.it/wp-content/uploads/2024/10/20159_image_soresa.png
ORGANIZER;CN="So.Re.Sa S.p.A":MAILTO:soresa@pec_soresa_it
END:VEVENT
BEGIN:VEVENT
DTSTART;TZID=UTC:20230301T080000
DTEND;TZID=UTC:20230301T150000
DTSTAMP:20260421T224649
CREATED:20241001T224904Z
LAST-MODIFIED:20241002T104034Z
UID:20164-1677657600-1677682800@sviluppo.mostradoltremare.it
SUMMARY:Concorso ABC Acqua Bene Comune
DESCRIPTION:Selezione ad evidenza pubblica per l’assunzione a tempo indeterminato di una risorsa iscritta al Collocamento Obbligatorio in qualità di Categoria Protetta. Somministrazione  Test Psicoattitudinali.\nIngresso Viale Kennedy 54
URL:https://sviluppo.mostradoltremare.it/event/concorso-abc-acqua-bene-comune/
LOCATION:Sala Italia\, Napoli\, 80125
ATTACH;FMTTYPE=image/png:https://sviluppo.mostradoltremare.it/wp-content/uploads/2024/10/20164_image_ABC-ACQUA-BENE-COMUNE.png
ORGANIZER;CN="So.Re.Sa S.p.A":MAILTO:soresa@pec_soresa_it
END:VEVENT
BEGIN:VEVENT
DTSTART;TZID=UTC:20230303T100000
DTEND;TZID=UTC:20230305T180000
DTSTAMP:20260421T224649
CREATED:20241001T224959Z
LAST-MODIFIED:20241001T225012Z
UID:20170-1677837600-1678039200@sviluppo.mostradoltremare.it
SUMMARY:MED EXHIBIT PRINT 2023
DESCRIPTION:Macchine da stampa\, attrezzature per la grafica.\nIngresso Viale Kennedy 54\nInfoline 3931796931\nRegistrazione visitatori sul sito della manifestazione: \nMed Exhibit Print 2023: la Fiera della stampa in campania
URL:https://sviluppo.mostradoltremare.it/event/med-exhibit-print-2023/
LOCATION:Padiglione 5\, viale Kennedy 54\, Napoli\, NA\, 80125
ATTACH;FMTTYPE=image/jpeg:https://sviluppo.mostradoltremare.it/wp-content/uploads/2024/10/20170_image_medexhibitprint-2023.jpg
ORGANIZER;CN="Spazio Creativo srl":MAILTO:info@medexhibitprint_it
END:VEVENT
BEGIN:VEVENT
DTSTART;TZID=UTC:20230304T093000
DTEND;TZID=UTC:20240305T183000
DTSTAMP:20260421T224649
CREATED:20241001T225053Z
LAST-MODIFIED:20241001T225110Z
UID:20176-1677922200-1709663400@sviluppo.mostradoltremare.it
SUMMARY:EXVAPO 2023 - 4^ edizione
DESCRIPTION:La fiera dello svapo del Sud Italia\nIngresso Viale Kennedy 54\nPer informazioni: info@exvapo.com; per preventivi: direzione@exvapo.com-\nIngresso gratuito\, previa registrazione online. Per scaricare i biglietti: Biglietti – EXVAPO Napoli\nIngresso vietato ai minori di 18 anni se non accompagnati dai propri genitori.
URL:https://sviluppo.mostradoltremare.it/event/exvapo-2023-4-edizione/
LOCATION:Padiglione 6\, Viale Kennedy 54
ATTACH;FMTTYPE=image/png:https://sviluppo.mostradoltremare.it/wp-content/uploads/2024/10/20176_image_Exvapo-2023.png
ORGANIZER;CN="Atohm Service srls":MAILTO:info@exvapo_com
END:VEVENT
BEGIN:VEVENT
DTSTART;TZID=UTC:20230308T084500
DTEND;TZID=UTC:20230308T130000
DTSTAMP:20260421T224649
CREATED:20241001T225152Z
LAST-MODIFIED:20241001T225307Z
UID:20181-1678265100-1678280400@sviluppo.mostradoltremare.it
SUMMARY:OXFORD CONFERENCE 2023: ALL TOGETHER NOW!
DESCRIPTION:Formazione per insegnanti della scuola secondaria di primo e di secondo grado.\nIngresso Viale Kennedy 54
URL:https://sviluppo.mostradoltremare.it/event/oxford-conference-2023-all-together-now/
LOCATION:Sala Italia\, Napoli\, 80125
ATTACH;FMTTYPE=image/jpeg:https://sviluppo.mostradoltremare.it/wp-content/uploads/2024/10/20181_image_2-OxfordConference_NA.jpg
ORGANIZER;CN="Oxford University Press srl":MAILTO:elt_events@oup_com
END:VEVENT
BEGIN:VEVENT
DTSTART;TZID=UTC:20230310T083000
DTEND;TZID=UTC:20230312T203000
DTSTAMP:20260421T224649
CREATED:20241001T225335Z
LAST-MODIFIED:20241001T225354Z
UID:20187-1678437000-1678653000@sviluppo.mostradoltremare.it
SUMMARY:LEGACY EUROPEAN TOUR
DESCRIPTION:Ingresso Piazzale Tecchio.
URL:https://sviluppo.mostradoltremare.it/event/legacy-european-tour/
LOCATION:Padiglione 1\, Piazzale Tecchio\, Napoli\, 80125
ATTACH;FMTTYPE=image/png:https://sviluppo.mostradoltremare.it/wp-content/uploads/2024/10/20187_image_lec-naples.png
ORGANIZER;CN="Legacy srl":MAILTO:info@legacyeuropeantour_com
END:VEVENT
BEGIN:VEVENT
DTSTART;TZID=UTC:20230316T100000
DTEND;TZID=UTC:20230318T170000
DTSTAMP:20260421T224649
CREATED:20241001T225428Z
LAST-MODIFIED:20241002T113138Z
UID:20192-1678960800-1679158800@sviluppo.mostradoltremare.it
SUMMARY:BMT Borsa Mediterranea del Turismo 2023 - 26^ edizione
DESCRIPTION:Area espositiva\, workshop\, convegni\, corsi di aggiornamento\,.\nOrari di apertura: giovedì e venerdì 10\,00-18\,00; sabato 10\,00-17\,00.\nIngresso Viale Kennedy.\nRegistrazione visitatori sul sito dedicato: https://bmtnapoli.com/accredito-visitatori/
URL:https://sviluppo.mostradoltremare.it/event/bmt-borsa-mediterranea-del-turismo-2023-26-edizione/
LOCATION:Padiglioni 6-5-4-3\, Viale Kennedy 54\, Napoli\, NA\, 80125\, Italia
CATEGORIES:Fiera
ATTACH;FMTTYPE=image/jpeg:https://sviluppo.mostradoltremare.it/wp-content/uploads/2024/10/20192_image_bmt-2023.jpg
ORGANIZER;CN="Progecta s.r.l.":MAILTO:info@pharmexpo_it
END:VEVENT
BEGIN:VEVENT
DTSTART;TZID=UTC:20230325T100000
DTEND;TZID=UTC:20230326T210000
DTSTAMP:20260421T224649
CREATED:20241001T225519Z
LAST-MODIFIED:20241002T105710Z
UID:20196-1679738400-1679864400@sviluppo.mostradoltremare.it
SUMMARY:FIERA DEL BARATTO E DELL'USATO - 51^ edizione
DESCRIPTION:Piccolo antiquariato\, modernariato\, artigianato manufatto\, collezionismo\, oggettistica\, abbigliamento vintage\, vasta gamma di oggetti per gli appassionati di musica\, di tutto di più.\nIngresso Piazzale Tecchio.\nBiglietto acquistato in fiera Euro 5\,00; chiusura biglietterie ore 20\,00.\nBiglietto acquistato online Euro 6\,00 su https://www.webtic.it\n–  Under 12 e Over 70 ingresso gratuito.\nPer partecipare come espositore: https://www.fieradelbarattoedellusato.it/iscrizioni/\nContatti Segreteria Organizzativa:\nBidonville 2.0 s.a.s.\nVia Dante Alighieri\, 22 – Pozzuoli (NA)\n(Nei pressi dell’Anfiteatro Flavio)\nTel: 081.18206507 – 392.3729728 (Whatsapp)\nEmail: info@bidonville.org
URL:https://sviluppo.mostradoltremare.it/event/fiera-del-baratto-e-dellusato-51-edizione/
LOCATION:Padiglioni 1-2-3-3B\, Piazzale Tecchio\, Napoli\, 80125\, Italia
CATEGORIES:Fiera
ATTACH;FMTTYPE=image/jpeg:https://sviluppo.mostradoltremare.it/wp-content/uploads/2024/10/20196_image_fiera-baratto-25-26-marzo-2023.jpg
ORGANIZER;CN="Bidonville 2.0 sas di Consiglia Auletta":MAILTO:bidon@bidonville_org
END:VEVENT
BEGIN:VEVENT
DTSTART;TZID=UTC:20230330T093000
DTEND;TZID=UTC:20230401T180000
DTSTAMP:20260421T224649
CREATED:20241002T071026Z
LAST-MODIFIED:20241002T071045Z
UID:20468-1680168600-1680372000@sviluppo.mostradoltremare.it
SUMMARY:ENERGYMED 2023 - 14^ edizione
DESCRIPTION:Mostra Convegno su transizione energetica ed economia circolare rivolta agli operatori dei settori Energia ed Ambiente.\nVisite guidate per gruppi scolastici consentite solo previa prenotazione entro il 24 marzo 2023 – info\, dettagli e modulistica al seguente link: https://www.energymed.it/infovis/visiteguidate.htm\nIngresso Viale Kennedy 54\nOrari: giovedì e venerdì 9\,30-19\,00 con ultimo ingresso alle ore 18\,30 – sabato 9\,30-18\,00 con ultimo ingresso alle ore 17\,30.
URL:https://sviluppo.mostradoltremare.it/event/energymed-2023-14-edizione/
LOCATION:Padiglioni 6 e 5\, Viale J.F.Kennedy 54\, Napoli\, 80125
ATTACH;FMTTYPE=image/jpeg:https://sviluppo.mostradoltremare.it/wp-content/uploads/2024/10/20468_image_energymed-2023.jpg
ORGANIZER;CN="ANEA Agenzia Napoletana Energia e Ambiente":MAILTO:info@energymed_it
END:VEVENT
END:VCALENDAR