BEGIN:VCALENDAR
VERSION:2.0
PRODID:-//Mostra d&#039;Oltremare - ECPv6.7.0//NONSGML v1.0//EN
CALSCALE:GREGORIAN
METHOD:PUBLISH
X-ORIGINAL-URL:https://sviluppo.mostradoltremare.it
X-WR-CALDESC:Eventi per Mostra d&#039;Oltremare
REFRESH-INTERVAL;VALUE=DURATION:PT1H
X-Robots-Tag:noindex
X-PUBLISHED-TTL:PT1H
BEGIN:VTIMEZONE
TZID:UTC
BEGIN:STANDARD
TZOFFSETFROM:+0000
TZOFFSETTO:+0000
TZNAME:UTC
DTSTART:20230101T000000
END:STANDARD
END:VTIMEZONE
BEGIN:VEVENT
DTSTART;TZID=UTC:20230211T103000
DTEND;TZID=UTC:20230219T203000
DTSTAMP:20260422T001126
CREATED:20241001T224436Z
LAST-MODIFIED:20241001T224453Z
UID:20144-1676111400-1676838600@sviluppo.mostradoltremare.it
SUMMARY:NAUTICSUD 2023 - 49^ edizione
DESCRIPTION:Imbarcazioni\, componentistica\, motoristica\, accessori abbigliamento ed arredamento nautico\, servizi per la nautica.\nIngressi: Piazzale Tecchio e Viale Kennedy 54. Parcheggi: Piazzale Tecchio\, Viale Kennedy e Via Terracina\nOrari apertura al pubblico: dal lunedì al giovedì 12\,30-19\,00; venerdì\, sabato e domenica: 10\,30-20\,30.\nPrezzi Biglietti:\n–      Ticket per accesso alla manifestazione direttamente in biglietteria: € 12\,00 (biglietterie attivate P.le Tecchio – Pad. 6 accesso da Via Kennedy e garage pad. 6 accesso da via Kennedy);\n–      Ticket on-line: € 12\,00 + diritti di prevendita;\n–      Ticket scolaresche: € 6\,00 (rilasciati direttamente dalla biglietteria sulla base di un elenco fornito dalla scuola a cui verrà fatturato l’importo);\n–     Ticket per l’accompagnatore di visitatore con difficoltà motorie e non autonomo: omaggio;\n–     Ticket per ragazzi under 12 solo se accompagnati da adulti; omaggio\nAccrediti per accesso stampa: richiesta scritta da inviare a: comunicazione@fabriziokuhne.com non oltre 48 ore prima della data scelta.\nEventi Collaterali:\n-Festa annuale della V zona F.I.V. “E’ vela in Campania”\, 13 febbraio ore 17.00 Padiglione 10 Sala E;\n-Convegno ODCEC di Napoli “La nautica quale volano di sviluppo della economia locale”\, 15 febbraio ore 15.00 Sala Italia;\n-Convegno “Turismo e portualità. Turismo nautico da diporto\, l’importanza del volano economico per i territori”\, 16 febbraio ore 12.30 Padiglione 10 Sala E
URL:https://sviluppo.mostradoltremare.it/event/nauticsud-2023-49-edizione/
LOCATION:Padiglioni 1-2-3-3B-4-5-6-10-aree esterne\, Viale Kennedy 54\, Napoli
ATTACH;FMTTYPE=image/jpeg:https://sviluppo.mostradoltremare.it/wp-content/uploads/2024/10/20144_image_49-nauticsud-2023.jpg
ORGANIZER;CN="AFINA e Mostra d Oltremare":MAILTO:segreteria@afina_it
END:VEVENT
BEGIN:VEVENT
DTSTART;TZID=UTC:20230224T203000
DTEND;TZID=UTC:20230224T230000
DTSTAMP:20260422T001126
CREATED:20241001T224531Z
LAST-MODIFIED:20241002T105729Z
UID:20148-1677270600-1677279600@sviluppo.mostradoltremare.it
SUMMARY:Concerto dei Queen of Bulsara
DESCRIPTION:Infoline 0812390221 – 3926731342.\nPer prenotazioni e ritiro biglietti consultare https://www.facebook.com/queenofbulsara
URL:https://sviluppo.mostradoltremare.it/event/concerto-dei-queen-of-bulsara/
LOCATION:Teatro Mediterraneo e Piazzale antistante\, Viale J.F.Kennedy 54\, Napoli\, 80125
CATEGORIES:Spettacolo
ATTACH;FMTTYPE=image/jpeg:https://sviluppo.mostradoltremare.it/wp-content/uploads/2024/10/20148_image_QUEEN-OF-BULSARA.jpg
ORGANIZER;CN="AFINA e Mostra d Oltremare":MAILTO:segreteria@afina_it
END:VEVENT
BEGIN:VEVENT
DTSTART;VALUE=DATE:20230226
DTEND;VALUE=DATE:20230227
DTSTAMP:20260422T001126
CREATED:20241001T224712Z
LAST-MODIFIED:20241001T224730Z
UID:20154-1677369600-1677455999@sviluppo.mostradoltremare.it
SUMMARY:Napoli City Half Marathon 2023
DESCRIPTION:Napoli City Half Marathon domenica 26 febbraio 2023 ore 9.00\nFamily Run & Friends sabato 25 febbraio 2023 ore 11.00\nSport Expò dal 24 febbraio 2023 –  al 25 febbraio 2023\nUna grande festa del running. Expo con stand e ritiro pettorale dal venerdì (info su www.napolirunning.com/).
URL:https://sviluppo.mostradoltremare.it/event/napoli-city-half-marathon-2023/
LOCATION:Aree esterne\, Padiglioni 2-3-3B\, Viale Marconi\, Napoli\, 80125
ATTACH;FMTTYPE=image/png:https://sviluppo.mostradoltremare.it/wp-content/uploads/2024/10/20154_image_nchm-2023.png
ORGANIZER;CN="NAPOLI RUNNING SRL":MAILTO:info@napolirunning_com
END:VEVENT
END:VCALENDAR