BEGIN:VCALENDAR
VERSION:2.0
PRODID:-//Mostra d&#039;Oltremare - ECPv6.7.0//NONSGML v1.0//EN
CALSCALE:GREGORIAN
METHOD:PUBLISH
X-WR-CALNAME:Mostra d&#039;Oltremare
X-ORIGINAL-URL:https://sviluppo.mostradoltremare.it
X-WR-CALDESC:Eventi per Mostra d&#039;Oltremare
REFRESH-INTERVAL;VALUE=DURATION:PT1H
X-Robots-Tag:noindex
X-PUBLISHED-TTL:PT1H
BEGIN:VTIMEZONE
TZID:UTC
BEGIN:STANDARD
TZOFFSETFROM:+0000
TZOFFSETTO:+0000
TZNAME:UTC
DTSTART:20210101T000000
END:STANDARD
END:VTIMEZONE
BEGIN:VEVENT
DTSTART;TZID=UTC:20221201T163000
DTEND;TZID=UTC:20221218T233000
DTSTAMP:20260422T031937
CREATED:20241004T222037Z
LAST-MODIFIED:20241004T222053Z
UID:24075-1669912200-1671406200@sviluppo.mostradoltremare.it
SUMMARY:CHRISTMAS VILLAGE 2022
DESCRIPTION:Shopping\, villaggio natalizio\, intrattenimento\, giochi\, pattinaggio\, punti ristoro.\nOrari di apertura al pubblico:\n-dal lunedì al venerdì: 16\,30-21\,30\n-sabato\, domenica ed 8 dicembre 2022: 11\,00-23\,30.\nPer le visite scolastiche ai laboratori didattici: apertura dal lunedì al venerdì\, tranne giovedì 8 dicembre 2022\, dalle ore 10\,00 alle 14\,00. Contattare l’organizzazione: info@christmas-village.it.\nIngresso visitatori e biglietteria: Piazzale Tecchio\nPrevendite online attive al seguente link: https://www.christmas-village.it. Il ticket d’ingresso è relativo al villaggio\, eventuali ospiti sono gratuiti. Il biglietto non è rimborsabile.\nPrezzi biglietti: \nadulti Euro 15\,00\nbambini dai 2 agli 8 anni: Euro 12\,00\ngratis per bambini fino a 2 anni non compiuti \nPer informazioni sui biglietti = solo WhatsApp al 3481006557
URL:https://sviluppo.mostradoltremare.it/event/christmas-village-2022/
LOCATION:Area 28 Fontane e piazzale antistante Teatro Mediterraneo\, Piazzale Tecchio\, Napoli
CATEGORIES:Fiera,Parco,Spettacolo
ATTACH;FMTTYPE=image/jpeg:https://sviluppo.mostradoltremare.it/wp-content/uploads/2024/10/24075_image_christmas-village.jpg
ORGANIZER;CN="EVENTITALIA S.R.L.":MAILTO:info@christmas-village_it
END:VEVENT
BEGIN:VEVENT
DTSTART;TZID=UTC:20221202T093000
DTEND;TZID=UTC:20221204T183000
DTSTAMP:20260422T031937
CREATED:20241004T222132Z
LAST-MODIFIED:20241004T222150Z
UID:24079-1669973400-1670178600@sviluppo.mostradoltremare.it
SUMMARY:ARKEDA 2022 - IX edizione
DESCRIPTION:Salone Professionale di architettura\, edilizia\, design e arredo. Tema di quest’anno D/N/A  Design\, Natura\, Architettura.\nPrevisti Corsi CFP e workshop.\nAccredito visitatori professionali: https://www.arkeda.it/accredito-visitatori/\nIngresso Viale Kennedy 54
URL:https://sviluppo.mostradoltremare.it/event/arkeda-2022-ix-edizione/
LOCATION:Padiglioni 4\, 5 e 6\, Viale Kennedy 54
CATEGORIES:Fiera
ATTACH;FMTTYPE=image/png:https://sviluppo.mostradoltremare.it/wp-content/uploads/2024/10/22874_image_arkeda.png
ORGANIZER;CN="PROGECTA SRL":MAILTO:info@progecta_org
END:VEVENT
BEGIN:VEVENT
DTSTART;TZID=UTC:20211203T100000
DTEND;TZID=UTC:20211203T100000
DTSTAMP:20260422T031937
CREATED:20241002T213531Z
LAST-MODIFIED:20241002T214512Z
UID:22933-1638525600-1638525600@sviluppo.mostradoltremare.it
SUMMARY:Il Magico Parco di Santa Claus
DESCRIPTION:Mercatini\, animazione\, laboratori creativi\, area merchandising\, area food e Christmas Circus.  Per Informazioni\, contattare i numeri 0812482200 e 3393194813 – Email: ilmagicoparcodisantaclaus@gmail.com.\nOrari: dal lunedì al venerdì 10\,00-13\,00 (ultimo ingresso ore 12\,00) e 15\,00-20\,00 (ultimo ingresso ore 19\,00); il sabato e la domenica dalle 10\,00 alle 21\,00 orario continuato (ultimo ingresso ore 20\,00).\n8 dicembre 2021 orario continuato dalle 10 alle 21 (ultimo ingresso ore 20)\ndal 20 al 26 dicembre 2021 orario continuato dalle 10 alle 21 (ultimo ingresso ore 20)\n31 dicembre 2021 chiusura ore 14 (ultimo ingresso ore 13)\n1 gennaio 2022 orario continuato dalle ore 11 alle 21 (ultimo ingresso ore 20)\n6 gennaio 2022 orario continuato dalle 10 alle 21 (ultimo ingresso ore 20)\nPrezzo biglietto Ingresso: € 13.00+2.00\nIngresso bambini da 3 a 12 anni non compiuti: €10.00+2.00 – Gratuito per bambini fino a 3 anni non compiuti.\nIngresso circo: €1.00\nIl biglietto relativo al circo è subordinato all’acquisto dell’ingresso al Parco\, acquistabile solo online\, a posti limitati per fascia oraria per 2 ore.\nPrevendite dei circuiti GO2 e Ticketone e\, dal giorno di apertura\, anche al botteghino in loco.\nIngresso Viale Kennedy 64\, di fronte a Gerardi e Fortura. Non è necessario il Green Pass.
URL:https://sviluppo.mostradoltremare.it/event/il-magico-parco-di-santa-claus/
LOCATION:Parco Robinson\, Viale Kennedy 64\, Napoli\, 80125
CATEGORIES:Parco,Spettacolo
ATTACH;FMTTYPE=image/jpeg:https://sviluppo.mostradoltremare.it/wp-content/uploads/2024/10/22933_image_santa-claus-con-befana.jpg
ORGANIZER;CN="Istituto Paritario Il Cigno- Fimar Impresa Sociale srl":MAILTO:scuolailcigno@virgilio_it
END:VEVENT
BEGIN:VEVENT
DTSTART;TZID=UTC:20221207T200000
DTEND;TZID=UTC:20221207T213000
DTSTAMP:20260422T031937
CREATED:20241004T222217Z
LAST-MODIFIED:20241004T222232Z
UID:24082-1670443200-1670448600@sviluppo.mostradoltremare.it
SUMMARY:Concerto Benessere. Musica e Danza
DESCRIPTION:della Nuova Orchestra Scarlatti  – Coreografie a cura di Emma Cianchi di Art Garage\, centro di produzione danza\, teatro e altre forme di arte contemporanea. In programma il Canone di J. Pachelbel\, l’Inverno di A. Vivaldi\, concerti di T. Albinoni\, F. J. Haydn\, W. A. Mozart\, G. Verdi\, J. Strauss\, D. Šostakovič e altri.\nIngresso gratuito senza prenotazione. Viale Kennedy 54
URL:https://sviluppo.mostradoltremare.it/event/concerto-benessere-musica-e-danza/
LOCATION:Teatro Mediterraneo e Piazzale antistante\, Viale J.F.Kennedy 54\, Napoli\, 80125
CATEGORIES:Spettacolo
ATTACH;FMTTYPE=image/jpeg:https://sviluppo.mostradoltremare.it/wp-content/uploads/2024/10/24019_image_732-nos.jpg
ORGANIZER;CN="Associazione Nuova Orchestra Scarlatti":MAILTO:info@nuovaorchestrascarlatti_it
END:VEVENT
BEGIN:VEVENT
DTSTART;TZID=UTC:20221210T210000
DTEND;TZID=UTC:20221210T233000
DTSTAMP:20260422T031937
CREATED:20241004T222325Z
LAST-MODIFIED:20241004T222339Z
UID:24086-1670706000-1670715000@sviluppo.mostradoltremare.it
SUMMARY:Serata finale Festival NAPOLI WORLD
DESCRIPTION:Spettacolo conclusivo del primo showcase festival di World Music. Partecipano Lucibela e N.C.C.P.\nIngresso Viale Kennedy 54
URL:https://sviluppo.mostradoltremare.it/event/serata-finale-festival-napoli-world/
LOCATION:Teatro Mediterraneo e Piazzale antistante\, Viale J.F.Kennedy 54\, Napoli\, 80125
CATEGORIES:Spettacolo
ATTACH;FMTTYPE=image/jpeg:https://sviluppo.mostradoltremare.it/wp-content/uploads/2024/10/24086_image_10-dicembre-2022.jpg
ORGANIZER;CN="Audioimage srl":MAILTO:info@audioimage_eu
END:VEVENT
BEGIN:VEVENT
DTSTART;TZID=UTC:20221212T143000
DTEND;TZID=UTC:20221216T183000
DTSTAMP:20260422T031937
CREATED:20241004T222406Z
LAST-MODIFIED:20241004T222545Z
UID:24090-1670855400-1671215400@sviluppo.mostradoltremare.it
SUMMARY:Concorso Comune di Napoli
DESCRIPTION:Prove scritte Vari Profili Categorie C e D\nIngresso candidati Piazzale Tecchio – Uscita candidati Viale Marconi.\nil 12 dicembre 2022: unica sessione ore 14\,30 – dal 13 al 16 dicembre 2022: prima sessione ore 9\,30 – seconda sessione ore 14\,30
URL:https://sviluppo.mostradoltremare.it/event/concorso-comune-di-napoli-4/
LOCATION:Padiglione 10\, Piazzale Tecchio\, Napoli\, 80125
CATEGORIES:Concorsi
ATTACH;FMTTYPE=image/jpeg:https://sviluppo.mostradoltremare.it/wp-content/uploads/2024/10/24090_image_pad-10-banchi.jpg
ORGANIZER;CN="Formez PA":MAILTO:protocollo@pec_formez_it
END:VEVENT
BEGIN:VEVENT
DTSTART;TZID=UTC:20221214T170000
DTEND;TZID=UTC:20221214T193000
DTSTAMP:20260422T031937
CREATED:20241004T222438Z
LAST-MODIFIED:20241004T222453Z
UID:24093-1671037200-1671046200@sviluppo.mostradoltremare.it
SUMMARY:Giuramento solenne degli Infermieri
DESCRIPTION:ingresso pedonale viale Kennedy 54 – ingresso auto Via Terracina 197
URL:https://sviluppo.mostradoltremare.it/event/giuramento-solenne-degli-infermieri/
LOCATION:Sala Ischia del Palacongressi
CATEGORIES:Congresso
ATTACH;FMTTYPE=image/jpeg:https://sviluppo.mostradoltremare.it/wp-content/uploads/2024/10/24093_image_2-giuramento-degli-infermieri-14-dicembre-2022.jpg
ORGANIZER;CN="Ordine delle Professioni Infermieristiche di Napoli":MAILTO:info@opinapoli_it
END:VEVENT
BEGIN:VEVENT
DTSTART;TZID=UTC:20221215T093000
DTEND;TZID=UTC:20221216T173000
DTSTAMP:20260422T031937
CREATED:20241004T222609Z
LAST-MODIFIED:20241004T222624Z
UID:24098-1671096600-1671211800@sviluppo.mostradoltremare.it
SUMMARY:SMAU Napoli 2022 - 9^ edizione
DESCRIPTION:Innovazione\, tecnologia\, percorsi guidati\, speed pitching\, oltre 50 workshop\, live show e Premio Innovazione Smau.\nPer partecipare come visitatore\, effettuare la registrazione al seguente link: https://www.smau.it/napoli/partecipa/visitatore\nIngressi e parcheggi Viale Kennedy 54 – Via Terracina 197
URL:https://sviluppo.mostradoltremare.it/event/smau-napoli-2022-9-edizione/
LOCATION:Padiglione 6\, Viale Kennedy 54
CATEGORIES:Fiera
ATTACH;FMTTYPE=image/png:https://sviluppo.mostradoltremare.it/wp-content/uploads/2024/10/24098_image_smau-napoli-2022.png
ORGANIZER;CN="Smau Servizi s.r.l.":MAILTO:contact@smau_it
END:VEVENT
BEGIN:VEVENT
DTSTART;TZID=UTC:20221217T110000
DTEND;TZID=UTC:20221217T180000
DTSTAMP:20260422T031937
CREATED:20241004T222649Z
LAST-MODIFIED:20241004T222711Z
UID:24102-1671274800-1671300000@sviluppo.mostradoltremare.it
SUMMARY:Spettacolo natalizio di fine anno
DESCRIPTION:Musical Ricominci…AMO a Natale con il Cigno Story. Ingresso ad inviti\n1° spettacolo ore 11\,00-13\,00\n2° spettacolo ore 16\,00-18\,00\nIngresso Viale Kennedy 54
URL:https://sviluppo.mostradoltremare.it/event/spettacolo-natalizio-di-fine-anno/
LOCATION:Teatro Mediterraneo e Piazzale antistante\, Viale J.F.Kennedy 54\, Napoli\, 80125
CATEGORIES:Spettacolo
ATTACH;FMTTYPE=image/png:https://sviluppo.mostradoltremare.it/wp-content/uploads/2024/10/24102_image_scuola-il-cigno.png
ORGANIZER;CN="Istituto Paritario Il Cigno- Fimar Impresa Sociale srl":MAILTO:scuolailcigno@virgilio_it
END:VEVENT
BEGIN:VEVENT
DTSTART;TZID=UTC:20221219T200000
DTEND;TZID=UTC:20221219T220000
DTSTAMP:20260422T031937
CREATED:20241004T222730Z
LAST-MODIFIED:20241004T222815Z
UID:24106-1671480000-1671487200@sviluppo.mostradoltremare.it
SUMMARY:Spettacolo Tableaux Vivants
DESCRIPTION:Azione/concerto realizzata dalla Nuova Orchestra Scarlatti ed il Gruppo Teatri 35.  Musiche di von Weber\, Pergolesi\, Corelli\, Locatelli\, Purcell\, Molter\, Haendel. Soprano: Rosanna Savoia – Mezzosoprano: Gabriella Colecchia – Clarinetto: M° Gaetano Russo.\nUltimo appuntamento della Rassegna “Sotto il cielo più puro”.\nIngresso gratuito senza prenotazione.
URL:https://sviluppo.mostradoltremare.it/event/spettacolo-tableaux-vivants/
LOCATION:Teatro Mediterraneo e Piazzale antistante\, Viale J.F.Kennedy 54\, Napoli\, 80125
CATEGORIES:Spettacolo
ATTACH;FMTTYPE=image/jpeg:https://sviluppo.mostradoltremare.it/wp-content/uploads/2024/10/24042_image_732-nos-1.jpg
ORGANIZER;CN="Associazione Nuova Orchestra Scarlatti":MAILTO:info@nuovaorchestrascarlatti_it
END:VEVENT
BEGIN:VEVENT
DTSTART;TZID=UTC:20221220T093000
DTEND;TZID=UTC:20221220T170000
DTSTAMP:20260422T031937
CREATED:20241004T222800Z
LAST-MODIFIED:20241004T222833Z
UID:24108-1671528600-1671555600@sviluppo.mostradoltremare.it
SUMMARY:Concorso Comune di Napoli
DESCRIPTION:Prove scritte Istruttore Comunicazione e/o informazione C = ore 9\,30\nProve scritte Agente di polizia Locale C = ore 14\,30\nIngresso candidati Piazzale Tecchio – uscita candidati Viale Marconi
URL:https://sviluppo.mostradoltremare.it/event/concorso-comune-di-napoli-5/
LOCATION:Padiglione 10\, Piazzale Tecchio\, Napoli\, 80125
CATEGORIES:Concorsi
ATTACH;FMTTYPE=image/jpeg:https://sviluppo.mostradoltremare.it/wp-content/uploads/2024/10/24108_image_pad-10-banchi-1.jpg
ORGANIZER;CN="Formez PA":MAILTO:protocollo@pec_formez_it
END:VEVENT
BEGIN:VEVENT
DTSTART;TZID=UTC:20221222T203000
DTEND;TZID=UTC:20221222T230000
DTSTAMP:20260422T031937
CREATED:20241004T222900Z
LAST-MODIFIED:20241004T222914Z
UID:24115-1671741000-1671750000@sviluppo.mostradoltremare.it
SUMMARY:Spettacolo Rassegna Altri Natali
DESCRIPTION:Natale…Festa dell’Accoglienza. Concerto della Marco Zurzolo Orkestra con la partecipazione del CORO della Scuola di Musica Spazio ZTL diretto da Manuela Renno.\nIngresso Viale Kennedy 54
URL:https://sviluppo.mostradoltremare.it/event/spettacolo-rassegna-altri-natali/
LOCATION:Teatro Mediterraneo e Piazzale antistante\, Viale J.F.Kennedy 54\, Napoli\, 80125
CATEGORIES:Spettacolo
ATTACH;FMTTYPE=image/png:https://sviluppo.mostradoltremare.it/wp-content/uploads/2024/10/24115_image_BANNER-SITO-SOLD-OUT.png
ORGANIZER;CN="EXPLORATORIUM APS":MAILTO:zurzoloteatrolive@gmail_com
END:VEVENT
BEGIN:VEVENT
DTSTART;TZID=UTC:20221227T210000
DTEND;TZID=UTC:20221227T233000
DTSTAMP:20260422T031937
CREATED:20241004T222937Z
LAST-MODIFIED:20241004T222951Z
UID:24120-1672174800-1672183800@sviluppo.mostradoltremare.it
SUMMARY:Concerto Musica Mediterranea Immaginaria e Vio-lenti
DESCRIPTION:con Raiz\, Radicanto e Luca O Zulù Persico.\nIngresso gratuito fino ad esaurimento posti.
URL:https://sviluppo.mostradoltremare.it/event/concerto-musica-mediterranea-immaginaria-e-vio-lenti/
LOCATION:Teatro Mediterraneo e Piazzale antistante\, Viale J.F.Kennedy 54\, Napoli\, 80125
CATEGORIES:Spettacolo
ATTACH;FMTTYPE=image/jpeg:https://sviluppo.mostradoltremare.it/wp-content/uploads/2024/10/24120_image_27-dicembre.jpeg
ORGANIZER;CN="CMN Produzioni srl":MAILTO:cmnproduzioni@gmail_com
END:VEVENT
BEGIN:VEVENT
DTSTART;TZID=UTC:20221231T090000
DTEND;TZID=UTC:20221231T110000
DTSTAMP:20260422T031937
CREATED:20241004T223034Z
LAST-MODIFIED:20241004T223050Z
UID:24124-1672477200-1672484400@sviluppo.mostradoltremare.it
SUMMARY:San Paolo Sport Day - 12^ edizione
DESCRIPTION:Gara podistica di 10 km con partenza dallo stadio Maradona e passaggio nella Mostra d’Oltremare.
URL:https://sviluppo.mostradoltremare.it/event/san-paolo-sport-day-12-edizione/
LOCATION:Aree esterne\, Napoli
CATEGORIES:Sportivo
ATTACH;FMTTYPE=image/jpeg:https://sviluppo.mostradoltremare.it/wp-content/uploads/2024/10/24124_image_31dicembre2022-sanpaolosportday.jpg
ORGANIZER;CN="ASD ENTERPRISE YOUNG":MAILTO:info@sanpaolosportday_eu
END:VEVENT
END:VCALENDAR