BEGIN:VCALENDAR
VERSION:2.0
PRODID:-//Mostra d&#039;Oltremare - ECPv6.7.0//NONSGML v1.0//EN
CALSCALE:GREGORIAN
METHOD:PUBLISH
X-ORIGINAL-URL:https://sviluppo.mostradoltremare.it
X-WR-CALDESC:Eventi per Mostra d&#039;Oltremare
REFRESH-INTERVAL;VALUE=DURATION:PT1H
X-Robots-Tag:noindex
X-PUBLISHED-TTL:PT1H
BEGIN:VTIMEZONE
TZID:UTC
BEGIN:STANDARD
TZOFFSETFROM:+0000
TZOFFSETTO:+0000
TZNAME:UTC
DTSTART:20210101T000000
END:STANDARD
END:VTIMEZONE
BEGIN:VEVENT
DTSTART;TZID=UTC:20211024T110000
DTEND;TZID=UTC:20211024T210000
DTSTAMP:20260422T233629
CREATED:20241008T204001Z
LAST-MODIFIED:20241008T204001Z
UID:24772-1635073200-1635109200@sviluppo.mostradoltremare.it
SUMMARY:PROTEIKA CUP 2021
DESCRIPTION:Manifestazione di Body Building  ad inviti – Gara che permette ai migliori atleti della IFBB ITALIA di qualificarsi per gareggiare al mondiale IFBB 2021. Ingressi Viale Kennedy  e Via Terracina
URL:https://sviluppo.mostradoltremare.it/event/proteika-cup-2021/
LOCATION:Teatro Mediterraneo e Piazzale antistante\, Viale J.F.Kennedy 54\, Napoli\, 80125
CATEGORIES:Sportivo
ATTACH;FMTTYPE=image/jpeg:https://sviluppo.mostradoltremare.it/wp-content/uploads/2024/10/24772_image_PROTEIKA-CUP.jpg
ORGANIZER;CN="ASD%20Happy%20Fitness%20Gym":MAILTO:napolibigpower@libero_it
END:VEVENT
END:VCALENDAR