BEGIN:VCALENDAR
VERSION:2.0
PRODID:-//Mostra d&#039;Oltremare - ECPv6.7.0//NONSGML v1.0//EN
CALSCALE:GREGORIAN
METHOD:PUBLISH
X-ORIGINAL-URL:https://sviluppo.mostradoltremare.it
X-WR-CALDESC:Eventi per Mostra d&#039;Oltremare
REFRESH-INTERVAL;VALUE=DURATION:PT1H
X-Robots-Tag:noindex
X-PUBLISHED-TTL:PT1H
BEGIN:VTIMEZONE
TZID:UTC
BEGIN:STANDARD
TZOFFSETFROM:+0000
TZOFFSETTO:+0000
TZNAME:UTC
DTSTART:20230101T000000
END:STANDARD
END:VTIMEZONE
BEGIN:VEVENT
DTSTART;TZID=UTC:20230721T163000
DTEND;TZID=UTC:20230723T193000
DTSTAMP:20260421T072954
CREATED:20241002T110657Z
LAST-MODIFIED:20241002T110723Z
UID:22342-1689957000-1690140600@sviluppo.mostradoltremare.it
SUMMARY:ULTIMATE BOX LEAGUE 2023
DESCRIPTION:International Fit Competition.\nUltimate Box League 2023 è un vero e proprio Festival del CrossFit®. Tre giorni dedicati al fitness e alla community\, dove oltre 400 atleti da tutta Europa si sfideranno in cinque workout che sanciranno il vincitore. La competizione sarà circondata da un grandissimo Vendors village dove trovare intrattenimento\, attività collaterali per tutti e tantissime novità del settore.\nIngresso Piazzale Tecchio. Orari: venerdì 16\,30-20\,00; sabato e domenica 8\,30-19\,30\nbiglietto per 1 giorno=Euro 6\,00 – biglietto per 3 giorni=Euro 12\,00 – acquisti su www.ultimateboxleague.com
URL:https://sviluppo.mostradoltremare.it/event/ultimate-box-league-2023/
LOCATION:piazzale antistante Teatro Mediterraneo\, area Fontana Esedra\, area 28 fontane e\, solo il 21-7\, Piscina Olimpica\, Piazzale Tecchio\, Napoli
CATEGORIES:Sportivo
ATTACH;FMTTYPE=image/png:https://sviluppo.mostradoltremare.it/wp-content/uploads/2024/10/22342_image_box-league.png
ORGANIZER;CN="ASD Cross Training Italia":MAILTO:info@ultimateboxleague_com
END:VEVENT
END:VCALENDAR