BEGIN:VCALENDAR
VERSION:2.0
PRODID:-//Mostra d&#039;Oltremare - ECPv6.7.0//NONSGML v1.0//EN
CALSCALE:GREGORIAN
METHOD:PUBLISH
X-WR-CALNAME:Mostra d&#039;Oltremare
X-ORIGINAL-URL:https://sviluppo.mostradoltremare.it
X-WR-CALDESC:Eventi per Mostra d&#039;Oltremare
REFRESH-INTERVAL;VALUE=DURATION:PT1H
X-Robots-Tag:noindex
X-PUBLISHED-TTL:PT1H
BEGIN:VTIMEZONE
TZID:UTC
BEGIN:STANDARD
TZOFFSETFROM:+0000
TZOFFSETTO:+0000
TZNAME:UTC
DTSTART:20220101T000000
END:STANDARD
END:VTIMEZONE
BEGIN:VEVENT
DTSTART;TZID=UTC:20220514T100000
DTEND;TZID=UTC:20220514T180000
DTSTAMP:20260422T102107
CREATED:20241002T221258Z
LAST-MODIFIED:20241002T221314Z
UID:23089-1652522400-1652551200@sviluppo.mostradoltremare.it
SUMMARY:Giro-E Expo-E 2022 - 4^ edizione
DESCRIPTION:Tappa napoletana dell’evento collaterale al Giro d’Italia\, che coinvolge Catania\, Napoli\, Torino e Verona. Giro-E è una E-Bike Experience di tipo amatoriale riservato ad un numero ristretto di team dotati di biciclette a pedalata assistita. Expo-E è un villaggio allestito nelle quattro città metropolitane toccate dal percorso\, con area partenza Giro-E\, area espositiva\, area test ed area talk con giornalisti\, influencer\, top manager\, VIP\, ambassador\, prestigiosi sponsor.\nIngressi visitatori:  Viale Marconi e Viale Kennedy 54. I visitatori sono tenuti al rispetto del Regolamento del Parco\, incluso il pagamento del biglietto di Euro 1\,00.
URL:https://sviluppo.mostradoltremare.it/event/giro-e-expo-e-2022-4-edizione/
LOCATION:Area 14\, viale delle Palme\, viale degli Eucalipti\, Viale Kennedy 54\, Napoli\, Italia\, 80125
CATEGORIES:Parco,Sportivo
ATTACH;FMTTYPE=image/jpeg:https://sviluppo.mostradoltremare.it/wp-content/uploads/2024/10/23089_image_giro-e-2022.jpg
ORGANIZER;CN="AGENT321 S.R.L.":MAILTO:info@forumagenti_it
END:VEVENT
END:VCALENDAR