BEGIN:VCALENDAR
VERSION:2.0
PRODID:-//Mostra d&#039;Oltremare - ECPv6.7.0//NONSGML v1.0//EN
CALSCALE:GREGORIAN
METHOD:PUBLISH
X-WR-CALNAME:Mostra d&#039;Oltremare
X-ORIGINAL-URL:https://sviluppo.mostradoltremare.it
X-WR-CALDESC:Eventi per Mostra d&#039;Oltremare
REFRESH-INTERVAL;VALUE=DURATION:PT1H
X-Robots-Tag:noindex
X-PUBLISHED-TTL:PT1H
BEGIN:VTIMEZONE
TZID:UTC
BEGIN:STANDARD
TZOFFSETFROM:+0000
TZOFFSETTO:+0000
TZNAME:UTC
DTSTART:20220101T000000
END:STANDARD
END:VTIMEZONE
BEGIN:VEVENT
DTSTART;TZID=UTC:20220313T070000
DTEND;TZID=UTC:20220313T170000
DTSTAMP:20260422T133108
CREATED:20241002T215345Z
LAST-MODIFIED:20241002T215401Z
UID:23014-1647154800-1647190800@sviluppo.mostradoltremare.it
SUMMARY:Randonnée di Napoli
DESCRIPTION:con partenza e rientro presso l’area antistante sede Napoli Pedala interno Mostra.\nIngresso Viale Marconi.\nIscrizioni Online aperte fino al 10 marzo 2022
URL:https://sviluppo.mostradoltremare.it/event/randonnee-di-napoli/
CATEGORIES:Sportivo
ATTACH;FMTTYPE=image/jpeg:https://sviluppo.mostradoltremare.it/wp-content/uploads/2024/10/23014_image_RANDONNEE-13-MARZO.jpg
ORGANIZER;CN="ASD NAPOLI PEDALA":MAILTO:info@napolibikefestival_it
END:VEVENT
END:VCALENDAR