BEGIN:VCALENDAR
VERSION:2.0
PRODID:-//Mostra d&#039;Oltremare - ECPv6.7.0//NONSGML v1.0//EN
CALSCALE:GREGORIAN
METHOD:PUBLISH
X-WR-CALNAME:Mostra d&#039;Oltremare
X-ORIGINAL-URL:https://sviluppo.mostradoltremare.it
X-WR-CALDESC:Eventi per Mostra d&#039;Oltremare
REFRESH-INTERVAL;VALUE=DURATION:PT1H
X-Robots-Tag:noindex
X-PUBLISHED-TTL:PT1H
BEGIN:VTIMEZONE
TZID:UTC
BEGIN:STANDARD
TZOFFSETFROM:+0000
TZOFFSETTO:+0000
TZNAME:UTC
DTSTART:20210101T000000
END:STANDARD
END:VTIMEZONE
BEGIN:VEVENT
DTSTART;TZID=UTC:20210919T100000
DTEND;TZID=UTC:20210919T190000
DTSTAMP:20260422T230200
CREATED:20241008T203053Z
LAST-MODIFIED:20241008T203053Z
UID:24719-1632045600-1632078000@sviluppo.mostradoltremare.it
SUMMARY:NAPOLI BIKE FESTIVAL - 10^ edizione
DESCRIPTION:Spazi Espositivi\, Bike Academy\, Food Area\, Workshop\, Mostre\, Laboratori ed attività per bambini\, Tour in Bici. Ingresso Viale Marconi
URL:https://sviluppo.mostradoltremare.it/event/napoli-bike-festival-10-edizione/
LOCATION:Giardino dei Cedri\, Via Marconi\, Napoli\, 80125
CATEGORIES:Parco,Sportivo
ATTACH;FMTTYPE=image/png:https://sviluppo.mostradoltremare.it/wp-content/uploads/2024/10/24719_image_Napoli-bike-festival-2021-732x381-1.png
ORGANIZER;CN="ASD NAPOLI PEDALA":MAILTO:info@napolibikefestival_it
END:VEVENT
END:VCALENDAR