BEGIN:VCALENDAR
VERSION:2.0
PRODID:-//Mostra d&#039;Oltremare - ECPv6.7.0//NONSGML v1.0//EN
CALSCALE:GREGORIAN
METHOD:PUBLISH
X-ORIGINAL-URL:https://sviluppo.mostradoltremare.it
X-WR-CALDESC:Eventi per Mostra d&#039;Oltremare
REFRESH-INTERVAL;VALUE=DURATION:PT1H
X-Robots-Tag:noindex
X-PUBLISHED-TTL:PT1H
BEGIN:VTIMEZONE
TZID:UTC
BEGIN:STANDARD
TZOFFSETFROM:+0000
TZOFFSETTO:+0000
TZNAME:UTC
DTSTART:20210101T000000
END:STANDARD
END:VTIMEZONE
BEGIN:VEVENT
DTSTART;TZID=UTC:20211126T100000
DTEND;TZID=UTC:20211128T150000
DTSTAMP:20260424T230023
CREATED:20241002T213217Z
LAST-MODIFIED:20241002T213229Z
UID:22918-1637920800-1638111600@sviluppo.mostradoltremare.it
SUMMARY:PHARMEXPO 2021 - 13^ edizione
DESCRIPTION:L’unica grande Manifestazione B2B del Centro-Sud Italia interamente dedicata ai farmacisti ed agli operatori del settore sanitario – Realizzata in collaborazione con FOFI\, Federfarma\, Facoltà di Farmacia\, Regione Campania e con il Servizio Sanitario Nazionale.\nIngresso Viale Kennedy – Orari: venerdì e sabato dalle 10\,00 alle 18\,30; domenica dalle 9\,30 alle 15\,00\nRegistrazione visitatori obbligatoria: Accredito Visitatori – Pharmexpo\nProgramma di corsi ECM e di convegni disponibile al seguente link:  Layout 1 (pharmexpo.it)
URL:https://sviluppo.mostradoltremare.it/event/pharmexpo-2021-13-edizione/
LOCATION:Padiglioni 5 e 6\, Viale Kennedy 54\, Napoli\, 80125
CATEGORIES:Fiera
ATTACH;FMTTYPE=image/jpeg:https://sviluppo.mostradoltremare.it/wp-content/uploads/2024/10/22918_image_harmexpo-732-x-381.jpg
ORGANIZER;CN="PROGECTA SRL":MAILTO:info@progecta_org
END:VEVENT
END:VCALENDAR