BEGIN:VCALENDAR
VERSION:2.0
PRODID:-//Mostra d&#039;Oltremare - ECPv6.7.0//NONSGML v1.0//EN
CALSCALE:GREGORIAN
METHOD:PUBLISH
X-WR-CALNAME:Mostra d&#039;Oltremare
X-ORIGINAL-URL:https://sviluppo.mostradoltremare.it
X-WR-CALDESC:Eventi per Mostra d&#039;Oltremare
REFRESH-INTERVAL;VALUE=DURATION:PT1H
X-Robots-Tag:noindex
X-PUBLISHED-TTL:PT1H
BEGIN:VTIMEZONE
TZID:UTC
BEGIN:STANDARD
TZOFFSETFROM:+0000
TZOFFSETTO:+0000
TZNAME:UTC
DTSTART:20210101T000000
END:STANDARD
END:VTIMEZONE
BEGIN:VEVENT
DTSTART;TZID=UTC:20211015T090000
DTEND;TZID=UTC:20211016T183000
DTSTAMP:20260425T002032
CREATED:20241008T203630Z
LAST-MODIFIED:20241008T203630Z
UID:24748-1634288400-1634409000@sviluppo.mostradoltremare.it
SUMMARY:DHEXPO 2021
DESCRIPTION:Manifestazione rivolta agli igienisti dentali. Contestualmente si svolge il NIDEM (Napoli International Dental Meeting)\, con due distinti programmi scientifici\, che interessano tutto il mondo odontoiatrico. Partecipazione gratuita previa iscrizione al sito www.nidem-dhexpo2021.com Accesso consentito esclusivamente con Green Pass o con certificato di tampone negativo effettuato non oltre le 48 ore precedenti\, con mascherina e nel rispetto del Protocollo Anti-Covid\, da consultare su Napoli International Dental Meeting | Dental Hygienist Expo | Protocollo AntiCovid-19 (nidem-dhexpo2021.com).
URL:https://sviluppo.mostradoltremare.it/event/dhexpo-2021/
LOCATION:Padiglioni 3 e 4\, Viale Kennedy 54\, Napoli\, 80125
CATEGORIES:Fiera
ATTACH;FMTTYPE=image/png:https://sviluppo.mostradoltremare.it/wp-content/uploads/2024/10/24748_image_nidem-dhexpo.png
ORGANIZER;CN="DH%20SVILUPPO%20SRLS":MAILTO:napolidentalmeeting2021@gmail_com
END:VEVENT
BEGIN:VEVENT
DTSTART;TZID=UTC:20211016T103000
DTEND;TZID=UTC:20211024T223000
DTSTAMP:20260425T002032
CREATED:20241008T203725Z
LAST-MODIFIED:20241008T203725Z
UID:24755-1634380200-1635114600@sviluppo.mostradoltremare.it
SUMMARY:TUTTOSPOSI 2021 - 31^ edizione
DESCRIPTION:La più importante Fiera del Wedding italiana. Area Expo\, sfilate\, seminari. Orari: dal lunedì al venerdì dalle 16\,30 alle 21\,30; sabato e domenica dalle 10\,30 alle 22\,30. Prezzi biglietti: dal lunedì al venerdì Euro 5\,00; sabato e domenica Euro 10\,00. Ingresso Viale Kennedy
URL:https://sviluppo.mostradoltremare.it/event/tuttosposi-2021-31-edizione/
LOCATION:Padiglioni 6 e 5\, Viale J.F.Kennedy 54\, Napoli\, 80125
CATEGORIES:Fiera
ATTACH;FMTTYPE=image/png:https://sviluppo.mostradoltremare.it/wp-content/uploads/2024/10/24755_image_tuttosposi.png
ORGANIZER;CN="VENTIEVENTI SRL":MAILTO:info@tuttosposi_it
END:VEVENT
END:VCALENDAR