BEGIN:VCALENDAR
VERSION:2.0
PRODID:-//Mostra d&#039;Oltremare - ECPv6.7.0//NONSGML v1.0//EN
CALSCALE:GREGORIAN
METHOD:PUBLISH
X-ORIGINAL-URL:https://sviluppo.mostradoltremare.it
X-WR-CALDESC:Eventi per Mostra d&#039;Oltremare
REFRESH-INTERVAL;VALUE=DURATION:PT1H
X-Robots-Tag:noindex
X-PUBLISHED-TTL:PT1H
BEGIN:VTIMEZONE
TZID:UTC
BEGIN:STANDARD
TZOFFSETFROM:+0000
TZOFFSETTO:+0000
TZNAME:UTC
DTSTART:20210101T000000
END:STANDARD
END:VTIMEZONE
BEGIN:VEVENT
DTSTART;TZID=UTC:20211001T090000
DTEND;TZID=UTC:20211004T150000
DTSTAMP:20260425T002129
CREATED:20241008T203313Z
LAST-MODIFIED:20241008T203313Z
UID:24735-1633078800-1633359600@sviluppo.mostradoltremare.it
SUMMARY:VEBO 2021 - 20^ edizione
DESCRIPTION:Vetrina della Bomboniera. Manifestazione internazionale riservata esclusivamente agli operatori di settore. Registrazione visitatori al seguente link: Vebo Fiera 2021 • Bomboniera\, Regalo e Casa – Visitatori Per garantire a visitatori\, espositori e organizzatori la partecipazione in totale sicurezza\, Vebo Fiera rispetterà  regole e protocolli sanitari emanati a livello nazionale. Per accedere alla manifestazione è necessario essere in possesso del Green Pass. Inoltre l’organizzazione di Vebo Fiera metterà a disposizione uno Hub di tamponi rapidi per poter facilitare l’ingresso a coloro che non hanno ancora la certificazione verde valida per l’ingresso in fiera. Orari: venerdì\, sabato e domenica dalle 9\,00 alle 19\,00; lunedì dalle 9\,00 alle 15\,00. Ingresso Viale Kennedy – P.le Tecchio.
URL:https://sviluppo.mostradoltremare.it/event/vebo-2021-20-edizione/
LOCATION:Padiglioni 3\, 3B\, 4\, 5 e 6\, Viale Kennedy 54\, Napoli\, 80125
CATEGORIES:Fiera
ATTACH;FMTTYPE=image/jpeg:https://sviluppo.mostradoltremare.it/wp-content/uploads/2024/10/24735_image_vebo-2021-20^-edizione.jpg
ORGANIZER;CN="VEBOFIERA SRL":MAILTO:info@vebofiera_com
END:VEVENT
END:VCALENDAR