BEGIN:VCALENDAR
VERSION:2.0
PRODID:-//Mostra d&#039;Oltremare - ECPv6.7.0//NONSGML v1.0//EN
CALSCALE:GREGORIAN
METHOD:PUBLISH
X-ORIGINAL-URL:https://sviluppo.mostradoltremare.it
X-WR-CALDESC:Eventi per Mostra d&#039;Oltremare
REFRESH-INTERVAL;VALUE=DURATION:PT1H
X-Robots-Tag:noindex
X-PUBLISHED-TTL:PT1H
BEGIN:VTIMEZONE
TZID:UTC
BEGIN:STANDARD
TZOFFSETFROM:+0000
TZOFFSETTO:+0000
TZNAME:UTC
DTSTART:20240101T000000
END:STANDARD
END:VTIMEZONE
BEGIN:VEVENT
DTSTART;TZID=UTC:20240601T093000
DTEND;TZID=UTC:20240603T170000
DTSTAMP:20260422T002335
CREATED:20241003T161908Z
LAST-MODIFIED:20241003T161942Z
UID:23514-1717234200-1717434000@sviluppo.mostradoltremare.it
SUMMARY:MED ITALY 2024 - 2^ edizione
DESCRIPTION:Evening Dress Makers Exhibition. Abiti ed accessori moda. Un appuntamento con l’eleganza che mira alla Valorizzazione e alla Promozione del Made in Italy .\nPer partecipare come visitatore\, iscriversi al seguente link: Med Italy 2024 – idloom.events \nOrario apertura: \nSabato 1 e Domenica 2 Giugno 2024\nore 9.30 alle ore 18.30 \nLunedì 3 Giugno 2024\nore 9.30 alle ore 17.00
URL:https://sviluppo.mostradoltremare.it/event/med-italy-2024-2-edizione/
LOCATION:Padiglioni 5 e 6\, Viale Kennedy 54\, Napoli\, 80125
CATEGORIES:Fiera
ATTACH;FMTTYPE=image/jpeg:https://sviluppo.mostradoltremare.it/wp-content/uploads/2024/10/20710_image_med-italy.jpg
END:VEVENT
BEGIN:VEVENT
DTSTART;TZID=UTC:20240616T100000
DTEND;TZID=UTC:20240616T235900
DTSTAMP:20260422T002335
CREATED:20241003T202227Z
LAST-MODIFIED:20241003T202244Z
UID:23644-1718532000-1718582340@sviluppo.mostradoltremare.it
SUMMARY:SOUTH MARKET VILLAGE
DESCRIPTION:Dalle 10\,00 alle 21\,00 Market – Dalle 21\,00 alle 24\,00 Music after Market.\nArea mercato\, area bimbi\, area giochi\, area basket\, area live performance e DJ Set.\nIngresso Via Marconi
URL:https://sviluppo.mostradoltremare.it/event/south-market-village/
LOCATION:Giardino dei Cedri\, Via Marconi\, Napoli\, 80125
CATEGORIES:Fiera
ATTACH;FMTTYPE=image/jpeg:https://sviluppo.mostradoltremare.it/wp-content/uploads/2024/10/23644_image_rettangolare-South-Market-Village.jpeg
END:VEVENT
END:VCALENDAR