BEGIN:VCALENDAR
VERSION:2.0
PRODID:-//Mostra d&#039;Oltremare - ECPv6.7.0//NONSGML v1.0//EN
CALSCALE:GREGORIAN
METHOD:PUBLISH
X-ORIGINAL-URL:https://sviluppo.mostradoltremare.it
X-WR-CALDESC:Eventi per Mostra d&#039;Oltremare
REFRESH-INTERVAL;VALUE=DURATION:PT1H
X-Robots-Tag:noindex
X-PUBLISHED-TTL:PT1H
BEGIN:VTIMEZONE
TZID:UTC
BEGIN:STANDARD
TZOFFSETFROM:+0000
TZOFFSETTO:+0000
TZNAME:UTC
DTSTART:20240101T000000
END:STANDARD
END:VTIMEZONE
BEGIN:VEVENT
DTSTART;TZID=UTC:20240210T103000
DTEND;TZID=UTC:20240218T203000
DTSTAMP:20260422T113305
CREATED:20241002T183822Z
LAST-MODIFIED:20241002T183912Z
UID:22643-1707561000-1708288200@sviluppo.mostradoltremare.it
SUMMARY:NAUTICSUD 2024 - 50^ edizione
DESCRIPTION:Salone internazionale della nautica da diporto. Imbarcazioni\, gommoni\, gozzi\, motori\, accessori\, servizi.\nConvegni Stati Generali della Nautica da Diporto nei giorni 10\, 12\, 13\, 14 e 16 febbraio 2024 presso sala E del padiglione 10. Convegno della F.I.V. “E’ vela in Campania” il 15 febbraio 2024 ore 17\,00 presso la Sala Italia del Teatro Mediterraneo.\nOrari di apertura: dal lunedì al giovedì 12\,30-19\,00 – venerdì\, sabato e domenica 10\,30-20\,30.\nIngressi Piazzale Tecchio e Viale Kennedy.
URL:https://sviluppo.mostradoltremare.it/event/nauticsud-2024-50-edizione/
LOCATION:Padiglioni 1-2-3-3B-4-5-6-10-aree esterne\, Viale Kennedy 54\, Napoli
CATEGORIES:Fiera
ATTACH;FMTTYPE=image/png:https://sviluppo.mostradoltremare.it/wp-content/uploads/2024/10/22643_image_nauticsud-logo.png
END:VEVENT
END:VCALENDAR