BEGIN:VCALENDAR
VERSION:2.0
PRODID:-//Mostra d&#039;Oltremare - ECPv6.7.0//NONSGML v1.0//EN
CALSCALE:GREGORIAN
METHOD:PUBLISH
X-ORIGINAL-URL:https://sviluppo.mostradoltremare.it
X-WR-CALDESC:Eventi per Mostra d&#039;Oltremare
REFRESH-INTERVAL;VALUE=DURATION:PT1H
X-Robots-Tag:noindex
X-PUBLISHED-TTL:PT1H
BEGIN:VTIMEZONE
TZID:UTC
BEGIN:STANDARD
TZOFFSETFROM:+0000
TZOFFSETTO:+0000
TZNAME:UTC
DTSTART:20210101T000000
END:STANDARD
END:VTIMEZONE
BEGIN:VEVENT
DTSTART;TZID=UTC:20211106T100000
DTEND;TZID=UTC:20211108T180000
DTSTAMP:20260424T213147
CREATED:20241008T204155Z
LAST-MODIFIED:20241008T204155Z
UID:24787-1636192800-1636394400@sviluppo.mostradoltremare.it
SUMMARY:AESTETICA 2021 - 24^ edizione
DESCRIPTION:Fiera b2b dedicata ai professionisti della bellezza\, del benessere e dell’acconciatura. Area Expo\, ABC Aestetica Barber Contest\, Aestetica Nails Challenge. Orari: sabato 6 novembre e domenica 7 novembre 2021 dalle 10\,00 alle 20\,00 – lunedì 8 novembre 2021 dalle 10\,00 alle 18\,00 Ingressi Piazzale Tecchio e Viale Kennedy. Prezzi: – Biglietto giornaliero = Euro 10\,00 –  Abbonamento per 3 giorni da acquistare online = Euro 25\,00 + 1\,00
URL:https://sviluppo.mostradoltremare.it/event/aestetica-2021-24-edizione/
LOCATION:Padiglioni 3\, 3B\, 4 e 5\, Viale Kennedy 54\, Napoli\, 80125
CATEGORIES:Fiera
ATTACH;FMTTYPE=image/jpeg:https://sviluppo.mostradoltremare.it/wp-content/uploads/2024/10/24787_image_Aestetica-2021-1.jpg
ORGANIZER;CN="Funtastic srls":MAILTO:info@aestetica_it
END:VEVENT
BEGIN:VEVENT
DTSTART;TZID=UTC:20211112T100000
DTEND;TZID=UTC:20211114T200000
DTSTAMP:20260424T213147
CREATED:20241008T204402Z
LAST-MODIFIED:20241008T204402Z
UID:24798-1636711200-1636920000@sviluppo.mostradoltremare.it
SUMMARY:CREATTIVA NAPOLI 2021 - 10^ edizione
DESCRIPTION:Fiera Nazionale delle Arti Manuali con area espositiva\, corsi\, dimostrazioni ed attività che coinvolgono direttamente i visitatori\, area ricamo e Christmas Corner. Ingressi: Viale Kennedy e Piazzale Tecchio. I visitatori dai 12 anni in su hanno l’obbligo di presentare al personale di accoglienza la Certificazione verde (detta anche Green pass)\, in formato digitale o cartaceo.È possibile entrare anche mostrando l’esito negativo del tampone Covid-19\, eseguito entro le 48 ore precedenti.Rimane in vigore l’obbligo dell’uso della mascherina e il rispetto del distanziamento sociale. Numero verde per informazioni ed assistenza acquisto biglietti: 800599444 – Per Info\, Prezzi ed Acquisto Online: Date-Orari-Costi – Napoli Creattiva (fieracreattiva.it)
URL:https://sviluppo.mostradoltremare.it/event/creattiva-napoli-2021-10-edizione/
LOCATION:Padiglioni 5 e 6\, Viale Kennedy 54\, Napoli\, 80125
CATEGORIES:Fiera
ATTACH;FMTTYPE=image/png:https://sviluppo.mostradoltremare.it/wp-content/uploads/2024/10/24798_image_creattiva_logo-1.png
ORGANIZER;CN="PROMOBERG SRL":MAILTO:creattiva@promoberg_it
END:VEVENT
BEGIN:VEVENT
DTSTART;TZID=UTC:20211120T100000
DTEND;TZID=UTC:20211121T200000
DTSTAMP:20260424T213147
CREATED:20241008T204529Z
LAST-MODIFIED:20241008T204529Z
UID:24805-1637402400-1637524800@sviluppo.mostradoltremare.it
SUMMARY:FIERA DEL BARATTO E DELL'USATO 2021 - 48^ edizione
DESCRIPTION:La cultura del riciclo. Piccolo antiquariato\, modernariato\, artigianato manufatto\, collezionismo e di tutto di più. Ingressi Viale Kennedy\, Via Terracina e sarà aperto un cancello per ingresso pedonale su Piazzale Tecchio\, a lato del Centro Vaccinale. Biglietteria presso il Cubo d’Oro. Prezzo biglietto Euro 5\,00 – Ingresso gratuito per gli under 12 e per gli over 70. Nel Giardino adiacente alla biglietteria sarà allestito un gazebo per l’effettuazione di tamponi ai visitatori sprovvisti di Green Pass\, con esito immediato\, al costo di € 10\,00\, dalle ore 10\,00 alle ore 20\,00 di sabato e domenica. INFO & CONTATTI:☎️ 081-18373600Servizio WhatsApp: 392-3729728? info@bidonville.org? www.fieradelbarattoedellusato.it? Indirizzo Bidonville 2.0 sas = Via Dante Alighieri\, 22 – 80078 Pozzuoli (NA)
URL:https://sviluppo.mostradoltremare.it/event/fiera-del-baratto-e-dellusato-2021-48-edizione/
LOCATION:Padiglioni 4\, 5 e 6\, Viale Kennedy 54
CATEGORIES:Fiera
ATTACH;FMTTYPE=image/jpeg:https://sviluppo.mostradoltremare.it/wp-content/uploads/2024/10/24805_image_baratto-2021.jpg
ORGANIZER;CN="Bidonville 2.0 sas di Consiglia Auletta":MAILTO:bidon@bidonville_org
END:VEVENT
BEGIN:VEVENT
DTSTART;TZID=UTC:20211121T100000
DTEND;TZID=UTC:20211123T183000
DTSTAMP:20260424T213147
CREATED:20241002T212955Z
LAST-MODIFIED:20241002T213052Z
UID:22909-1637488800-1637692200@sviluppo.mostradoltremare.it
SUMMARY:GUSTUS 2021 - 7^ edizione
DESCRIPTION:Area Espositiva ed un ricco programma di Show Cooking\, Formazione\, Conferenze\, Tavole Rotonde: programma-2021.pdf (gustusnapoli.com) .\nIngressi viale Kennedy e via Terracina. Sarà inoltre aperto un cancello su Piazzale Tecchio\, accanto all’ingresso per il Centro Vaccinale.\nLa manifestazione è riservata ai professionisti ed agli operatori di settore muniti di Green Pass. Registrazione obbligatoria al seguente link:  Accredito Visitatori – Gustus (gustusnapoli.com)
URL:https://sviluppo.mostradoltremare.it/event/gustus-2021-7-edizione/
LOCATION:Padiglioni 3 e 3B\, Viale Kennedy 54\, Napoli\, Italia\, 80125
CATEGORIES:Fiera
ATTACH;FMTTYPE=image/png:https://sviluppo.mostradoltremare.it/wp-content/uploads/2024/10/22909_image_gustus-2021.png
ORGANIZER;CN="PROGECTA SRL":MAILTO:info@progecta_org
END:VEVENT
BEGIN:VEVENT
DTSTART;TZID=UTC:20211126T100000
DTEND;TZID=UTC:20211128T150000
DTSTAMP:20260424T213147
CREATED:20241002T213217Z
LAST-MODIFIED:20241002T213229Z
UID:22918-1637920800-1638111600@sviluppo.mostradoltremare.it
SUMMARY:PHARMEXPO 2021 - 13^ edizione
DESCRIPTION:L’unica grande Manifestazione B2B del Centro-Sud Italia interamente dedicata ai farmacisti ed agli operatori del settore sanitario – Realizzata in collaborazione con FOFI\, Federfarma\, Facoltà di Farmacia\, Regione Campania e con il Servizio Sanitario Nazionale.\nIngresso Viale Kennedy – Orari: venerdì e sabato dalle 10\,00 alle 18\,30; domenica dalle 9\,30 alle 15\,00\nRegistrazione visitatori obbligatoria: Accredito Visitatori – Pharmexpo\nProgramma di corsi ECM e di convegni disponibile al seguente link:  Layout 1 (pharmexpo.it)
URL:https://sviluppo.mostradoltremare.it/event/pharmexpo-2021-13-edizione/
LOCATION:Padiglioni 5 e 6\, Viale Kennedy 54\, Napoli\, 80125
CATEGORIES:Fiera
ATTACH;FMTTYPE=image/jpeg:https://sviluppo.mostradoltremare.it/wp-content/uploads/2024/10/22918_image_harmexpo-732-x-381.jpg
ORGANIZER;CN="PROGECTA SRL":MAILTO:info@progecta_org
END:VEVENT
END:VCALENDAR