BEGIN:VCALENDAR
VERSION:2.0
PRODID:-//Mostra d&#039;Oltremare - ECPv6.7.0//NONSGML v1.0//EN
CALSCALE:GREGORIAN
METHOD:PUBLISH
X-ORIGINAL-URL:https://sviluppo.mostradoltremare.it
X-WR-CALDESC:Eventi per Mostra d&#039;Oltremare
REFRESH-INTERVAL;VALUE=DURATION:PT1H
X-Robots-Tag:noindex
X-PUBLISHED-TTL:PT1H
BEGIN:VTIMEZONE
TZID:UTC
BEGIN:STANDARD
TZOFFSETFROM:+0000
TZOFFSETTO:+0000
TZNAME:UTC
DTSTART:20230101T000000
END:STANDARD
END:VTIMEZONE
BEGIN:VEVENT
DTSTART;TZID=UTC:20230909T203000
DTEND;TZID=UTC:20230910T235900
DTSTAMP:20260421T211733
CREATED:20241002T111136Z
LAST-MODIFIED:20241002T111207Z
UID:22370-1694291400-1694390340@sviluppo.mostradoltremare.it
SUMMARY:Miss Trans Europa 2023 - 11^edizione
DESCRIPTION:Ingresso Viale Kennedy.\nPer info: 3662952588 – 3347085994 – 3804962724
URL:https://sviluppo.mostradoltremare.it/event/miss-trans-europa-2023-11edizione/
LOCATION:Laghetto Fasilides\, Viale Kennedy\, Napoli\, 80125
CATEGORIES:Spettacolo
ATTACH;FMTTYPE=image/jpeg:https://sviluppo.mostradoltremare.it/wp-content/uploads/2024/10/22370_image_miss-trans-europa-2023.jpg
ORGANIZER;CN="Idee in fiera s.r.l.":MAILTO:staff@festivaldelloriente_net
END:VEVENT
END:VCALENDAR