BEGIN:VCALENDAR
VERSION:2.0
PRODID:-//Mostra d&#039;Oltremare - ECPv6.7.0//NONSGML v1.0//EN
CALSCALE:GREGORIAN
METHOD:PUBLISH
X-WR-CALNAME:Mostra d&#039;Oltremare
X-ORIGINAL-URL:https://sviluppo.mostradoltremare.it
X-WR-CALDESC:Eventi per Mostra d&#039;Oltremare
REFRESH-INTERVAL;VALUE=DURATION:PT1H
X-Robots-Tag:noindex
X-PUBLISHED-TTL:PT1H
BEGIN:VTIMEZONE
TZID:UTC
BEGIN:STANDARD
TZOFFSETFROM:+0000
TZOFFSETTO:+0000
TZNAME:UTC
DTSTART:20210101T000000
END:STANDARD
END:VTIMEZONE
BEGIN:VEVENT
DTSTART;TZID=UTC:20210904T113000
DTEND;TZID=UTC:20211031T123000
DTSTAMP:20260425T164628
CREATED:20241008T202952Z
LAST-MODIFIED:20241008T202952Z
UID:24710-1630755000-1635683400@sviluppo.mostradoltremare.it
SUMMARY:Teatro dei Piccoli Open-Air
DESCRIPTION:Tutti gli spettacoli sono adatti a bambine/i dai 3 anni in su e sono preceduti da un laboratorio\, compreso nel costo del biglietto.Giorni di effettuazione: sabato e domenica.Apertura biglietteria: 90 minuti prima dell’orario di inizio spettacoloInizio laboratorio: 60 minuti prima dello spettacoloGli spettatori maggiori di 12 anni dovranno esibire il Green Pass come da normativa vigente. \nPRENOTAZIONE OBBLIGATORIA tel. 327 07 95 871  – social o mail – acquisto online in prevendita
URL:https://sviluppo.mostradoltremare.it/event/teatro-dei-piccoli-open-air/
LOCATION:Pineta del Teatro dei Piccoli\, Via A. Usodimare\, Napoli\, 80125
CATEGORIES:Spettacolo
ATTACH;FMTTYPE=image/png:https://sviluppo.mostradoltremare.it/wp-content/uploads/2024/10/24710_image_openair-autunno-732x381-1.png
ORGANIZER;CN="Spazio%20Danza%20di%20Rosa%20Varriale":MAILTO:info@spaziodanza_org
END:VEVENT
END:VCALENDAR