BEGIN:VCALENDAR
VERSION:2.0
PRODID:-//Mostra d&#039;Oltremare - ECPv6.7.0//NONSGML v1.0//EN
CALSCALE:GREGORIAN
METHOD:PUBLISH
X-ORIGINAL-URL:https://sviluppo.mostradoltremare.it
X-WR-CALDESC:Eventi per Mostra d&#039;Oltremare
REFRESH-INTERVAL;VALUE=DURATION:PT1H
X-Robots-Tag:noindex
X-PUBLISHED-TTL:PT1H
BEGIN:VTIMEZONE
TZID:UTC
BEGIN:STANDARD
TZOFFSETFROM:+0000
TZOFFSETTO:+0000
TZNAME:UTC
DTSTART:20210101T000000
END:STANDARD
END:VTIMEZONE
BEGIN:VEVENT
DTSTART;TZID=UTC:20211120T110000
DTEND;TZID=UTC:20220410T140000
DTSTAMP:20260425T121958
CREATED:20241008T204628Z
LAST-MODIFIED:20241008T204628Z
UID:24810-1637406000-1649599200@sviluppo.mostradoltremare.it
SUMMARY:Il Teatro per Bambini e Ragazzi 2021-2022
DESCRIPTION:E’ grande essere piccoli !!! Spettacoli\, concerti e laboratori per bambini e ragazzi dai 3 anni in su. Per le date e gli orari di spettacolo si prega rivolgersi al 3270795871. Programma disponibile al seguente link teatro dei piccoli – é grande essere piccoli La rassegna è ideata e realizzata da Le Nuvole/Casa del Contemporaneo\, I Teatrini e Progetto Sonora\, d’intesa con il Comune di Napoli e la Mostra d’Oltremare. Tutti gli spettacoli sono adatti a bambine/i dai 3 anni in su – apertura biglietteria: > 60 minuti prima dell’orario di inizio spettacoloBiglietto d’ingresso € 8\,00 o promozione card Liberi TuttiPrenotazione obbligatoria a info@teatrodeipiccoli.it  –  3270795871 oppure  08118903126 – social o mail – acquisto online in prevenditaGli spettatori maggiori di 12 anni dovranno esibire il Green Pass come da normativa vigente.Ingressi Via Usodimare e Via Terracina 197
URL:https://sviluppo.mostradoltremare.it/event/il-teatro-per-bambini-e-ragazzi-2021-2022/
LOCATION:Teatro dei Piccoli\, Via Antoniotto Usodimare\, Napoli\, 80125
CATEGORIES:Spettacolo
ATTACH;FMTTYPE=image/png:https://sviluppo.mostradoltremare.it/wp-content/uploads/2024/10/24810_image_orizzontale-teatrodiepiccoli-2021-2022.png
ORGANIZER;CN="Citt%C3%A0%20del%20Gusto%20Napoli":MAILTO:eventi_na@cittadelgusto_it
END:VEVENT
BEGIN:VEVENT
DTSTART;TZID=UTC:20220104T204500
DTEND;TZID=UTC:20220104T233000
DTSTAMP:20260425T121958
CREATED:20241002T214619Z
LAST-MODIFIED:20241002T214637Z
UID:22983-1641329100-1641339000@sviluppo.mostradoltremare.it
SUMMARY:Concerto dell'Epifania 2022 - XXVII edizione
DESCRIPTION:Sarà trasmesso su RAIUNO il 6 gennaio 2022 alle 23\,30. Iniziativa col Patrocinio della Presidenza della Giunta Regionale della Campania\, della Città Metropolitana di Napoli e del Comune di Napoli\, ideata e promossa dall’Associazione Oltre il Chiostro onlus\, prodotta per la RAI dalla Melos International\, organizzata dall’Associazione Musica dal Mondo\, con la Direzione Artistica di Francesco Sorrentino.\nPresenta Arianna Ciampoli. Orchestra Partenopea di Santa Chiara\, diretta dal M° Adriano Pennino. Consegna dei Premi Nativity in the World 2022\, in collaborazione con il Centro Permanente di Ricerche e Studi sul Presepe Napoletano\, e del Premio Mario Da Vinci.\nPer informazioni 0815521597.\nIngresso in sala dalle 19\,15 alle 20\,30 per esigenze di registrazione televisiva.
URL:https://sviluppo.mostradoltremare.it/event/concerto-dellepifania-2022-xxvii-edizione/
LOCATION:Teatro Mediterraneo e Piazzale antistante\, Viale J.F.Kennedy 54\, Napoli\, 80125
CATEGORIES:Spettacolo
ATTACH;FMTTYPE=image/jpeg:https://sviluppo.mostradoltremare.it/wp-content/uploads/2024/10/22983_image_concerto-epifania-2022.jpg
ORGANIZER;CN="ASD ENTERPRISE YOUNG":MAILTO:info@sanpaolosportday_eu
END:VEVENT
BEGIN:VEVENT
DTSTART;TZID=UTC:20220409T203000
DTEND;TZID=UTC:20220409T233000
DTSTAMP:20260425T121958
CREATED:20241002T220040Z
LAST-MODIFIED:20241002T220053Z
UID:23052-1649536200-1649547000@sviluppo.mostradoltremare.it
SUMMARY:Miss Europe Continental 2022 - 10^ edizione
DESCRIPTION:Beauty Contest Internazionale.\nConduce Veronica Maya. Servizi esterni di Antonella Salvucci. Diretta TV su NCG TV.\nIngresso pedonale Piazzale Tecchio – Ingressi auto Viale Kennedy e Via Terracina
URL:https://sviluppo.mostradoltremare.it/event/miss-europe-continental-2022-10-edizione/
LOCATION:Teatro Mediterraneo e Piazzale antistante\, Viale J.F.Kennedy 54\, Napoli\, 80125
CATEGORIES:Spettacolo
ATTACH;FMTTYPE=image/jpeg:https://sviluppo.mostradoltremare.it/wp-content/uploads/2024/10/23052_image_mostra-2.jpg
ORGANIZER;CN="Miss Europe Continental Organization LTD":MAILTO:info@misseuropecontinental_eu
END:VEVENT
BEGIN:VEVENT
DTSTART;TZID=UTC:20220430T093000
DTEND;TZID=UTC:20220501T223000
DTSTAMP:20260425T121958
CREATED:20241002T220342Z
LAST-MODIFIED:20241002T220356Z
UID:23065-1651311000-1651444200@sviluppo.mostradoltremare.it
SUMMARY:Premio D.O.C. Danza Oltre Confine - 11^ edizione
DESCRIPTION:Concorso di danza internazionale. Direzione Artistica di Dino Carano.\nClassica\, neoclassico\, contemporaneo\, modern\, hip hop\, danze urbane\, composizione coreografica.\nEmail: premiodanzaoltreconfine@gmail.com.\nIngresso Viale Kennedy 54
URL:https://sviluppo.mostradoltremare.it/event/premio-d-o-c-danza-oltre-confine-11-edizione/
LOCATION:Teatro Mediterraneo e Piazzale antistante\, Viale J.F.Kennedy 54\, Napoli\, 80125
CATEGORIES:Spettacolo
ATTACH;FMTTYPE=image/jpeg:https://sviluppo.mostradoltremare.it/wp-content/uploads/2024/10/23065_image_doc-premio-di-danza.jpg
ORGANIZER;CN="ACSI NAZIONALE SETTORE DANZA":MAILTO:premiodanzaoltreconfine@gmail_com
END:VEVENT
BEGIN:VEVENT
DTSTART;TZID=UTC:20220512T170000
DTEND;TZID=UTC:20220522T200000
DTSTAMP:20260425T121958
CREATED:20241002T220647Z
LAST-MODIFIED:20241002T220658Z
UID:23084-1652374800-1653249600@sviluppo.mostradoltremare.it
SUMMARY:BUCHETTINO – IL TEATRO DELL’ASCOLTO_VOL.2
DESCRIPTION:Ascolto multisensoriale per tutti\, dai 9 anni. Un’esperienza unica e totalizzante: l’ascolto in cuffia della versione radiofonica della fiaba “Le petit poucet” (Pollicino) di Charles Perrault\, stesi sotto i pini marittimi nell’ampio giardino del teatro\, immersi nella suggestiva luce del tardo pomeriggio e poi del tramonto e della notte. In caso di maltempo\, l’evento si svolge all’interno del Teatro dei Piccoli. L’esperienza sarà anticipata dal laboratorio “L’invisibile agli occhi”.\nEvento inserito in RadioAzioni\, progetto triennale di Casa del Contemporaneo e PAV.\nPosti limitati con prenotazione obbligatoria ai numeri 08118903126 o 0812397299 – WhatsApp 3333542754 – teatro@lenuvole.com.\nGli spettacoli hanno luogo solo il giovedì\, il venerdì\, il sabato\, la domenica con ingressi alle 17 ed alle 19
URL:https://sviluppo.mostradoltremare.it/event/buchettino-il-teatro-dellascolto_vol-2/
LOCATION:Pineta del Teatro dei Piccoli\, Via A. Usodimare\, Napoli\, 80125
CATEGORIES:Spettacolo
ATTACH;FMTTYPE=image/png:https://sviluppo.mostradoltremare.it/wp-content/uploads/2024/10/23084_image_732x381-buchettino.png
ORGANIZER;CN="AGENT321 S.R.L.":MAILTO:info@forumagenti_it
END:VEVENT
BEGIN:VEVENT
DTSTART;TZID=UTC:20220529T160000
DTEND;TZID=UTC:20220529T223000
DTSTAMP:20260425T121958
CREATED:20241002T221529Z
LAST-MODIFIED:20241002T221651Z
UID:23101-1653840000-1653863400@sviluppo.mostradoltremare.it
SUMMARY:29 ° Saggio di fine Anno Accademico 2022 Scuola Patty Schisa
DESCRIPTION:ore 16\,00-17.00 primo spettacolo (dalla predanza al 2° corso)\nore 20\,00-22.30 secondo spettacolo (dal 3° corso alle diplomande)\ningresso Viale Kennedy 54
URL:https://sviluppo.mostradoltremare.it/event/29-saggio-di-fine-anno-accademico-2022-scuola-patty-schisa/
LOCATION:Teatro Mediterraneo e Piazzale antistante\, Viale J.F.Kennedy 54\, Napoli\, 80125
CATEGORIES:Spettacolo
ATTACH;FMTTYPE=image/jpeg:https://sviluppo.mostradoltremare.it/wp-content/uploads/2024/10/23101_image_patty-schisa-2022.jpg
ORGANIZER;CN="Scuola di danza PATTY SCHISA":MAILTO:pattyschisa@libero_it
END:VEVENT
BEGIN:VEVENT
DTSTART;TZID=UTC:20220531T200000
DTEND;TZID=UTC:20220531T230000
DTSTAMP:20260425T121958
CREATED:20241002T221608Z
LAST-MODIFIED:20241002T221630Z
UID:23105-1654027200-1654038000@sviluppo.mostradoltremare.it
SUMMARY:Saggio di danza Associazione Il Corpo in Movimento
DESCRIPTION:
URL:https://sviluppo.mostradoltremare.it/event/saggio-di-danza-associazione-il-corpo-in-movimento/
LOCATION:Teatro Mediterraneo e Piazzale antistante\, Viale J.F.Kennedy 54\, Napoli\, 80125
CATEGORIES:Spettacolo
ATTACH;FMTTYPE=image/jpeg:https://sviluppo.mostradoltremare.it/wp-content/uploads/2024/10/23105_image_saggio-2022.jpg
ORGANIZER;CN="ASD IL CORPO IN MOVIMENTO":MAILTO:ilcorpoinmovimento@hotmail_com
END:VEVENT
BEGIN:VEVENT
DTSTART;TZID=UTC:20220602T100000
DTEND;TZID=UTC:20220703T210000
DTSTAMP:20260425T121958
CREATED:20241002T221758Z
LAST-MODIFIED:20241002T221926Z
UID:23113-1654164000-1656882000@sviluppo.mostradoltremare.it
SUMMARY:Super Heroes & Co.
DESCRIPTION:Super eroi e Principesse – esposizione con laboratori ludici e didattici.\nInfoline 3393194813 – 0812482200.\nOrari: dal lunedì al venerdì 10\,00-13\,00 / 15\,00-20\,00;  sabato\, domenica e festivi 10\,00-21\,00 orario continuato.\nPrezzi biglietti: adulto = 10 Euro; bambini dai 5 ai 12 anni = 7 Euro; baby fino a 4 anni = gratis; dal lunedì al venerdì Pacchetto x 2 (1 adulto e 1 bambino) = 15 Euro\nPrevendite online attive su: www.ticketone.it e www.go2.it\nIngressi: viale Kennedy 54\, via Marconi e via Terracina
URL:https://sviluppo.mostradoltremare.it/event/super-heroes-co/
LOCATION:PARCO ROBINSON E LAGHETTO FASILIDES\, Viale Kennedy 64\, Napoli\, 80125
CATEGORIES:Parco,Spettacolo
ATTACH;FMTTYPE=image/jpeg:https://sviluppo.mostradoltremare.it/wp-content/uploads/2024/10/23113_image_orizzontale-superheroesco.jpg
ORGANIZER;CN="AGENT321 S.R.L.":MAILTO:info@forumagenti_it
END:VEVENT
BEGIN:VEVENT
DTSTART;TZID=UTC:20220602T200000
DTEND;TZID=UTC:20220602T230000
DTSTAMP:20260425T121958
CREATED:20241002T221854Z
LAST-MODIFIED:20241002T221933Z
UID:23116-1654200000-1654210800@sviluppo.mostradoltremare.it
SUMMARY:Spettacolo di danza contemporanea
DESCRIPTION:Human Bodies Show
URL:https://sviluppo.mostradoltremare.it/event/spettacolo-di-danza-contemporanea/
LOCATION:Teatro Mediterraneo e Piazzale antistante\, Viale J.F.Kennedy 54\, Napoli\, 80125
CATEGORIES:Spettacolo
ATTACH;FMTTYPE=image/jpeg:https://sviluppo.mostradoltremare.it/wp-content/uploads/2024/10/23116_image_human-bodies.jpg
ORGANIZER;CN="Artgarage sas":MAILTO:info@artgarage_it
END:VEVENT
BEGIN:VEVENT
DTSTART;TZID=UTC:20220604T200000
DTEND;TZID=UTC:20220604T233000
DTSTAMP:20260425T121958
CREATED:20241002T221906Z
LAST-MODIFIED:20241002T221944Z
UID:23119-1654372800-1654385400@sviluppo.mostradoltremare.it
SUMMARY:Spettacolo di danza Artgarage
DESCRIPTION:Paquita – La fille mal gardée – Coppelia.\nIngresso Viale Kennedy 54
URL:https://sviluppo.mostradoltremare.it/event/spettacolo-di-danza-artgarage/
LOCATION:Teatro Mediterraneo e Piazzale antistante\, Viale J.F.Kennedy 54\, Napoli\, 80125
CATEGORIES:Spettacolo
ATTACH;FMTTYPE=image/png:https://sviluppo.mostradoltremare.it/wp-content/uploads/2024/10/23119_image_2-we-are-back.png
ORGANIZER;CN="Artgarage sas":MAILTO:info@artgarage_it
END:VEVENT
BEGIN:VEVENT
DTSTART;TZID=UTC:20220606T200000
DTEND;TZID=UTC:20220606T230000
DTSTAMP:20260425T121958
CREATED:20241002T222019Z
LAST-MODIFIED:20241002T222314Z
UID:23125-1654545600-1654556400@sviluppo.mostradoltremare.it
SUMMARY:Saggio di Danza Accademia Normanna
DESCRIPTION:
URL:https://sviluppo.mostradoltremare.it/event/saggio-di-danza-accademia-normanna/
LOCATION:Teatro Mediterraneo e Piazzale antistante\, Viale J.F.Kennedy 54\, Napoli\, 80125
CATEGORIES:Spettacolo
ATTACH;FMTTYPE=image/jpeg:https://sviluppo.mostradoltremare.it/wp-content/uploads/2024/10/20649_image_accademia-normanna.jpg
ORGANIZER;CN="ASD Formazione Danza Accademia Normanna":MAILTO:accademia_normanna@libero_it
END:VEVENT
BEGIN:VEVENT
DTSTART;TZID=UTC:20220608T190000
DTEND;TZID=UTC:20220608T230000
DTSTAMP:20260425T121958
CREATED:20241002T222143Z
LAST-MODIFIED:20241002T222257Z
UID:23133-1654714800-1654729200@sviluppo.mostradoltremare.it
SUMMARY:Saggio di danza Evoluzione Danza
DESCRIPTION:
URL:https://sviluppo.mostradoltremare.it/event/saggio-di-danza-evoluzione-danza/
LOCATION:Teatro Mediterraneo e Piazzale antistante\, Viale J.F.Kennedy 54\, Napoli\, 80125
CATEGORIES:Spettacolo
ATTACH;FMTTYPE=image/jpeg:https://sviluppo.mostradoltremare.it/wp-content/uploads/2024/10/20660_image_evoluzione-danza.jpg
ORGANIZER;CN="ASD Centro Studi Evoluzione Danza":MAILTO:info@evoluzionedanza_it
END:VEVENT
BEGIN:VEVENT
DTSTART;TZID=UTC:20220610T170000
DTEND;TZID=UTC:20220611T230000
DTSTAMP:20260425T121958
CREATED:20241002T222353Z
LAST-MODIFIED:20241002T222611Z
UID:23146-1654880400-1654988400@sviluppo.mostradoltremare.it
SUMMARY:Saggi di danza Scuola Rossella Rossi
DESCRIPTION:1° spettacolo (bimbi) ore 17\,00; 2° spettacolo ore 20\,00 \nIngresso Viale Kennedy 54
URL:https://sviluppo.mostradoltremare.it/event/saggi-di-danza-scuola-rossella-rossi/
LOCATION:Teatro Mediterraneo e Piazzale antistante\, Viale J.F.Kennedy 54\, Napoli\, 80125
CATEGORIES:Spettacolo
ORGANIZER;CN="Rossella Rossi Ballet Teatro Scuola":MAILTO:info@balletteatroscuola_com
END:VEVENT
BEGIN:VEVENT
DTSTART;TZID=UTC:20220612T190000
DTEND;TZID=UTC:20220612T230000
DTSTAMP:20260425T121958
CREATED:20241002T222424Z
LAST-MODIFIED:20241002T222605Z
UID:23148-1655060400-1655074800@sviluppo.mostradoltremare.it
SUMMARY:Spettacolo di fine anno dell'ASD Centro Studi Danza DanceArt Project
DESCRIPTION:
URL:https://sviluppo.mostradoltremare.it/event/spettacolo-di-fine-anno-dellasd-centro-studi-danza-danceart-project/
LOCATION:Teatro Mediterraneo e Piazzale antistante\, Viale J.F.Kennedy 54\, Napoli\, 80125
CATEGORIES:Spettacolo
ATTACH;FMTTYPE=image/jpeg:https://sviluppo.mostradoltremare.it/wp-content/uploads/2024/10/23148_image_12-giugno-2022-DAP.jpg
ORGANIZER;CN="ASD Centro Studi Danza Dance Art Project":MAILTO:danceartprojectasd@gmail_com
END:VEVENT
BEGIN:VEVENT
DTSTART;TZID=UTC:20220615T203000
DTEND;TZID=UTC:20220615T230000
DTSTAMP:20260425T121958
CREATED:20241002T222520Z
LAST-MODIFIED:20241002T222550Z
UID:23155-1655325000-1655334000@sviluppo.mostradoltremare.it
SUMMARY:Saggio della ASD Progetto Danza
DESCRIPTION:
URL:https://sviluppo.mostradoltremare.it/event/saggio-della-asd-progetto-danza/
LOCATION:Teatro Mediterraneo e Piazzale antistante\, Viale J.F.Kennedy 54\, Napoli\, 80125
CATEGORIES:Spettacolo
ATTACH;FMTTYPE=image/jpeg:https://sviluppo.mostradoltremare.it/wp-content/uploads/2024/10/23155_image_asd-progetto-danza.jpg
ORGANIZER;CN="ASD Progetto Danza":MAILTO:progetto_danza95@libero_it
END:VEVENT
BEGIN:VEVENT
DTSTART;TZID=UTC:20220616T190000
DTEND;TZID=UTC:20220616T233000
DTSTAMP:20260425T121958
CREATED:20241002T222644Z
LAST-MODIFIED:20241002T222903Z
UID:23163-1655406000-1655422200@sviluppo.mostradoltremare.it
SUMMARY:Saggio di danza ASD Dance to Win
DESCRIPTION:
URL:https://sviluppo.mostradoltremare.it/event/saggio-di-danza-asd-dance-to-win/
LOCATION:Teatro Mediterraneo e Piazzale antistante\, Viale J.F.Kennedy 54\, Napoli\, 80125
CATEGORIES:Spettacolo
ATTACH;FMTTYPE=image/jpeg:https://sviluppo.mostradoltremare.it/wp-content/uploads/2024/10/23163_image_3-dance-to-win-.jpg
ORGANIZER;CN="ASD DANCE TO WIN":MAILTO:dancetowin@libero_it
END:VEVENT
BEGIN:VEVENT
DTSTART;TZID=UTC:20220619T180000
DTEND;TZID=UTC:20220619T230000
DTSTAMP:20260425T121958
CREATED:20241002T222713Z
LAST-MODIFIED:20241002T222856Z
UID:23166-1655661600-1655679600@sviluppo.mostradoltremare.it
SUMMARY:Spettacolo di fine anno Centro Danza Sheherazade
DESCRIPTION:ingresso ad inviti
URL:https://sviluppo.mostradoltremare.it/event/spettacolo-di-fine-anno-centro-danza-sheherazade/
LOCATION:Teatro Mediterraneo e Piazzale antistante\, Viale J.F.Kennedy 54\, Napoli\, 80125
CATEGORIES:Spettacolo
ATTACH;FMTTYPE=image/jpeg:https://sviluppo.mostradoltremare.it/wp-content/uploads/2024/10/23166_image_sheherazade.jpg
ORGANIZER;CN="S.S.D. SHEHERAZADE SRL":MAILTO:info@centrodanzasheherazade_it
END:VEVENT
BEGIN:VEVENT
DTSTART;TZID=UTC:20220621T190000
DTEND;TZID=UTC:20220621T230000
DTSTAMP:20260425T121958
CREATED:20241002T222821Z
LAST-MODIFIED:20241002T222844Z
UID:23173-1655838000-1655852400@sviluppo.mostradoltremare.it
SUMMARY:Saggio Centro Studi Visione Danza
DESCRIPTION:
URL:https://sviluppo.mostradoltremare.it/event/saggio-centro-studi-visione-danza/
LOCATION:Teatro Mediterraneo e Piazzale antistante\, Viale J.F.Kennedy 54\, Napoli\, 80125
CATEGORIES:Spettacolo
ATTACH;FMTTYPE=image/jpeg:https://sviluppo.mostradoltremare.it/wp-content/uploads/2024/10/20762_image_visione-danza.jpg
ORGANIZER;CN="Action Events srl":MAILTO:info@blue-xperience_it
END:VEVENT
BEGIN:VEVENT
DTSTART;TZID=UTC:20220623T203000
DTEND;TZID=UTC:20220623T223000
DTSTAMP:20260425T121958
CREATED:20241002T223014Z
LAST-MODIFIED:20241002T223415Z
UID:23179-1656016200-1656023400@sviluppo.mostradoltremare.it
SUMMARY:Saggio Accademia Balletto Musica e Teatro
DESCRIPTION:
URL:https://sviluppo.mostradoltremare.it/event/saggio-accademia-balletto-musica-e-teatro/
LOCATION:Teatro Mediterraneo e Piazzale antistante\, Viale J.F.Kennedy 54\, Napoli\, 80125
CATEGORIES:Spettacolo
ATTACH;FMTTYPE=image/png:https://sviluppo.mostradoltremare.it/wp-content/uploads/2024/10/23179_image_accademia-balletto-musica-e-teatro.png
ORGANIZER;CN="Accademia%20Balletto%20Musica%20e%20Teatro%20SSD%20s.r.l.":MAILTO:ballettomusicateatro@gmail_com
END:VEVENT
BEGIN:VEVENT
DTSTART;TZID=UTC:20220625T200000
DTEND;TZID=UTC:20220625T230000
DTSTAMP:20260425T121958
CREATED:20241002T223030Z
LAST-MODIFIED:20241002T223407Z
UID:23182-1656187200-1656198000@sviluppo.mostradoltremare.it
SUMMARY:Saggio di Danza SSD Life
DESCRIPTION:
URL:https://sviluppo.mostradoltremare.it/event/saggio-di-danza-ssd-life/
LOCATION:Teatro Mediterraneo e Piazzale antistante\, Viale J.F.Kennedy 54\, Napoli\, 80125
CATEGORIES:Spettacolo
ATTACH;FMTTYPE=image/jpeg:https://sviluppo.mostradoltremare.it/wp-content/uploads/2024/10/20720_image_life.jpg
ORGANIZER;CN="SSD Life srl":MAILTO:life_pianura@gmail_com
END:VEVENT
BEGIN:VEVENT
DTSTART;TZID=UTC:20220627T180000
DTEND;TZID=UTC:20220628T230000
DTSTAMP:20260425T121958
CREATED:20241002T223136Z
LAST-MODIFIED:20241002T223347Z
UID:23187-1656352800-1656457200@sviluppo.mostradoltremare.it
SUMMARY:Spettacoli di danza Balletto di Napoli
DESCRIPTION:Orario spettacoli:\n-il 27 giugno dalle 18\,00 alle 21\,30\n-il 28 giugno dalle 20\,30 alle 23\,00\nIngresso Viale Kennedy 54
URL:https://sviluppo.mostradoltremare.it/event/spettacoli-di-danza-balletto-di-napoli/
LOCATION:Teatro Mediterraneo e Piazzale antistante\, Viale J.F.Kennedy 54\, Napoli\, 80125
CATEGORIES:Spettacolo
ATTACH;FMTTYPE=image/jpeg:https://sviluppo.mostradoltremare.it/wp-content/uploads/2024/10/23187_image_fondazione-lyceum-mara-fusco.jpg
ORGANIZER;CN="Fondazione Lyceum Mara Fusco Balletto di Napoli":MAILTO:info@marafusco_it
END:VEVENT
BEGIN:VEVENT
DTSTART;TZID=UTC:20220630T200000
DTEND;TZID=UTC:20220701T223000
DTSTAMP:20260425T121958
CREATED:20241002T223231Z
LAST-MODIFIED:20241002T223340Z
UID:23192-1656619200-1656714600@sviluppo.mostradoltremare.it
SUMMARY:Saggio di danza Emozioni in punta di piedi
DESCRIPTION:Ingresso Viale Kennedy 54
URL:https://sviluppo.mostradoltremare.it/event/saggio-di-danza-emozioni-in-punta-di-piedi/
LOCATION:Teatro Mediterraneo e Piazzale antistante\, Viale J.F.Kennedy 54\, Napoli\, 80125
CATEGORIES:Spettacolo
ATTACH;FMTTYPE=image/jpeg:https://sviluppo.mostradoltremare.it/wp-content/uploads/2024/10/23192_image_emozioni.jpg
ORGANIZER;CN="ASD Emozioni in punta di piedi":MAILTO:info@emozioniinpuntadipiedi_it
END:VEVENT
BEGIN:VEVENT
DTSTART;TZID=UTC:20220630T210000
DTEND;TZID=UTC:20220630T235900
DTSTAMP:20260425T121958
CREATED:20241002T223300Z
LAST-MODIFIED:20241002T223332Z
UID:23197-1656622800-1656633540@sviluppo.mostradoltremare.it
SUMMARY:Concerto degli Almamegretta
DESCRIPTION:in ambito Noisy Naples Fest 2022.\nPresentazione dell’Album Senghe.
URL:https://sviluppo.mostradoltremare.it/event/concerto-degli-almamegretta/
LOCATION:ARENA FLEGREA\, Via Terracina 197\, Napoli\, 80125
CATEGORIES:Spettacolo
ATTACH;FMTTYPE=image/png:https://sviluppo.mostradoltremare.it/wp-content/uploads/2024/10/23197_image_almamegretta-732x381-1.png
ORGANIZER;CN="Come on Web srl":MAILTO:info@etes_it
END:VEVENT
BEGIN:VEVENT
DTSTART;TZID=UTC:20220704T193000
DTEND;TZID=UTC:20220704T230000
DTSTAMP:20260425T121958
CREATED:20241004T065331Z
LAST-MODIFIED:20241004T065358Z
UID:23766-1656963000-1656975600@sviluppo.mostradoltremare.it
SUMMARY:Saggio Accademia Danza e Spettacolo
DESCRIPTION:
URL:https://sviluppo.mostradoltremare.it/event/saggio-accademia-danza-e-spettacolo-2/
LOCATION:Teatro Mediterraneo e Piazzale antistante\, Viale J.F.Kennedy 54\, Napoli\, 80125
CATEGORIES:Spettacolo
ATTACH;FMTTYPE=image/jpeg:https://sviluppo.mostradoltremare.it/wp-content/uploads/2024/10/20860_image_accademia-danza-e-spettacolo.jpg
ORGANIZER;CN="Associazione Ricreativa Culturale South Market":MAILTO:southmarketnapoli@gmail_com
END:VEVENT
BEGIN:VEVENT
DTSTART;TZID=UTC:20220707T193000
DTEND;TZID=UTC:20220707T233000
DTSTAMP:20260425T121958
CREATED:20241004T065525Z
LAST-MODIFIED:20241004T065538Z
UID:23772-1657222200-1657236600@sviluppo.mostradoltremare.it
SUMMARY:Saggio della Scuola di danza Le Cygne
DESCRIPTION:
URL:https://sviluppo.mostradoltremare.it/event/saggio-della-scuola-di-danza-le-cygne/
LOCATION:Teatro Mediterraneo e Piazzale antistante\, Viale J.F.Kennedy 54\, Napoli\, 80125
CATEGORIES:Spettacolo
ORGANIZER;CN="Scuola di Danza Le Cygne ASD di Cristiana Di Bonito":MAILTO:le_cygne@libero_it
END:VEVENT
BEGIN:VEVENT
DTSTART;TZID=UTC:20220709T193000
DTEND;TZID=UTC:20220709T233000
DTSTAMP:20260425T121958
CREATED:20241004T065615Z
LAST-MODIFIED:20241004T065833Z
UID:23775-1657395000-1657409400@sviluppo.mostradoltremare.it
SUMMARY:Saggio della Scuola Movimento Danza di Nicoletta Barra
DESCRIPTION:
URL:https://sviluppo.mostradoltremare.it/event/saggio-della-scuola-movimento-danza-di-nicoletta-barra/
LOCATION:Teatro Mediterraneo e Piazzale antistante\, Viale J.F.Kennedy 54\, Napoli\, 80125
CATEGORIES:Spettacolo
ATTACH;FMTTYPE=image/jpeg:https://sviluppo.mostradoltremare.it/wp-content/uploads/2024/10/20820_image_movimento-danza-nicoletta-barra.jpg
ORGANIZER;CN="Associazione Ricreativa Culturale South Market":MAILTO:southmarketnapoli@gmail_com
END:VEVENT
BEGIN:VEVENT
DTSTART;TZID=UTC:20220710T190000
DTEND;TZID=UTC:20220710T230000
DTSTAMP:20260425T121958
CREATED:20241004T065809Z
LAST-MODIFIED:20241004T065820Z
UID:23777-1657479600-1657494000@sviluppo.mostradoltremare.it
SUMMARY:Saggio Associazione Fiori di Maggio Balletto Classico Campano
DESCRIPTION:
URL:https://sviluppo.mostradoltremare.it/event/saggio-associazione-fiori-di-maggio-balletto-classico-campano/
LOCATION:Teatro Mediterraneo e Piazzale antistante\, Viale J.F.Kennedy 54\, Napoli\, 80125
CATEGORIES:Spettacolo
ATTACH;FMTTYPE=image/jpeg:https://sviluppo.mostradoltremare.it/wp-content/uploads/2024/10/23777_image_fiori-di-maggio-balletto-classico-campano.jpg
ORGANIZER;CN="Associazione Culturale Artistica Eventi 2000":MAILTO:carla_danza@hotmail_it
END:VEVENT
BEGIN:VEVENT
DTSTART;TZID=UTC:20220713T193000
DTEND;TZID=UTC:20220713T230000
DTSTAMP:20260425T121958
CREATED:20241004T070047Z
LAST-MODIFIED:20241004T070106Z
UID:23791-1657740600-1657753200@sviluppo.mostradoltremare.it
SUMMARY:Saggio dell'Accademia Art Ballet
DESCRIPTION:
URL:https://sviluppo.mostradoltremare.it/event/saggio-dellaccademia-art-ballet/
LOCATION:Teatro Mediterraneo e Piazzale antistante\, Viale J.F.Kennedy 54\, Napoli\, 80125
CATEGORIES:Spettacolo
ATTACH;FMTTYPE=image/jpeg:https://sviluppo.mostradoltremare.it/wp-content/uploads/2024/10/23791_image_accademia-art-ballet.jpg
ORGANIZER;CN="Accademia Art Ballet":MAILTO:accademiaartballet@hotmail_it
END:VEVENT
BEGIN:VEVENT
DTSTART;TZID=UTC:20220715T201500
DTEND;TZID=UTC:20220716T233000
DTSTAMP:20260425T121958
CREATED:20241004T070224Z
LAST-MODIFIED:20241004T070312Z
UID:23800-1657916100-1658014200@sviluppo.mostradoltremare.it
SUMMARY:Spettacoli di danza Seventeen Dance Studio
DESCRIPTION:Ingresso viale Kennedy 54\nOrari: il 15 luglio dalle 20\,15 alle 23\,30 – il 16 luglio dalle 19\,00 alle 23\,30
URL:https://sviluppo.mostradoltremare.it/event/spettacoli-di-danza-seventeen-dance-studio/
LOCATION:Teatro Mediterraneo e Piazzale antistante\, Viale J.F.Kennedy 54\, Napoli\, 80125
CATEGORIES:Spettacolo
ATTACH;FMTTYPE=image/jpeg:https://sviluppo.mostradoltremare.it/wp-content/uploads/2024/10/23800_image_seventeen-dance-studio.jpg
ORGANIZER;CN="Seventeen Dance Studio ASD":MAILTO:seventeendancestudio@hotmail_com
END:VEVENT
BEGIN:VEVENT
DTSTART;TZID=UTC:20221021T200000
DTEND;TZID=UTC:20221021T213000
DTSTAMP:20260425T121958
CREATED:20241004T220057Z
LAST-MODIFIED:20241004T220111Z
UID:23994-1666382400-1666387800@sviluppo.mostradoltremare.it
SUMMARY:Concerto Metamorfosi "da Bach a Carosone"
DESCRIPTION:CONCERTO SOCIALE per la X MUNICIPALITÀ per la Rassegna I CAMPI FLEGREI  – “Sotto il cielo più puro” \, realizzata dalla Nuova Orchestra Scarlatti nell’ambito del progetto AFFABULAZIONE del Comune di Napoli – media partner RAI CAMPANIA.\nIngresso gratuito\nPer informazioni: www.nuovaorchestrascarlatti.it – info@nuovaorchestrascarlatti.it – 0812535984\nIngresso Viale Kennedy 54
URL:https://sviluppo.mostradoltremare.it/event/concerto-metamorfosi-da-bach-a-carosone/
LOCATION:Teatro Mediterraneo e Piazzale antistante\, Viale J.F.Kennedy 54\, Napoli\, 80125
CATEGORIES:Spettacolo
ATTACH;FMTTYPE=image/png:https://sviluppo.mostradoltremare.it/wp-content/uploads/2024/10/23994_image_nuova-orchestra-scarlatti.png
ORGANIZER;CN="Associazione Nuova Orchestra Scarlatti":MAILTO:info@nuovaorchestrascarlatti_it
END:VEVENT
END:VCALENDAR