BEGIN:VCALENDAR
VERSION:2.0
PRODID:-//Mostra d&#039;Oltremare - ECPv6.7.0//NONSGML v1.0//EN
CALSCALE:GREGORIAN
METHOD:PUBLISH
X-WR-CALNAME:Mostra d&#039;Oltremare
X-ORIGINAL-URL:https://sviluppo.mostradoltremare.it
X-WR-CALDESC:Eventi per Mostra d&#039;Oltremare
REFRESH-INTERVAL;VALUE=DURATION:PT1H
X-Robots-Tag:noindex
X-PUBLISHED-TTL:PT1H
BEGIN:VTIMEZONE
TZID:UTC
BEGIN:STANDARD
TZOFFSETFROM:+0000
TZOFFSETTO:+0000
TZNAME:UTC
DTSTART:20210101T000000
END:STANDARD
END:VTIMEZONE
BEGIN:VEVENT
DTSTART;TZID=UTC:20211120T110000
DTEND;TZID=UTC:20220410T140000
DTSTAMP:20260425T150307
CREATED:20241008T204628Z
LAST-MODIFIED:20241008T204628Z
UID:24810-1637406000-1649599200@sviluppo.mostradoltremare.it
SUMMARY:Il Teatro per Bambini e Ragazzi 2021-2022
DESCRIPTION:E’ grande essere piccoli !!! Spettacoli\, concerti e laboratori per bambini e ragazzi dai 3 anni in su. Per le date e gli orari di spettacolo si prega rivolgersi al 3270795871. Programma disponibile al seguente link teatro dei piccoli – é grande essere piccoli La rassegna è ideata e realizzata da Le Nuvole/Casa del Contemporaneo\, I Teatrini e Progetto Sonora\, d’intesa con il Comune di Napoli e la Mostra d’Oltremare. Tutti gli spettacoli sono adatti a bambine/i dai 3 anni in su – apertura biglietteria: > 60 minuti prima dell’orario di inizio spettacoloBiglietto d’ingresso € 8\,00 o promozione card Liberi TuttiPrenotazione obbligatoria a info@teatrodeipiccoli.it  –  3270795871 oppure  08118903126 – social o mail – acquisto online in prevenditaGli spettatori maggiori di 12 anni dovranno esibire il Green Pass come da normativa vigente.Ingressi Via Usodimare e Via Terracina 197
URL:https://sviluppo.mostradoltremare.it/event/il-teatro-per-bambini-e-ragazzi-2021-2022/
LOCATION:Teatro dei Piccoli\, Via Antoniotto Usodimare\, Napoli\, 80125
CATEGORIES:Spettacolo
ATTACH;FMTTYPE=image/png:https://sviluppo.mostradoltremare.it/wp-content/uploads/2024/10/24810_image_orizzontale-teatrodiepiccoli-2021-2022.png
ORGANIZER;CN="Citt%C3%A0%20del%20Gusto%20Napoli":MAILTO:eventi_na@cittadelgusto_it
END:VEVENT
BEGIN:VEVENT
DTSTART;TZID=UTC:20211205T190000
DTEND;TZID=UTC:20211205T213000
DTSTAMP:20260425T150307
CREATED:20241002T213626Z
LAST-MODIFIED:20241002T214433Z
UID:22939-1638730800-1638739800@sviluppo.mostradoltremare.it
SUMMARY:Cent'Anni Senza Caruso
DESCRIPTION:Concerto per una voce senza tempo. Canzoni napoletane e Arie d’Opera di Leoncavallo\, Bizet\, Donizetti\, Puccini\, Mascagni.\nOrchestra dell’Accademia Internazionale Enrico Caruso\, diretta dal Maestro Giuseppe Schirone. Tenori: Francesco Malapena ed Enrique Parra.\nPrezzi biglietti: Settore A Euro 20\,00; settore B centrale Euro 15\,00; settore B laterale Euro 12\,00; settore C Euro 10\,00. Da aggiungere diritti di prevendita. I biglietti sono acquistabili su www.go2.it\nPer info e prenotazioni: 3335964823 – Email: ass.enricocaruso@gmail.com.\nIngresso Viale Kennedy 54
URL:https://sviluppo.mostradoltremare.it/event/centanni-senza-caruso/
LOCATION:Teatro Mediterraneo e Piazzale antistante\, Viale J.F.Kennedy 54\, Napoli\, 80125
CATEGORIES:Spettacolo
ATTACH;FMTTYPE=image/png:https://sviluppo.mostradoltremare.it/wp-content/uploads/2024/10/22939_image_732-caruso.png
ORGANIZER;CN="Accademia Internazionale Enrico Caruso APS":MAILTO:ass_enricocaruso@gmail_com
END:VEVENT
BEGIN:VEVENT
DTSTART;TZID=UTC:20211215T200000
DTEND;TZID=UTC:20211215T235900
DTSTAMP:20260425T150307
CREATED:20241002T213808Z
LAST-MODIFIED:20241002T213823Z
UID:22951-1639598400-1639612740@sviluppo.mostradoltremare.it
SUMMARY:Uniti nel Cuore - 9^ edizione
DESCRIPTION:Evento di beneficenza organizzato dal Gruppo Giovani Imprenditori dell’Unione Industriali di Napoli\, in collaborazione con i Gruppi Giovani delle altre Associazioni imprenditoriali e professionali di Napoli.
URL:https://sviluppo.mostradoltremare.it/event/uniti-nel-cuore-9-edizione/
LOCATION:Sala Superiore del Ristorante della Piscina\, Napoli\, 80125
CATEGORIES:Spettacolo
ATTACH;FMTTYPE=image/jpeg:https://sviluppo.mostradoltremare.it/wp-content/uploads/2024/10/22951_image_uniti-nel-cuore.jpg
ORGANIZER;CN="Ordine delle Professioni Infermieristiche di Napoli":MAILTO:info@opinapoli_it
END:VEVENT
BEGIN:VEVENT
DTSTART;TZID=UTC:20211221T190000
DTEND;TZID=UTC:20211221T223000
DTSTAMP:20260425T150307
CREATED:20241002T214113Z
LAST-MODIFIED:20241002T214131Z
UID:22964-1640113200-1640125800@sviluppo.mostradoltremare.it
SUMMARY:Fiori di Natale
DESCRIPTION:Spettacolo di danza classica. Non è solo un saggio\, ma una festa di Natale in danza.\nIngresso Viale Kennedy 54
URL:https://sviluppo.mostradoltremare.it/event/fiori-di-natale/
LOCATION:Teatro Mediterraneo e Piazzale antistante\, Viale J.F.Kennedy 54\, Napoli\, 80125
CATEGORIES:Spettacolo
ATTACH;FMTTYPE=image/png:https://sviluppo.mostradoltremare.it/wp-content/uploads/2024/10/22964_image_fiori-di-natale-.png
ORGANIZER;CN="Associazione Culturale Artistica Eventi 2000":MAILTO:carla_danza@hotmail_it
END:VEVENT
BEGIN:VEVENT
DTSTART;TZID=UTC:20211222T203000
DTEND;TZID=UTC:20211222T230000
DTSTAMP:20260425T150307
CREATED:20241002T214211Z
LAST-MODIFIED:20241002T214223Z
UID:22968-1640205000-1640214000@sviluppo.mostradoltremare.it
SUMMARY:Saggio ASD Movimento Danza di Nicoletta Barra
DESCRIPTION:
URL:https://sviluppo.mostradoltremare.it/event/saggio-asd-movimento-danza-di-nicoletta-barra/
LOCATION:Teatro Mediterraneo e Piazzale antistante\, Viale J.F.Kennedy 54\, Napoli\, 80125
CATEGORIES:Spettacolo
ATTACH;FMTTYPE=image/jpeg:https://sviluppo.mostradoltremare.it/wp-content/uploads/2024/10/22968_image_movimento-danza-di-nicoletta-barra.jpg
ORGANIZER;CN="Ordine delle Professioni Infermieristiche di Napoli":MAILTO:info@opinapoli_it
END:VEVENT
BEGIN:VEVENT
DTSTART;TZID=UTC:20211223T193000
DTEND;TZID=UTC:20211223T230000
DTSTAMP:20260425T150307
CREATED:20241002T214250Z
LAST-MODIFIED:20241002T214306Z
UID:22972-1640287800-1640300400@sviluppo.mostradoltremare.it
SUMMARY:Spettacolo di Danza
DESCRIPTION:
URL:https://sviluppo.mostradoltremare.it/event/spettacolo-di-danza/
LOCATION:Teatro Mediterraneo e Piazzale antistante\, Viale J.F.Kennedy 54\, Napoli\, 80125
CATEGORIES:Spettacolo
ATTACH;FMTTYPE=image/jpeg:https://sviluppo.mostradoltremare.it/wp-content/uploads/2024/10/22972_image_732-x-381-artgarage.jpg
ORGANIZER;CN="Artgarage sas":MAILTO:info@artgarage_it
END:VEVENT
END:VCALENDAR