BEGIN:VCALENDAR
VERSION:2.0
PRODID:-//Mostra d&#039;Oltremare - ECPv6.7.0//NONSGML v1.0//EN
CALSCALE:GREGORIAN
METHOD:PUBLISH
X-ORIGINAL-URL:https://sviluppo.mostradoltremare.it
X-WR-CALDESC:Eventi per Mostra d&#039;Oltremare
REFRESH-INTERVAL;VALUE=DURATION:PT1H
X-Robots-Tag:noindex
X-PUBLISHED-TTL:PT1H
BEGIN:VTIMEZONE
TZID:UTC
BEGIN:STANDARD
TZOFFSETFROM:+0000
TZOFFSETTO:+0000
TZNAME:UTC
DTSTART:20230101T000000
END:STANDARD
END:VTIMEZONE
BEGIN:VEVENT
DTSTART;TZID=UTC:20230922T140000
DTEND;TZID=UTC:20231102T210000
DTSTAMP:20260421T211741
CREATED:20241002T111500Z
LAST-MODIFIED:20241002T111520Z
UID:22390-1695391200-1698958800@sviluppo.mostradoltremare.it
SUMMARY:Pop Air Balloon Museum
DESCRIPTION:Pop Air\, la mostra itinerante dedicata alla “inflatable art”; un viaggio fuori scala tra forme inaspettate e colore\, con installazioni di artisti internazionali\, attraverso l’arte di scolpire l’aria.\nIngresso Via Terracina 197.\nContatti\nhello@balloonmuseum.world\nwww.balloonmuseum.world\nInfo – Domande frequenti: FAQ | Balloon Museum\nOrari:\n-dal lunedì al giovedì dalle 14\,00 alle 21\,00 con ultimo ingresso ore 20\,00;\n-il venerdì dalle 14\,00 alle 22\,00 con ultimo ingresso ore 21\,00;\n-il sabato dalle 10\,00 alle 22\,00 con ultimo ingresso ore 21\,00;\n-la domenica dalle 10\,00 alle 21\,00 con ultimo ingresso alle 20\,00\nContatto per informazioni: hello@balloonmuseum.world\nContatto per la stampa: press@balloonmuseum.world\nÈ possibile acquistare i biglietti online tramite il seguente link:\nhttps://bit.ly/TicketBalloonMuseumNapoli\nIn alternativa\, è possibile acquistarli direttamente presso la biglietteria\, se disponibili al momento della visita.\nPrezzi:\ndal Lunedì al Giovedì:\nIntero:    € 18\nRidotto:  € 16 (13-26 | Over 65\, accompagnatore disabile)\nRidotto bambini:  € 14 (bambini 4-12 anni)\nFamily Pack: € 50 (2 adulti e due bambini 4-12 anni)\nVenerdì\, Sabato\, Domenica e Festivi:\nIntero:    € 20\nRidotto:  € 18 (13-26 | Over 65\, accompagnatore disabile)\nRidotto bambini:  € 16 (bambini 4-12 anni)\nFamily Pack: € 60 (2 adulti e due bambini 4-12 anni)\nI bambini fino ai 3 anni di età e le persone con disabilità certificata superiore al 70%\, o possessori di 104 in caso di minori\, entrano gratuitamente (presentarsi al botteghino).\nl biglietto non è rimborsabile; se avete acquistato un ticket per una data e non riuscite a venire\, lo stesso potrà essere riutilizzato dal Lunedì al Giovedì (escluso i giorni festivi).
URL:https://sviluppo.mostradoltremare.it/event/pop-air-balloon-museum/
LOCATION:Fossato di Via Terracina\, Via Terracina 197\, Napoli\, 80125
CATEGORIES:Parco,Spettacolo
ATTACH;FMTTYPE=image/png:https://sviluppo.mostradoltremare.it/wp-content/uploads/2024/10/22390_image_balloon.png
ORGANIZER;CN="Lux Holding s.r.l.":MAILTO:info@luxholding_com
END:VEVENT
BEGIN:VEVENT
DTSTART;TZID=UTC:20230929T100000
DTEND;TZID=UTC:20231105T210000
DTSTAMP:20260421T211741
CREATED:20241002T111647Z
LAST-MODIFIED:20241002T111702Z
UID:22400-1695981600-1699218000@sviluppo.mostradoltremare.it
SUMMARY:Giochi di Zucca 2023
DESCRIPTION:Laboratori\, giochi\, animazione\, Pumpkin Patch.\nIngresso Viale Kennedy 64 (di fronte a Gerardi e Fortura)\nORARI: DAL LUNEDì AL VENERDì 10-13 e 15-20; SABATO\, DOMENICA E FESTIVI 10-21.\nPrezzi biglietti: adulto Euro 15\,00 – bambino Euro 12\,00
URL:https://sviluppo.mostradoltremare.it/event/giochi-di-zucca-2023/
LOCATION:PARCO ROBINSON E LAGHETTO FASILIDES\, Viale Kennedy 64\, Napoli\, 80125
CATEGORIES:Parco,Spettacolo
ATTACH;FMTTYPE=image/jpeg:https://sviluppo.mostradoltremare.it/wp-content/uploads/2024/10/22400_image_giochi-di-zucca-grande.jpg
ORGANIZER;CN="Lux Holding s.r.l.":MAILTO:info@luxholding_com
END:VEVENT
BEGIN:VEVENT
DTSTART;TZID=UTC:20240223T150000
DTEND;TZID=UTC:20240225T140000
DTSTAMP:20260421T211741
CREATED:20241002T183950Z
LAST-MODIFIED:20241002T184036Z
UID:22648-1708700400-1708869600@sviluppo.mostradoltremare.it
SUMMARY:NAPOLI CITY HALF MARATHON 2024 - FAMILY RUN & FRIENDS 2024
DESCRIPTION:Esposizione di prodotti legati al running: venerdì 23 febbraio 2024 dalle ore 15\,00 alle 20 e sabato 24 febbraio 2024 dalle ore 9\,00 alle 20\,00.\nFamily Run & Friends: sabato 24 febbraio 2024 partenza alle ore 11\,00. Percorso interno Mostra d’Oltremare.\nMezza Maratona: domenica 25 febbraio 2024 partenza da Viale Kennedy alle ore 9\,00.\nIscrizioni ed informazioni su www.napolirunning.com
URL:https://sviluppo.mostradoltremare.it/event/napoli-city-half-marathon-2024-family-run-friends-2024/
LOCATION:Aree esterne\, Padiglioni 2-3-3B\, Viale Marconi\, Napoli\, 80125
CATEGORIES:Parco,Sportivo
ATTACH;FMTTYPE=image/jpeg:https://sviluppo.mostradoltremare.it/wp-content/uploads/2024/10/22648_image_napoli-city-half-marathon-2024.jpg
END:VEVENT
BEGIN:VEVENT
DTSTART;TZID=UTC:20240306T140000
DTEND;TZID=UTC:20240401T200000
DTSTAMP:20260421T211741
CREATED:20241002T184940Z
LAST-MODIFIED:20241002T185026Z
UID:22678-1709733600-1712001600@sviluppo.mostradoltremare.it
SUMMARY:BALLOON MUSEUM POP AIR - Ultima Proroga
DESCRIPTION:Mostra di arte contemporanea dedicata alla “inflatable art” con installazioni di artisti internazionali.\nApertura dal mercoledì alla domenica seguendo questi orari:\nMercoledì\, Giovedì e Venerdì: 14.00 – 20.00 (ultima entrata 19.00)\nSabato e Domenica: 10.00 – 21.00 (ultima entrata 20.00)\nLunedì 1° Aprile (Pasquetta) apertura dalle 10.00 alle 21.00 (ultima entrata 20.00)\nL’ultimo ingresso è un’ora prima della chiusura. In questo modo chi accede con l’ultimo ingresso ha il tempo di completare l’intera visita.\nÈ possibile acquistare i biglietti online tramite il seguente link: https://bit.ly/TicketBalloonMuseumNapoli\nIn alternativa\, è possibile acquistarli direttamente presso la biglietteria\, se disponibili al momento della visita.\nIl biglietto non è rimborsabile; se avete acquistato un ticket per una data e non riuscite a venire\, lo stesso potrà essere riutilizzato dal Mercoledì al Venerdì (escluso i giorni festivi).\nPer chiarimenti\, scrivere a hello@balloonmuseum.world.\nUlteriori info e dettagli su: Balloon Museum – FAQ
URL:https://sviluppo.mostradoltremare.it/event/balloon-museum-pop-air-ultima-proroga/
LOCATION:Fossato di Via Terracina\, Via Terracina 197\, Napoli\, 80125
CATEGORIES:Parco,Spettacoli
ATTACH;FMTTYPE=image/jpeg:https://sviluppo.mostradoltremare.it/wp-content/uploads/2024/10/22678_image_balloon-fino-al-1°-aprile.jpg
END:VEVENT
BEGIN:VEVENT
DTSTART;TZID=UTC:20240510T100000
DTEND;TZID=UTC:20240512T203000
DTSTAMP:20260421T211741
CREATED:20241002T191635Z
LAST-MODIFIED:20241002T191705Z
UID:22766-1715335200-1715545800@sviluppo.mostradoltremare.it
SUMMARY:VI° Raduno Nazionale di Clownterapia
DESCRIPTION:Smile Clown Festival con Workshop tematici\, convegni\, area espositiva\, attività ludico-ricreative\, laboratori\, spettacoli.\nIngresso libero il venerdì  – Ingresso Euro 1\,00 il sabato e la domenica.\nOrari: Venerdì dalle 10\,00 alle 21\,30; sabato dalle 9\,00 alle 22\,30; domenica dalle 9\,30 alle 20\,30\nEmail: smileclownfestival@gmail.com
URL:https://sviluppo.mostradoltremare.it/event/vi-raduno-nazionale-di-clownterapia/
LOCATION:Viale delle Palme e Laghetto\, Viale J.F.Kennedy 54\, Napoli\, 80125\, Italia
CATEGORIES:Congresso,Parco,Spettacolo
ATTACH;FMTTYPE=image/jpeg:https://sviluppo.mostradoltremare.it/wp-content/uploads/2024/10/22766_image_smileclownfestival.it_.jpg
ORGANIZER;CN="Teniamoci per mano Onlus":MAILTO:segreteriaonlus@outlook_it
END:VEVENT
BEGIN:VEVENT
DTSTART;TZID=UTC:20240601T170000
DTEND;TZID=UTC:20241031T000000
DTSTAMP:20260421T211741
CREATED:20241003T162443Z
LAST-MODIFIED:20241003T162511Z
UID:23524-1717261200-1730332800@sviluppo.mostradoltremare.it
SUMMARY:THIS IS WONDERLAND
DESCRIPTION:Aperti tutti i giorni dalle 17.00 – 00:00 con Ultimo ingresso 22:45. Ingresso Viale Kennedy  – L’accesso all’evento avviene con ingressi scaglionati ogni 15 minuti.\nBambini fino a 3 anni di età ingresso gratuito. \nÈ possibile acquistare i biglietti online tramite il seguente link: thisiswonderland.world/biglietti-alice\nIn alternativa\, è possibile acquistarli direttamente presso la biglietteria\, se disponibili al momento della visita.  I biglietti non sono né rimborsabili né modificabili. Se avete acquistato un biglietto per una data specifica e non siete riusciti a partecipare\, potrete riutilizzare il vostro ticket dal lunedì al giovedì\, escluso i giorni festivi\, senza effettuare altre prenotazioni.\nPer coloro che posseggono un’invalidità certificata pari o superiore al 70%\, oppure L. 104 in caso di minori\, l’ingresso è gratuito e il loro accompagnatore ha diritto al biglietto ridotto.\nLa manifestazione è priva di barriere architettoniche e fruibile in sedia a rotelle. \nPer info e chiarimenti\, scrivere a:  alice@thisiswonderland.world\nSito web: https://thisiswonderland.world
URL:https://sviluppo.mostradoltremare.it/event/this-is-wonderland/
LOCATION:Laghetto Fasilides\, Viale Kennedy\, Napoli\, 80125
CATEGORIES:Parco,Spettacolo
ATTACH;FMTTYPE=image/png:https://sviluppo.mostradoltremare.it/wp-content/uploads/2024/10/23524_image_1240x480-Alice-e1725896234175.png
END:VEVENT
END:VCALENDAR