BEGIN:VCALENDAR
VERSION:2.0
PRODID:-//Mostra d&#039;Oltremare - ECPv6.7.0//NONSGML v1.0//EN
CALSCALE:GREGORIAN
METHOD:PUBLISH
X-ORIGINAL-URL:https://sviluppo.mostradoltremare.it
X-WR-CALDESC:Eventi per Mostra d&#039;Oltremare
REFRESH-INTERVAL;VALUE=DURATION:PT1H
X-Robots-Tag:noindex
X-PUBLISHED-TTL:PT1H
BEGIN:VTIMEZONE
TZID:UTC
BEGIN:STANDARD
TZOFFSETFROM:+0000
TZOFFSETTO:+0000
TZNAME:UTC
DTSTART:20230101T000000
END:STANDARD
END:VTIMEZONE
BEGIN:VEVENT
DTSTART;TZID=UTC:20231111T100000
DTEND;TZID=UTC:20231113T180000
DTSTAMP:20260422T182848
CREATED:20241002T211315Z
LAST-MODIFIED:20241002T211330Z
UID:22849-1699696800-1699898400@sviluppo.mostradoltremare.it
SUMMARY:AESTETICA 2023 - 26^ edizione
DESCRIPTION:Salone dedicato ai professionisti di bellezza\, benessere ed acconciature. Area espositiva\, ABC Contest\, Aestetica Nail Challenge\, Masterclass.\nBiglietti ed abbonamenti per i tre giorni acquistabili su  https://aestetica.it/tickets/\nIngressi Piazzale Tecchio e Viale Kennedy\nOrari di apertura: sabato e domenica dalle 10\,00 alle 20\,00; lunedì dalle 10\,00 alle 18\,00.
URL:https://sviluppo.mostradoltremare.it/event/aestetica-2023-26-edizione/
LOCATION:Padiglioni 1-2-3-3B-4\, Piazzale Tecchio\, Napoli\, 80125
CATEGORIES:Fiera
ATTACH;FMTTYPE=image/jpeg:https://sviluppo.mostradoltremare.it/wp-content/uploads/2024/10/22849_image_AESTETICA.jpg
ORGANIZER;CN="Funtastic srls":MAILTO:info@aestetica_it
END:VEVENT
END:VCALENDAR