BEGIN:VCALENDAR
VERSION:2.0
PRODID:-//Mostra d&#039;Oltremare - ECPv6.7.0//NONSGML v1.0//EN
CALSCALE:GREGORIAN
METHOD:PUBLISH
X-WR-CALNAME:Mostra d&#039;Oltremare
X-ORIGINAL-URL:https://sviluppo.mostradoltremare.it
X-WR-CALDESC:Eventi per Mostra d&#039;Oltremare
REFRESH-INTERVAL;VALUE=DURATION:PT1H
X-Robots-Tag:noindex
X-PUBLISHED-TTL:PT1H
BEGIN:VTIMEZONE
TZID:UTC
BEGIN:STANDARD
TZOFFSETFROM:+0000
TZOFFSETTO:+0000
TZNAME:UTC
DTSTART:20220101T000000
END:STANDARD
END:VTIMEZONE
BEGIN:VEVENT
DTSTART;TZID=UTC:20220324T093000
DTEND;TZID=UTC:20220326T180000
DTSTAMP:20260424T072003
CREATED:20241002T215701Z
LAST-MODIFIED:20241002T215710Z
UID:23033-1648114200-1648317600@sviluppo.mostradoltremare.it
SUMMARY:ENERGYMED 2022 - 13^ edizione
DESCRIPTION:Fonti rinnovabili\, efficienza energetica\, transizione energetica\, economia circolare. EnergyMed è una manifestazione rivolta agli operatori del settore energia e ambiente per incrementare le proprie opportunità nella green economy\, per cui l’ingresso dei giovani di età inferiore a 21 anni è consentito solo nell’ambito delle visite scolastiche regolarmente prenotate.\nPer l’accesso ai padiglioni espositivi è obbligatorio essere in possesso del Green Pass “Rafforzato” e della mascherina.\nRegistrazione visitatori su www.energymed.it  –  Per informazioni:  EnergyMed – Contatti\nIngresso Viale Kennedy 54\nOrari: Giovedì e Venerdì 9.30/19.00 – Sabato 9.30/18.00
URL:https://sviluppo.mostradoltremare.it/event/energymed-2022-13-edizione/
LOCATION:Padiglioni 5-6 e Viale delle Palme\, Viale J.F.Kennedy 54\, Napoli\, 80125
CATEGORIES:Fiera
ATTACH;FMTTYPE=image/png:https://sviluppo.mostradoltremare.it/wp-content/uploads/2024/10/23033_image_energymed-2022.png
ORGANIZER;CN="ANEA Agenzia Napoletana Energia e Ambiente":MAILTO:info@energymed_it
END:VEVENT
END:VCALENDAR