BEGIN:VCALENDAR
VERSION:2.0
PRODID:-//Mostra d&#039;Oltremare - ECPv6.7.0//NONSGML v1.0//EN
CALSCALE:GREGORIAN
METHOD:PUBLISH
X-WR-CALNAME:Mostra d&#039;Oltremare
X-ORIGINAL-URL:https://sviluppo.mostradoltremare.it
X-WR-CALDESC:Eventi per Mostra d&#039;Oltremare
REFRESH-INTERVAL;VALUE=DURATION:PT1H
X-Robots-Tag:noindex
X-PUBLISHED-TTL:PT1H
BEGIN:VTIMEZONE
TZID:UTC
BEGIN:STANDARD
TZOFFSETFROM:+0000
TZOFFSETTO:+0000
TZNAME:UTC
DTSTART:20220101T000000
END:STANDARD
END:VTIMEZONE
BEGIN:VEVENT
DTSTART;TZID=UTC:20220318T100000
DTEND;TZID=UTC:20220320T150000
DTSTAMP:20260424T071958
CREATED:20241002T215617Z
LAST-MODIFIED:20241002T215629Z
UID:23028-1647597600-1647788400@sviluppo.mostradoltremare.it
SUMMARY:BMT 2022 - 25^ edizione
DESCRIPTION:Borsa Mediterranea del Turismo.\nIngresso Viale Kennedy 54.\nOrari di apertura al pubblico:\nVenerdì 18 Marzo 2022 dalle 10:00 alle 18.30 (operatori del settore)\nSabato 19 Marzo 2022 dalle 9:30 alle 18.30 (operatori del settore)\nDomenica 20 Marzo 2022 dalle 9:30 alle 15.00 (operatori del settore e pubblico)\nAccredito visitatori al seguente link: Accredito Visitatori | BMT (bmtnapoli.com)
URL:https://sviluppo.mostradoltremare.it/event/bmt-2022-25-edizione/
LOCATION:Padiglioni 4\, 5 e 6\, Viale Kennedy 54
CATEGORIES:Fiera
ATTACH;FMTTYPE=image/jpeg:https://sviluppo.mostradoltremare.it/wp-content/uploads/2024/10/23028_image_bmt-2022.jpg
ORGANIZER;CN="PROGECTA SRL":MAILTO:info@progecta_org
END:VEVENT
END:VCALENDAR