BEGIN:VCALENDAR
VERSION:2.0
PRODID:-//Mostra d&#039;Oltremare - ECPv6.7.0//NONSGML v1.0//EN
CALSCALE:GREGORIAN
METHOD:PUBLISH
X-WR-CALNAME:Mostra d&#039;Oltremare
X-ORIGINAL-URL:https://sviluppo.mostradoltremare.it
X-WR-CALDESC:Eventi per Mostra d&#039;Oltremare
REFRESH-INTERVAL;VALUE=DURATION:PT1H
X-Robots-Tag:noindex
X-PUBLISHED-TTL:PT1H
BEGIN:VTIMEZONE
TZID:UTC
BEGIN:STANDARD
TZOFFSETFROM:+0000
TZOFFSETTO:+0000
TZNAME:UTC
DTSTART:20230101T000000
END:STANDARD
END:VTIMEZONE
BEGIN:VEVENT
DTSTART;TZID=UTC:20230116T100000
DTEND;TZID=UTC:20230118T190000
DTSTAMP:20260423T110946
CREATED:20241001T224321Z
LAST-MODIFIED:20241002T105629Z
UID:20138-1673863200-1674068400@sviluppo.mostradoltremare.it
SUMMARY:TUTTOHOTEL 2023 - 3^ edizione
DESCRIPTION:Fiera business to business riservata agli operatori del settore ricettivo alberghiero ed extra alberghiero. Ingresso gratuito. Registrazione online al seguente link https://www.tuttohotel.info/visitatori/ –\nIn contemporanea con Tuttohotel saranno allestite le mostre Ecohospitality e B&BexpoDesign con installazioni in scala 1:1 sulle nuove tendenze in hotel e B&B moderni\, di tendenza ed ecosostenibili\, a cura di esperti hot architects.\nIngresso Piazzale Tecchio
URL:https://sviluppo.mostradoltremare.it/event/tuttohotel-2023-3-edizione/
LOCATION:Padiglione 1\, Piazzale Tecchio\, Napoli\, 80125
CATEGORIES:Fiera
ATTACH;FMTTYPE=image/jpeg:https://sviluppo.mostradoltremare.it/wp-content/uploads/2024/10/20138_image_2023-tuttohotel-terza-edizione.jpg
ORGANIZER;CN="SQUISITO EVENTI SRLS":MAILTO:segreteria@tuttohotel_info
END:VEVENT
BEGIN:VEVENT
DTSTART;TZID=UTC:20230120T090000
DTEND;TZID=UTC:20230122T090000
DTSTAMP:20260423T110946
CREATED:20241001T223132Z
LAST-MODIFIED:20241002T105759Z
UID:20123-1674205200-1674378000@sviluppo.mostradoltremare.it
SUMMARY:CAMPIONATO MONDIALE DI ORNITOLOGIA 2023 - 70^ edizione
DESCRIPTION:Il campionato ospiterà uccelli ornamentali provenienti dagli allevamenti di tutto il mondo. Organizzato sotto l’egida della Federazione Ornicoltori Italiani (FOI) e della Confédération Ornithologique Mondiale (COM)\, con il patrocinio del Comune di Napoli.\nIngressi viale Kennedy e Piazzale Tecchio.\nOrari di apertura al pubblico: il 20 e 21 gennaio 2023 dalle 9\,00 alle 19\,00; il 22 gennaio 2023 dalle 9\,00 alle 16\,00.\nÈ possibile acquistare i biglietti on-line e presso la rete di prevendite indicate al seguente link:\nhttps://www.azzurroservice.net/biglietti/70-campionato-mondiale-di-ornitologia-napoli-2023\nIngresso giornaliero: € 15\,00 + diritti prevendita\nAbbonamento due giorni: € 27\,00 + diritti prevendita\nAbbonamento tre giorni: € 38\,00 + diritti prevendita
URL:https://sviluppo.mostradoltremare.it/event/campionato-mondiale-di-ornitologia-2023-70-edizione/
LOCATION:Padiglioni 3\, 3B\, 4\, 5 e 6\, Viale Kennedy 54\, Napoli\, 80125
CATEGORIES:Fiera
ATTACH;FMTTYPE=image/jpeg:https://sviluppo.mostradoltremare.it/wp-content/uploads/2024/10/20123_image_ornitologia.jpg
ORGANIZER;CN="Comitato Organizzatore CB0 Campionato Mondiale Ornitologia 2023":MAILTO:segreteria@foi_it
END:VEVENT
END:VCALENDAR