BEGIN:VCALENDAR
VERSION:2.0
PRODID:-//Mostra d&#039;Oltremare - ECPv6.7.0//NONSGML v1.0//EN
CALSCALE:GREGORIAN
METHOD:PUBLISH
X-WR-CALNAME:Mostra d&#039;Oltremare
X-ORIGINAL-URL:https://sviluppo.mostradoltremare.it
X-WR-CALDESC:Eventi per Mostra d&#039;Oltremare
REFRESH-INTERVAL;VALUE=DURATION:PT1H
X-Robots-Tag:noindex
X-PUBLISHED-TTL:PT1H
BEGIN:VTIMEZONE
TZID:UTC
BEGIN:STANDARD
TZOFFSETFROM:+0000
TZOFFSETTO:+0000
TZNAME:UTC
DTSTART:20220101T000000
END:STANDARD
END:VTIMEZONE
BEGIN:VEVENT
DTSTART;TZID=UTC:20221126T100000
DTEND;TZID=UTC:20221127T200000
DTSTAMP:20260423T180155
CREATED:20241004T221835Z
LAST-MODIFIED:20241004T221906Z
UID:24069-1669456800-1669579200@sviluppo.mostradoltremare.it
SUMMARY:FIERA DEL BARATTO E DELL'USATO - 50^ edizione
DESCRIPTION:Piccolo antiquariato\, modernariato\, artigianato manufatto\, collezionismo\, oggettistica\, abbigliamento vintage\, fumetti\, vinili e molto altro.\nIngresso visitatori Piazzale Tecchio\nPossibilità di acquisto biglietti anche online su www.go2.it \nPer i Under 12 e gli over 70 l’ingresso è GRATUITO \nINFO & CONTATTI:\n081-18206507\nWHATSAPP 392-3729728\ninfo@bidonville.org\nwww.fieradelbarattoedellusato.it\nVia Dante Alighieri\, 22 – 80078 Pozzuoli (NA)
URL:https://sviluppo.mostradoltremare.it/event/fiera-del-baratto-e-dellusato-50-edizione/
LOCATION:Padiglioni 1-2-3-3B\, Piazzale Tecchio\, Napoli\, 80125\, Italia
CATEGORIES:Fiera
ATTACH;FMTTYPE=image/jpeg:https://sviluppo.mostradoltremare.it/wp-content/uploads/2024/10/22866_image_baratto-novembre.jpg
ORGANIZER;CN="Bidonville 2.0 sas di Consiglia Auletta":MAILTO:bidon@bidonville_org
END:VEVENT
END:VCALENDAR