BEGIN:VCALENDAR
VERSION:2.0
PRODID:-//Mostra d&#039;Oltremare - ECPv6.7.0//NONSGML v1.0//EN
CALSCALE:GREGORIAN
METHOD:PUBLISH
X-ORIGINAL-URL:https://sviluppo.mostradoltremare.it
X-WR-CALDESC:Eventi per Mostra d&#039;Oltremare
REFRESH-INTERVAL;VALUE=DURATION:PT1H
X-Robots-Tag:noindex
X-PUBLISHED-TTL:PT1H
BEGIN:VTIMEZONE
TZID:UTC
BEGIN:STANDARD
TZOFFSETFROM:+0000
TZOFFSETTO:+0000
TZNAME:UTC
DTSTART:20210101T000000
END:STANDARD
END:VTIMEZONE
BEGIN:VEVENT
DTSTART;TZID=UTC:20211216T093000
DTEND;TZID=UTC:20211217T173000
DTSTAMP:20260424T150113
CREATED:20241002T213905Z
LAST-MODIFIED:20241002T214009Z
UID:22955-1639647000-1639762200@sviluppo.mostradoltremare.it
SUMMARY:SMAU NAPOLI - 8^ edizione
DESCRIPTION:Protagonista l’innovazione campana. Un’occasione unica di incontro e confronto tra imprese consolidate e startup ed imprese innovative.\nIngresso Viale Kennedy 54
URL:https://sviluppo.mostradoltremare.it/event/smau-napoli-8-edizione/
LOCATION:Padiglione 6\, Viale Kennedy 54
CATEGORIES:Fiera
ATTACH;FMTTYPE=image/png:https://sviluppo.mostradoltremare.it/wp-content/uploads/2024/10/22955_image_SMAUNapoli_logo2021.png
ORGANIZER;CN="Smau Servizi s.r.l.":MAILTO:contact@smau_it
END:VEVENT
END:VCALENDAR