BEGIN:VCALENDAR
VERSION:2.0
PRODID:-//Mostra d&#039;Oltremare - ECPv6.7.0//NONSGML v1.0//EN
CALSCALE:GREGORIAN
METHOD:PUBLISH
X-WR-CALNAME:Mostra d&#039;Oltremare
X-ORIGINAL-URL:https://sviluppo.mostradoltremare.it
X-WR-CALDESC:Eventi per Mostra d&#039;Oltremare
REFRESH-INTERVAL;VALUE=DURATION:PT1H
X-Robots-Tag:noindex
X-PUBLISHED-TTL:PT1H
BEGIN:VTIMEZONE
TZID:UTC
BEGIN:STANDARD
TZOFFSETFROM:+0000
TZOFFSETTO:+0000
TZNAME:UTC
DTSTART:20230101T000000
END:STANDARD
END:VTIMEZONE
BEGIN:VEVENT
DTSTART;TZID=UTC:20231021T130000
DTEND;TZID=UTC:20231024T130000
DTSTAMP:20260421T114927
CREATED:20241002T125426Z
LAST-MODIFIED:20241002T125450Z
UID:22461-1697893200-1698152400@sviluppo.mostradoltremare.it
SUMMARY:53° Congresso Nazionale SIN (Società Italiana di Neurologia)
DESCRIPTION:Preziosa occasione d’incontro e confronto fra le diverse anime\, accademica\, ospedaliera e territoriale della Neurologia italiana.\nOrario lavori congressuali:\nil 21 ottobre: 13\,00-21\,00; il 22 e 23 ottobre: 8\,30-19\,30; il 24 ottobre: 9\,00-13\,00.
URL:https://sviluppo.mostradoltremare.it/event/53-congresso-nazionale-sin-societa-italiana-di-neurologia/
LOCATION:Padiglione 10\, Palacongressi\, Teatro Mediterraneo\, Sala italia\, Ristorante piano superiore\, Piazzale Tecchio\, Napoli\, 80125
CATEGORIES:Congresso
ATTACH;FMTTYPE=image/jpeg:https://sviluppo.mostradoltremare.it/wp-content/uploads/2024/10/22461_image_sin-2023.jpg
ORGANIZER;CN="Segreteria SIN - Studio Siena Congress":MAILTO:info@sienacongress_it
END:VEVENT
END:VCALENDAR