BEGIN:VCALENDAR
VERSION:2.0
PRODID:-//Mostra d&#039;Oltremare - ECPv6.7.0//NONSGML v1.0//EN
CALSCALE:GREGORIAN
METHOD:PUBLISH
X-ORIGINAL-URL:https://sviluppo.mostradoltremare.it
X-WR-CALDESC:Eventi per Mostra d&#039;Oltremare
REFRESH-INTERVAL;VALUE=DURATION:PT1H
X-Robots-Tag:noindex
X-PUBLISHED-TTL:PT1H
BEGIN:VTIMEZONE
TZID:UTC
BEGIN:STANDARD
TZOFFSETFROM:+0000
TZOFFSETTO:+0000
TZNAME:UTC
DTSTART:20230101T000000
END:STANDARD
END:VTIMEZONE
BEGIN:VEVENT
DTSTART;TZID=UTC:20230613T133000
DTEND;TZID=UTC:20230616T170000
DTSTAMP:20260421T211736
CREATED:20241002T082259Z
LAST-MODIFIED:20241002T110044Z
UID:20682-1686663000-1686934800@sviluppo.mostradoltremare.it
SUMMARY:Congresso SIDEMAST 2023 - 97^ edizione
DESCRIPTION:Congresso nazionale della Società Italiana di Dermatologia medica\, chirurgica\, estetica e di Malattie Sessualmente Trasmesse.\nOrario lavori congressuali: il 13 giugno dalle 11\,30 alle 17\,30; il 14 e 15 giugno dalle 8\,30 alle 18\,30; il 16 giugno dalle 8\,30 alle 17\,00.\nIngressi Viale Kennedy\, Via Terracina\, Piazzale Tecchio.
URL:https://sviluppo.mostradoltremare.it/event/congresso-sidemast-2023-97-edizione/
LOCATION:Palacongressi – Padiglione 10\, Napoli\, 80125
CATEGORIES:Congresso
ATTACH;FMTTYPE=image/png:https://sviluppo.mostradoltremare.it/wp-content/uploads/2024/10/20682_image_congresso-sidemast-2023.png
ORGANIZER;CN="Triumph Italy srl":MAILTO:dermatologia2023@thetriumph_com
END:VEVENT
END:VCALENDAR