BEGIN:VCALENDAR
VERSION:2.0
PRODID:-//Mostra d&#039;Oltremare - ECPv6.7.0//NONSGML v1.0//EN
CALSCALE:GREGORIAN
METHOD:PUBLISH
X-WR-CALNAME:Mostra d&#039;Oltremare
X-ORIGINAL-URL:https://sviluppo.mostradoltremare.it
X-WR-CALDESC:Eventi per Mostra d&#039;Oltremare
REFRESH-INTERVAL;VALUE=DURATION:PT1H
X-Robots-Tag:noindex
X-PUBLISHED-TTL:PT1H
BEGIN:VTIMEZONE
TZID:UTC
BEGIN:STANDARD
TZOFFSETFROM:+0000
TZOFFSETTO:+0000
TZNAME:UTC
DTSTART:20220101T000000
END:STANDARD
END:VTIMEZONE
BEGIN:VEVENT
DTSTART;TZID=UTC:20220512T100000
DTEND;TZID=UTC:20220512T170000
DTSTAMP:20260424T235329
CREATED:20241002T220601Z
LAST-MODIFIED:20241002T220613Z
UID:23079-1652349600-1652374800@sviluppo.mostradoltremare.it
SUMMARY:FORUM AGENTI Napoli 2022
DESCRIPTION:Riservato agli Agenti di Commercio.\nRichiedi il tuo biglietto gratuito al seguente link: Biglietto Gratuito (forumagenti.it).\nInfoline: 800861616 – 3351335935\nIngresso Viale Kennedy 54
URL:https://sviluppo.mostradoltremare.it/event/forum-agenti-napoli-2022/
LOCATION:Atrio Teatro Mediterraneo\, Napoli\, 80125
CATEGORIES:Congresso
ATTACH;FMTTYPE=image/png:https://sviluppo.mostradoltremare.it/wp-content/uploads/2024/10/23079_image_732-x-381px-fiera-12-maggio.png
ORGANIZER;CN="AGENT321 S.R.L.":MAILTO:info@forumagenti_it
END:VEVENT
END:VCALENDAR