BEGIN:VCALENDAR
VERSION:2.0
PRODID:-//Mostra d&#039;Oltremare - ECPv6.7.0//NONSGML v1.0//EN
CALSCALE:GREGORIAN
METHOD:PUBLISH
X-ORIGINAL-URL:https://sviluppo.mostradoltremare.it
X-WR-CALDESC:Eventi per Mostra d&#039;Oltremare
REFRESH-INTERVAL;VALUE=DURATION:PT1H
X-Robots-Tag:noindex
X-PUBLISHED-TTL:PT1H
BEGIN:VTIMEZONE
TZID:UTC
BEGIN:STANDARD
TZOFFSETFROM:+0000
TZOFFSETTO:+0000
TZNAME:UTC
DTSTART:20210101T000000
END:STANDARD
END:VTIMEZONE
BEGIN:VEVENT
DTSTART;TZID=UTC:20210604T133000
DTEND;TZID=UTC:20210605T133000
DTSTAMP:20260425T223940
CREATED:20241008T202048Z
LAST-MODIFIED:20241008T202048Z
UID:24655-1622813400-1622899800@sviluppo.mostradoltremare.it
SUMMARY:Congresso Annuale AIDNID 2021
DESCRIPTION:Webinar con FAD sincrona dell’Associazione Italiana Diagnostica non Invasiva in Dermatologia che prevede un confronto derivato dall’esperienza sul campo\, dando voce alle novità emergenti circa lo sviluppo di metodiche diagnostiche non invasive per la dermatologia. Evento accreditato ECM. www.meeter.it – segreteria@meeter.it Ingresso e parcheggio Via Marconi Orari: venerdì 13\,30-18\,00; sabato 8\,30-13\,30  
URL:https://sviluppo.mostradoltremare.it/event/congresso-annuale-aidnid-2021/
LOCATION:Sala Ischia del Palacongressi
CATEGORIES:Congresso
ATTACH;FMTTYPE=image/jpeg:https://sviluppo.mostradoltremare.it/wp-content/uploads/2024/10/24655_image_AIDNID-2021.jpg
ORGANIZER;CN="Percettiva%20S.c.%20a%20r.l.":MAILTO:meeter@meeter_it
END:VEVENT
END:VCALENDAR