BEGIN:VCALENDAR
VERSION:2.0
PRODID:-//Mostra d&#039;Oltremare - ECPv6.7.0//NONSGML v1.0//EN
CALSCALE:GREGORIAN
METHOD:PUBLISH
X-WR-CALNAME:Mostra d&#039;Oltremare
X-ORIGINAL-URL:https://sviluppo.mostradoltremare.it
X-WR-CALDESC:Eventi per Mostra d&#039;Oltremare
REFRESH-INTERVAL;VALUE=DURATION:PT1H
X-Robots-Tag:noindex
X-PUBLISHED-TTL:PT1H
BEGIN:VTIMEZONE
TZID:UTC
BEGIN:STANDARD
TZOFFSETFROM:+0000
TZOFFSETTO:+0000
TZNAME:UTC
DTSTART:20240101T000000
END:STANDARD
END:VTIMEZONE
BEGIN:VEVENT
DTSTART;TZID=UTC:20240108T093000
DTEND;TZID=UTC:20240109T173000
DTSTAMP:20260421T194410
CREATED:20241002T102331Z
LAST-MODIFIED:20241002T113347Z
UID:20846-1704706200-1704821400@sviluppo.mostradoltremare.it
SUMMARY:Concorsi Comune di Caivano
DESCRIPTION:per la selezione di complessive 31 unità di personale non dirigenziale a tempo pieno ed indeterminato. Prove scritte.\nIngresso Piazzale Tecchio
URL:https://sviluppo.mostradoltremare.it/event/concorsi-comune-di-caivano/
LOCATION:padiglioni 2 e 3B\, Piazzale Tecchio\, Napoli\, Italia\, 80125
CATEGORIES:Concorsi
ATTACH;FMTTYPE=image/jpeg:https://sviluppo.mostradoltremare.it/wp-content/uploads/2024/10/20846_image_caivano.jpg
ORGANIZER;CN="Formez PA":MAILTO:protocollo@pec_formez_it
END:VEVENT
END:VCALENDAR