BEGIN:VCALENDAR
VERSION:2.0
PRODID:-//Mostra d&#039;Oltremare - ECPv6.7.0//NONSGML v1.0//EN
CALSCALE:GREGORIAN
METHOD:PUBLISH
X-ORIGINAL-URL:https://sviluppo.mostradoltremare.it
X-WR-CALDESC:Eventi per Mostra d&#039;Oltremare
REFRESH-INTERVAL;VALUE=DURATION:PT1H
X-Robots-Tag:noindex
X-PUBLISHED-TTL:PT1H
BEGIN:VTIMEZONE
TZID:UTC
BEGIN:STANDARD
TZOFFSETFROM:+0000
TZOFFSETTO:+0000
TZNAME:UTC
DTSTART:20230101T000000
END:STANDARD
END:VTIMEZONE
BEGIN:VEVENT
DTSTART;TZID=UTC:20231212T080000
DTEND;TZID=UTC:20231212T200000
DTSTAMP:20260422T004222
CREATED:20241002T212343Z
LAST-MODIFIED:20241002T212358Z
UID:22890-1702368000-1702411200@sviluppo.mostradoltremare.it
SUMMARY:Esami abilitazione all'esercizio della professione forense
DESCRIPTION:Sessione 2023 – Prova scritta.\nIngresso Piazzale Tecchio
URL:https://sviluppo.mostradoltremare.it/event/esami-abilitazione-allesercizio-della-professione-forense/
LOCATION:padiglioni 2 e 3B\, Piazzale Tecchio\, Napoli\, Italia\, 80125
CATEGORIES:Concorsi
ATTACH;FMTTYPE=image/jpeg:https://sviluppo.mostradoltremare.it/wp-content/uploads/2024/10/22890_image_esami-avvocato-2023.jpg
ORGANIZER;CN="Corte di Appello di Napoli":MAILTO:esamiavv_ca_napoli@giustizia_it
END:VEVENT
END:VCALENDAR