BEGIN:VCALENDAR
VERSION:2.0
PRODID:-//Mostra d&#039;Oltremare - ECPv6.7.0//NONSGML v1.0//EN
CALSCALE:GREGORIAN
METHOD:PUBLISH
X-ORIGINAL-URL:https://sviluppo.mostradoltremare.it
X-WR-CALDESC:Eventi per Mostra d&#039;Oltremare
REFRESH-INTERVAL;VALUE=DURATION:PT1H
X-Robots-Tag:noindex
X-PUBLISHED-TTL:PT1H
BEGIN:VTIMEZONE
TZID:UTC
BEGIN:STANDARD
TZOFFSETFROM:+0000
TZOFFSETTO:+0000
TZNAME:UTC
DTSTART:20230101T000000
END:STANDARD
END:VTIMEZONE
BEGIN:VEVENT
DTSTART;TZID=UTC:20230920T100000
DTEND;TZID=UTC:20230920T130000
DTSTAMP:20260422T050509
CREATED:20241002T111316Z
LAST-MODIFIED:20241002T111344Z
UID:22379-1695204000-1695214800@sviluppo.mostradoltremare.it
SUMMARY:Concorso Comune di Portici
DESCRIPTION:per 3 posti di Collaboratore Amministrativo Categoria B3\, a tempo pieno ed indeterminato\, esclusivamente riservato ai disabili.\nIngresso Piazzale Tecchio
URL:https://sviluppo.mostradoltremare.it/event/concorso-comune-di-portici/
LOCATION:Padiglione 10\, Piazzale Tecchio\, Napoli\, 80125
CATEGORIES:Concorsi
ATTACH;FMTTYPE=image/jpeg:https://sviluppo.mostradoltremare.it/wp-content/uploads/2024/10/22379_image_pad-10.jpg
ORGANIZER;CN="Idee in fiera s.r.l.":MAILTO:staff@festivaldelloriente_net
END:VEVENT
END:VCALENDAR