BEGIN:VCALENDAR
VERSION:2.0
PRODID:-//Mostra d&#039;Oltremare - ECPv6.7.0//NONSGML v1.0//EN
CALSCALE:GREGORIAN
METHOD:PUBLISH
X-ORIGINAL-URL:https://sviluppo.mostradoltremare.it
X-WR-CALDESC:Eventi per Mostra d&#039;Oltremare
REFRESH-INTERVAL;VALUE=DURATION:PT1H
X-Robots-Tag:noindex
X-PUBLISHED-TTL:PT1H
BEGIN:VTIMEZONE
TZID:UTC
BEGIN:STANDARD
TZOFFSETFROM:+0000
TZOFFSETTO:+0000
TZNAME:UTC
DTSTART:20230101T000000
END:STANDARD
END:VTIMEZONE
BEGIN:VEVENT
DTSTART;TZID=UTC:20230721T090000
DTEND;TZID=UTC:20230722T190000
DTSTAMP:20260422T083410
CREATED:20241002T110611Z
LAST-MODIFIED:20241002T110623Z
UID:22336-1689930000-1690052400@sviluppo.mostradoltremare.it
SUMMARY:Concorso Università di Salerno
DESCRIPTION:Prove scritte TFA per ammissione corsi formazione specializzazione attività di sostegno per alunni con disabilità.\nIngresso Viale Kennedy 54.\nTurni prove:\nInfanzia: venerdì 21 luglio 2023 ore 15.00\nPrimaria: sabato 22 luglio 2023 ore 15.00\nScuola secondaria di primo grado: sabato 22 luglio 2023 ore 9.00\nScuola secondaria di secondo grado: venerdì 21 luglio 2023 ore 9.00
URL:https://sviluppo.mostradoltremare.it/event/concorso-universita-di-salerno/
LOCATION:Padiglione 6\, Viale Kennedy 54
CATEGORIES:Concorsi
ATTACH;FMTTYPE=image/jpeg:https://sviluppo.mostradoltremare.it/wp-content/uploads/2024/10/22336_image_univerista-di-salerno-1.jpg
ORGANIZER;CN="LUROVA PRODUCTION SRL":MAILTO:lurovamusic@gmail_com
END:VEVENT
END:VCALENDAR