BEGIN:VCALENDAR
VERSION:2.0
PRODID:-//Mostra d&#039;Oltremare - ECPv6.7.0//NONSGML v1.0//EN
CALSCALE:GREGORIAN
METHOD:PUBLISH
X-ORIGINAL-URL:https://sviluppo.mostradoltremare.it
X-WR-CALDESC:Eventi per Mostra d&#039;Oltremare
REFRESH-INTERVAL;VALUE=DURATION:PT1H
X-Robots-Tag:noindex
X-PUBLISHED-TTL:PT1H
BEGIN:VTIMEZONE
TZID:UTC
BEGIN:STANDARD
TZOFFSETFROM:+0000
TZOFFSETTO:+0000
TZNAME:UTC
DTSTART:20230101T000000
END:STANDARD
END:VTIMEZONE
BEGIN:VEVENT
DTSTART;TZID=UTC:20230522T093000
DTEND;TZID=UTC:20230522T180000
DTSTAMP:20260422T145609
CREATED:20241002T075951Z
LAST-MODIFIED:20241002T105912Z
UID:20583-1684747800-1684778400@sviluppo.mostradoltremare.it
SUMMARY:Concorso Agenzia delle Entrate
DESCRIPTION:Selezione pubblica per l’assunzione a tempo indeterminato di complessive 900 unità per la seconda area funzionale\, fascia retributiva F3\, profilo professionale assistente tecnico.\nInizio 1^ sessione ore 9\,30 – inizio 2^ sessione ore 14\,30.\nIngresso Piazzale Tecchio
URL:https://sviluppo.mostradoltremare.it/event/concorso-agenzia-delle-entrate-3/
LOCATION:Padiglioni 1 e 2\, Piazzale Tecchio\, Napoli\, 80125
CATEGORIES:Concorsi
ATTACH;FMTTYPE=image/png:https://sviluppo.mostradoltremare.it/wp-content/uploads/2024/10/20583_image_agenziaentrate.png
ORGANIZER;CN="ASSOCIAZIONE MERIDIANI APSSD":MAILTO:info@associazionemeridiani_com
END:VEVENT
END:VCALENDAR