BEGIN:VCALENDAR
VERSION:2.0
PRODID:-//Mostra d&#039;Oltremare - ECPv6.7.0//NONSGML v1.0//EN
CALSCALE:GREGORIAN
METHOD:PUBLISH
X-ORIGINAL-URL:https://sviluppo.mostradoltremare.it
X-WR-CALDESC:Eventi per Mostra d&#039;Oltremare
REFRESH-INTERVAL;VALUE=DURATION:PT1H
X-Robots-Tag:noindex
X-PUBLISHED-TTL:PT1H
BEGIN:VTIMEZONE
TZID:UTC
BEGIN:STANDARD
TZOFFSETFROM:+0000
TZOFFSETTO:+0000
TZNAME:UTC
DTSTART:20220101T000000
END:STANDARD
END:VTIMEZONE
BEGIN:VEVENT
DTSTART;TZID=UTC:20221117T083000
DTEND;TZID=UTC:20221118T180000
DTSTAMP:20260423T035252
CREATED:20241004T221311Z
LAST-MODIFIED:20241004T221419Z
UID:24046-1668673800-1668794400@sviluppo.mostradoltremare.it
SUMMARY:Concorsi Agenzia Dogane e Monopoli
DESCRIPTION:il 17 novembre 2022 prove preselettive per concorso pubblico per titoli ed esami per 340 posti Terza Area F1. Inizio prima sessione ore 8\,30 – inizio seconda sessione ore 12\,00 – inizio terza sessione ore 15\,30\nil 18 novembre 2022 prove preselettive per concorso pubblico per titoli ed esami per 640 posti Seconda Area F3 – Inizio prima sessione ore 8\,30 – inizio seconda sessione ore 12\,00 – inizio terza sessione ore 15\,30.\nIngresso Piazzale Tecchio
URL:https://sviluppo.mostradoltremare.it/event/concorsi-agenzia-dogane-e-monopoli/
LOCATION:Padiglione 10\, Piazzale Tecchio\, Napoli\, 80125
CATEGORIES:Concorsi
ATTACH;FMTTYPE=image/jpeg:https://sviluppo.mostradoltremare.it/wp-content/uploads/2024/10/22755_image_ADM.jpg
ORGANIZER;CN="Proteika s.r.l.":MAILTO:info@proteika_eu
END:VEVENT
END:VCALENDAR