BEGIN:VCALENDAR
VERSION:2.0
PRODID:-//Mostra d&#039;Oltremare - ECPv6.7.0//NONSGML v1.0//EN
CALSCALE:GREGORIAN
METHOD:PUBLISH
X-WR-CALNAME:Mostra d&#039;Oltremare
X-ORIGINAL-URL:https://sviluppo.mostradoltremare.it
X-WR-CALDESC:Eventi per Mostra d&#039;Oltremare
REFRESH-INTERVAL;VALUE=DURATION:PT1H
X-Robots-Tag:noindex
X-PUBLISHED-TTL:PT1H
BEGIN:VTIMEZONE
TZID:UTC
BEGIN:STANDARD
TZOFFSETFROM:+0000
TZOFFSETTO:+0000
TZNAME:UTC
DTSTART:20220101T000000
END:STANDARD
END:VTIMEZONE
BEGIN:VEVENT
DTSTART;TZID=UTC:20221031T093000
DTEND;TZID=UTC:20221103T170000
DTSTAMP:20260423T035135
CREATED:20241004T220501Z
LAST-MODIFIED:20241004T220515Z
UID:24014-1667208600-1667494800@sviluppo.mostradoltremare.it
SUMMARY:Concorso Comune di Napoli e Città Metropolitana di Napoli - categoria D
DESCRIPTION:Prove preselettive Concorso pubblico reclutamento personale Categoria D –\nPrima sessione ore 9\,30 – Seconda sessione ore 14\,30.\nIngresso Piazzale Tecchio
URL:https://sviluppo.mostradoltremare.it/event/concorso-comune-di-napoli-e-citta-metropolitana-di-napoli-categoria-d/
LOCATION:Padiglioni 1-2-3-3B-10\, Piazzale Tecchio 52\, Napoli\, 80125\, Italia
CATEGORIES:Concorsi
ATTACH;FMTTYPE=image/jpeg:https://sviluppo.mostradoltremare.it/wp-content/uploads/2024/10/24014_image_CATEGORIA-D.jpg
ORGANIZER;CN="Proteika s.r.l.":MAILTO:info@proteika_eu
END:VEVENT
END:VCALENDAR