BEGIN:VCALENDAR
VERSION:2.0
PRODID:-//Mostra d&#039;Oltremare - ECPv6.7.0//NONSGML v1.0//EN
CALSCALE:GREGORIAN
METHOD:PUBLISH
X-WR-CALNAME:Mostra d&#039;Oltremare
X-ORIGINAL-URL:https://sviluppo.mostradoltremare.it
X-WR-CALDESC:Eventi per Mostra d&#039;Oltremare
REFRESH-INTERVAL;VALUE=DURATION:PT1H
X-Robots-Tag:noindex
X-PUBLISHED-TTL:PT1H
BEGIN:VTIMEZONE
TZID:UTC
BEGIN:STANDARD
TZOFFSETFROM:+0000
TZOFFSETTO:+0000
TZNAME:UTC
DTSTART:20220101T000000
END:STANDARD
END:VTIMEZONE
BEGIN:VEVENT
DTSTART;TZID=UTC:20221019T080000
DTEND;TZID=UTC:20221021T170000
DTSTAMP:20260423T072737
CREATED:20241004T215956Z
LAST-MODIFIED:20241004T220015Z
UID:23989-1666166400-1666371600@sviluppo.mostradoltremare.it
SUMMARY:Concorso Dirigenti Comune di Napoli
DESCRIPTION:Prove selettive scritte\, di cui all’art.6 del bando di concorso\, secondo il seguente calendario\, con convocazione alle ore 8:00:\nProfilo TEC/DIR 19 ottobre 2022;\nProfilo VIG/DIR 19 ottobre 2022;\nProfilo INF/DIR 20 ottobre 2022;\nProfilo COM/DIR 20 ottobre 2022;\nProfilo LEG/DIR 20 ottobre 2022;\nProfilo AMM/DIR 21 ottobre 2022.\nIngresso Piazzale Tecchio
URL:https://sviluppo.mostradoltremare.it/event/concorso-dirigenti-comune-di-napoli/
LOCATION:Padiglioni 1-2\, Piazzale Tecchio\, Napoli\, 80125
CATEGORIES:Concorsi
ATTACH;FMTTYPE=image/png:https://sviluppo.mostradoltremare.it/wp-content/uploads/2024/10/23989_image_dirigenti.png
ORGANIZER;CN="AVEP ETS":MAILTO:info@avepets_it
END:VEVENT
END:VCALENDAR