BEGIN:VCALENDAR
VERSION:2.0
PRODID:-//Mostra d&#039;Oltremare - ECPv6.7.0//NONSGML v1.0//EN
CALSCALE:GREGORIAN
METHOD:PUBLISH
X-WR-CALNAME:Mostra d&#039;Oltremare
X-ORIGINAL-URL:https://sviluppo.mostradoltremare.it
X-WR-CALDESC:Eventi per Mostra d&#039;Oltremare
REFRESH-INTERVAL;VALUE=DURATION:PT1H
X-Robots-Tag:noindex
X-PUBLISHED-TTL:PT1H
BEGIN:VTIMEZONE
TZID:UTC
BEGIN:STANDARD
TZOFFSETFROM:+0000
TZOFFSETTO:+0000
TZNAME:UTC
DTSTART:20220101T000000
END:STANDARD
END:VTIMEZONE
BEGIN:VEVENT
DTSTART;TZID=UTC:20220621T093000
DTEND;TZID=UTC:20220622T180000
DTSTAMP:20260423T191951
CREATED:20241002T222748Z
LAST-MODIFIED:20241002T222851Z
UID:23171-1655803800-1655920800@sviluppo.mostradoltremare.it
SUMMARY:Concorso RIPAM Ministero Giustizia
DESCRIPTION:a tempo determinato\, di personale non dirigenziale\, prova scritta.\nDue sessioni giornaliere: \ninizio prima sessione ore 9\,30\ninizio seconda sessione ore 14\,30 \nIngresso Piazzale Tecchio
URL:https://sviluppo.mostradoltremare.it/event/concorso-ripam-ministero-giustizia/
LOCATION:Padiglioni 1-2-3-3B-4-reception principale\, Piazzale Tecchio\, Napoli\, 80125
CATEGORIES:Concorsi
ATTACH;FMTTYPE=image/png:https://sviluppo.mostradoltremare.it/wp-content/uploads/2024/10/20596_image_banchetti.png
ORGANIZER;CN="Formez PA":MAILTO:protocollo@pec_formez_it
END:VEVENT
END:VCALENDAR