BEGIN:VCALENDAR
VERSION:2.0
PRODID:-//Mostra d&#039;Oltremare - ECPv6.7.0//NONSGML v1.0//EN
CALSCALE:GREGORIAN
METHOD:PUBLISH
X-ORIGINAL-URL:https://sviluppo.mostradoltremare.it
X-WR-CALDESC:Eventi per Mostra d&#039;Oltremare
REFRESH-INTERVAL;VALUE=DURATION:PT1H
X-Robots-Tag:noindex
X-PUBLISHED-TTL:PT1H
BEGIN:VTIMEZONE
TZID:UTC
BEGIN:STANDARD
TZOFFSETFROM:+0000
TZOFFSETTO:+0000
TZNAME:UTC
DTSTART:20220101T000000
END:STANDARD
END:VTIMEZONE
BEGIN:VEVENT
DTSTART;TZID=UTC:20220614T083000
DTEND;TZID=UTC:20220616T180000
DTSTAMP:20260423T174615
CREATED:20241002T222448Z
LAST-MODIFIED:20241002T222557Z
UID:23152-1655195400-1655402400@sviluppo.mostradoltremare.it
SUMMARY:Concorso Regione Campania
DESCRIPTION:Prove scritte del Concorso pubblico\, per titoli ed esami\, per Dirigenti.\nPrima sessione ore 8\,45 – seconda sessione ore 14\,30\nIngresso Piazzale Tecchio
URL:https://sviluppo.mostradoltremare.it/event/concorso-regione-campania-2/
LOCATION:Padiglione 10\, Piazzale Tecchio\, Napoli\, 80125
CATEGORIES:Concorsi
ATTACH;FMTTYPE=image/jpeg:https://sviluppo.mostradoltremare.it/wp-content/uploads/2024/10/23128_image_foto-banchi.jpg
ORGANIZER;CN="Action Events srl":MAILTO:info@blue-xperience_it
END:VEVENT
END:VCALENDAR