BEGIN:VCALENDAR
VERSION:2.0
PRODID:-//Mostra d&#039;Oltremare - ECPv6.7.0//NONSGML v1.0//EN
CALSCALE:GREGORIAN
METHOD:PUBLISH
X-ORIGINAL-URL:https://sviluppo.mostradoltremare.it
X-WR-CALDESC:Eventi per Mostra d&#039;Oltremare
REFRESH-INTERVAL;VALUE=DURATION:PT1H
X-Robots-Tag:noindex
X-PUBLISHED-TTL:PT1H
BEGIN:VTIMEZONE
TZID:UTC
BEGIN:STANDARD
TZOFFSETFROM:+0000
TZOFFSETTO:+0000
TZNAME:UTC
DTSTART:20220101T000000
END:STANDARD
END:VTIMEZONE
BEGIN:VEVENT
DTSTART;TZID=UTC:20220607T083000
DTEND;TZID=UTC:20220610T180000
DTSTAMP:20260423T193816
CREATED:20241002T222045Z
LAST-MODIFIED:20241002T222309Z
UID:23128-1654590600-1654884000@sviluppo.mostradoltremare.it
SUMMARY:Concorso Regione Campania
DESCRIPTION:Prove scritte del Concorso pubblico\, per titoli ed esami\, per Dirigenti di Area Informatica\, di Area Cultura e Comunicazione\, di Area Politiche Agricole e di Area Socio-Sanitaria (DAI – DCC – DPA – DSS)\nPrima sessione ore 8\,45 – seconda sessione ore 14\,30.\nIngresso Piazzale Tecchio
URL:https://sviluppo.mostradoltremare.it/event/concorso-regione-campania/
LOCATION:Padiglione 10\, Piazzale Tecchio\, Napoli\, 80125
CATEGORIES:Concorsi
ATTACH;FMTTYPE=image/jpeg:https://sviluppo.mostradoltremare.it/wp-content/uploads/2024/10/23128_image_foto-banchi.jpg
ORGANIZER;CN="AGENT321 S.R.L.":MAILTO:info@forumagenti_it
END:VEVENT
END:VCALENDAR