BEGIN:VCALENDAR
VERSION:2.0
PRODID:-//Mostra d&#039;Oltremare - ECPv6.7.0//NONSGML v1.0//EN
CALSCALE:GREGORIAN
METHOD:PUBLISH
X-ORIGINAL-URL:https://sviluppo.mostradoltremare.it
X-WR-CALDESC:Eventi per Mostra d&#039;Oltremare
REFRESH-INTERVAL;VALUE=DURATION:PT1H
X-Robots-Tag:noindex
X-PUBLISHED-TTL:PT1H
BEGIN:VTIMEZONE
TZID:UTC
BEGIN:STANDARD
TZOFFSETFROM:+0000
TZOFFSETTO:+0000
TZNAME:UTC
DTSTART:20220101T000000
END:STANDARD
END:VTIMEZONE
BEGIN:VEVENT
DTSTART;TZID=UTC:20220330T083000
DTEND;TZID=UTC:20220331T170000
DTSTAMP:20260424T001549
CREATED:20241002T215744Z
LAST-MODIFIED:20241002T215759Z
UID:23038-1648629000-1648746000@sviluppo.mostradoltremare.it
SUMMARY:Concorso Coesione 2
DESCRIPTION:Prova scritta del concorso pubblico\, per titoli ed esami\, per l’assunzione a tempo determinato di n. 2.022 unità\, categoria D1\, presso diverse amministrazioni\, pubblicato nella Gazzetta Ufficiale\, 4° serie speciale concorsi ed esami\, n. 82 del 15 ottobre 2021.\nSi svolge in quattro sessioni\, con convocazione dei candidati alle ore 08.30 e alle ore 14.30 nei giorni 30 marzo 2022 per il profilo FG/COE (due sessioni)  e 31 marzo 2022 per il profilo FT/COE (sessione unica delle ore 8\,30) e FI/COE (sessione unica alle ore 14.30).\nPer Info\, Regolamento etc. consultare il link indicato.\nIngresso Viale Kennedy 54
URL:https://sviluppo.mostradoltremare.it/event/concorso-coesione-2/
LOCATION:Padiglioni 2\, 3\, 3B e Palacongressi\, Viale Kennedy 54\, Napoli\, Italia\, 80125
CATEGORIES:Concorsi
ATTACH;FMTTYPE=image/png:https://sviluppo.mostradoltremare.it/wp-content/uploads/2024/10/20596_image_banchetti.png
ORGANIZER;CN="ASD NAPOLI PEDALA":MAILTO:info@napolibikefestival_it
END:VEVENT
END:VCALENDAR