BEGIN:VCALENDAR
VERSION:2.0
PRODID:-//Mostra d&#039;Oltremare - ECPv6.7.0//NONSGML v1.0//EN
CALSCALE:GREGORIAN
METHOD:PUBLISH
X-ORIGINAL-URL:https://sviluppo.mostradoltremare.it
X-WR-CALDESC:Eventi per Mostra d&#039;Oltremare
REFRESH-INTERVAL;VALUE=DURATION:PT1H
X-Robots-Tag:noindex
X-PUBLISHED-TTL:PT1H
BEGIN:VTIMEZONE
TZID:UTC
BEGIN:STANDARD
TZOFFSETFROM:+0000
TZOFFSETTO:+0000
TZNAME:UTC
DTSTART:20210101T000000
END:STANDARD
END:VTIMEZONE
BEGIN:VEVENT
DTSTART;TZID=UTC:20211220T083000
DTEND;TZID=UTC:20211222T170000
DTSTAMP:20260424T042939
CREATED:20241002T213956Z
LAST-MODIFIED:20241002T214042Z
UID:22959-1639989000-1640192400@sviluppo.mostradoltremare.it
SUMMARY:Concorso Agenzia delle Entrate
DESCRIPTION:Selezione pubblica per l’assunzione a tempo indeterminato di 2320 unità per la terza area funzionale\, fascia retributiva F1\, profilo professionale funzionario\, per attività amministrativo-tributaria.\nIngresso Viale Kennedy 54\nOrario Prove: primo turno ore 8\,30 – secondo turno ore 14\,30
URL:https://sviluppo.mostradoltremare.it/event/concorso-agenzia-delle-entrate/
LOCATION:Padiglioni 2-3-3B-4-10\, Viale Kennedy 54\, Napoli\, 80125
CATEGORIES:Concorsi
ATTACH;FMTTYPE=image/jpeg:https://sviluppo.mostradoltremare.it/wp-content/uploads/2024/10/22959_image_foto-per-concorsi.jpg
ORGANIZER;CN="Ordine delle Professioni Infermieristiche di Napoli":MAILTO:info@opinapoli_it
END:VEVENT
END:VCALENDAR