BEGIN:VCALENDAR
VERSION:2.0
PRODID:-//Mostra d&#039;Oltremare - ECPv6.7.0//NONSGML v1.0//EN
CALSCALE:GREGORIAN
METHOD:PUBLISH
X-ORIGINAL-URL:https://sviluppo.mostradoltremare.it
X-WR-CALDESC:Eventi per Mostra d&#039;Oltremare
REFRESH-INTERVAL;VALUE=DURATION:PT1H
X-Robots-Tag:noindex
X-PUBLISHED-TTL:PT1H
BEGIN:VTIMEZONE
TZID:UTC
BEGIN:STANDARD
TZOFFSETFROM:+0000
TZOFFSETTO:+0000
TZNAME:UTC
DTSTART:20240101T000000
END:STANDARD
END:VTIMEZONE
BEGIN:VEVENT
DTSTART;TZID=UTC:20240508T090000
DTEND;TZID=UTC:20240508T180000
DTSTAMP:20260421T101136
CREATED:20241002T191344Z
LAST-MODIFIED:20241002T191408Z
UID:22755-1715158800-1715191200@sviluppo.mostradoltremare.it
SUMMARY:CONCORSO PUBBLICO AGENZIA DOGANE E MONOPOLI
DESCRIPTION:a complessivi 564 posti Area Funzionari.\nProve preselettive nei padiglioni 1 e 2: 1^ sessione ore 9\,00; 2^ sessione ore 12\,30\nProve scritte nel padiglione 1: ore 16\,00\nIngresso Piazzale Tecchio
URL:https://sviluppo.mostradoltremare.it/event/concorso-pubblico-agenzia-dogane-e-monopoli/
LOCATION:Padiglioni 1 e 2\, Piazzale Tecchio\, Napoli\, 80125
CATEGORIES:Concorsi
ATTACH;FMTTYPE=image/jpeg:https://sviluppo.mostradoltremare.it/wp-content/uploads/2024/10/22755_image_ADM.jpg
END:VEVENT
BEGIN:VEVENT
DTSTART;TZID=UTC:20240523T080000
DTEND;TZID=UTC:20240524T170000
DTSTAMP:20260421T101136
CREATED:20241003T153511Z
LAST-MODIFIED:20241003T153535Z
UID:23472-1716451200-1716570000@sviluppo.mostradoltremare.it
SUMMARY:Concorso Università di Salerno
DESCRIPTION:Percorsi di specializzazione per reclutamento personale per Attività di Sostegno nelle scuole.\nIngresso Piazzale Tecchio
URL:https://sviluppo.mostradoltremare.it/event/concorso-universita-di-salerno-3/
LOCATION:Padiglione 1\, Piazzale Tecchio\, Napoli\, 80125
CATEGORIES:Concorsi
ATTACH;FMTTYPE=image/jpeg:https://sviluppo.mostradoltremare.it/wp-content/uploads/2024/10/23472_image_universita-salerno.jpg
END:VEVENT
BEGIN:VEVENT
DTSTART;TZID=UTC:20240524T090000
DTEND;TZID=UTC:20240607T170000
DTSTAMP:20260421T101136
CREATED:20241003T153907Z
LAST-MODIFIED:20241003T154118Z
UID:23483-1716541200-1717779600@sviluppo.mostradoltremare.it
SUMMARY:Prove concorsuali Università Telematica eCampus
DESCRIPTION:Percorsi formativi CFU. Svolgimento a partire dalle ore 9\,00 (esclusi sabato e domenica)\nIngresso Viale Kennedy
URL:https://sviluppo.mostradoltremare.it/event/prove-concorsuali-universita-telematica-ecampus/
LOCATION:Sala Superiore del Ristorante della Piscina\, Napoli\, 80125
CATEGORIES:Concorsi
ATTACH;FMTTYPE=image/jpeg:https://sviluppo.mostradoltremare.it/wp-content/uploads/2024/10/23483_image_732-ecampus.jpg
ORGANIZER;CN="ASDvEmozionevinvmovimento":MAILTO:asdemozioneinmovimento@gmail_com
END:VEVENT
BEGIN:VEVENT
DTSTART;TZID=UTC:20240529T083000
DTEND;TZID=UTC:20240529T123000
DTSTAMP:20260421T101136
CREATED:20241003T154332Z
LAST-MODIFIED:20241003T154352Z
UID:23498-1716971400-1716985800@sviluppo.mostradoltremare.it
SUMMARY:CONCORSO COMUNE DI TORRE DEL GRECO
DESCRIPTION:Per Istruttore Amministrativo.\nIngresso Piazzale Tecchio
URL:https://sviluppo.mostradoltremare.it/event/concorso-comune-di-torre-del-greco/
LOCATION:Padiglioni 1-2-3B\, Piazzale Tecchio\, Napoli\, 80125\, Italia
CATEGORIES:Concorsi
ATTACH;FMTTYPE=image/png:https://sviluppo.mostradoltremare.it/wp-content/uploads/2024/10/23498_image_torre-del-greco.png
END:VEVENT
END:VCALENDAR