BEGIN:VCALENDAR
VERSION:2.0
PRODID:-//Mostra d&#039;Oltremare - ECPv6.7.0//NONSGML v1.0//EN
CALSCALE:GREGORIAN
METHOD:PUBLISH
X-WR-CALNAME:Mostra d&#039;Oltremare
X-ORIGINAL-URL:https://sviluppo.mostradoltremare.it
X-WR-CALDESC:Eventi per Mostra d&#039;Oltremare
REFRESH-INTERVAL;VALUE=DURATION:PT1H
X-Robots-Tag:noindex
X-PUBLISHED-TTL:PT1H
BEGIN:VTIMEZONE
TZID:UTC
BEGIN:STANDARD
TZOFFSETFROM:+0000
TZOFFSETTO:+0000
TZNAME:UTC
DTSTART:20240101T000000
END:STANDARD
END:VTIMEZONE
BEGIN:VEVENT
DTSTART;TZID=UTC:20240306T100000
DTEND;TZID=UTC:20240306T140000
DTSTAMP:20260421T114023
CREATED:20241002T184817Z
LAST-MODIFIED:20241002T184904Z
UID:22675-1709719200-1709733600@sviluppo.mostradoltremare.it
SUMMARY:Concorso Comune di Pozzuoli
DESCRIPTION:CONCORSO PUBBLICO\, PER TITOLI E PER ESAMI\, PER LA COPERTURA CON CONTRATTO DI LAVORO A TEMPO PIENO ED INDETERMINATO DI N. 10 POSTI DI ISTRUTTORE AMMINISTRATIVO\, AREA DEGLI ISTRUTTORI\, CCNL 16.11.2022 COMPARTO FUNZIONI LOCALI. Prova scritta\nIngresso Piazzale Tecchio
URL:https://sviluppo.mostradoltremare.it/event/concorso-comune-di-pozzuoli-2/
LOCATION:Padiglione 10\, Piazzale Tecchio\, Napoli\, 80125
CATEGORIES:Concorsi
ATTACH;FMTTYPE=image/jpeg:https://sviluppo.mostradoltremare.it/wp-content/uploads/2024/10/22634_image_COMUNE-DI-POZZUOLI.jpg
END:VEVENT
BEGIN:VEVENT
DTSTART;TZID=UTC:20240327T083000
DTEND;TZID=UTC:20240327T183000
DTSTAMP:20260421T114023
CREATED:20241002T185916Z
LAST-MODIFIED:20241002T185937Z
UID:22703-1711528200-1711564200@sviluppo.mostradoltremare.it
SUMMARY:CONCORSO UNIVERSITA' DI NAPOLI L'ORIENTALE
DESCRIPTION:Concorso pubblico\, per esami\, per la copertura di n. 8 posti di categoria B\, posizione economica B3\, area servizi generali e tecnici\, per le esigenze delle strutture amministrative dell’Amministrazione centrale e delle sedi periferiche – prove scritte\nIngresso Piazzale Tecchio
URL:https://sviluppo.mostradoltremare.it/event/concorso-universita-di-napoli-lorientale/
LOCATION:Padiglioni 1-2-3B\, Piazzale Tecchio\, Napoli\, 80125\, Italia
CATEGORIES:Concorsi
ATTACH;FMTTYPE=image/png:https://sviluppo.mostradoltremare.it/wp-content/uploads/2024/10/22703_image_universita-orientale.png
ORGANIZER;CN="Universita di Napoli L'Orientale":MAILTO:uffpers@unior_it
END:VEVENT
END:VCALENDAR