BEGIN:VCALENDAR
VERSION:2.0
PRODID:-//Mostra d&#039;Oltremare - ECPv6.7.0//NONSGML v1.0//EN
CALSCALE:GREGORIAN
METHOD:PUBLISH
X-WR-CALNAME:Mostra d&#039;Oltremare
X-ORIGINAL-URL:https://sviluppo.mostradoltremare.it
X-WR-CALDESC:Eventi per Mostra d&#039;Oltremare
REFRESH-INTERVAL;VALUE=DURATION:PT1H
X-Robots-Tag:noindex
X-PUBLISHED-TTL:PT1H
BEGIN:VTIMEZONE
TZID:UTC
BEGIN:STANDARD
TZOFFSETFROM:+0000
TZOFFSETTO:+0000
TZNAME:UTC
DTSTART:20220101T000000
END:STANDARD
END:VTIMEZONE
BEGIN:VEVENT
DTSTART;TZID=UTC:20220711T093000
DTEND;TZID=UTC:20220712T180000
DTSTAMP:20260423T140324
CREATED:20241004T065913Z
LAST-MODIFIED:20241004T065929Z
UID:23782-1657531800-1657648800@sviluppo.mostradoltremare.it
SUMMARY:Concorso INL Ispettorato Nazionale del Lavoro
DESCRIPTION:Concorso RIPAM riservato a 1.249 unità di personale non dirigenziale a tempo indeterminato da inquadrare nell’Area III\, posizione economica F1.\n1^ sessione giornaliera inizio ore 9\,30 – 2^ sessione giornaliera inizio ore 14\,30.\nIngressi candidati: Piazzale Tecchio – Viale Kennedy
URL:https://sviluppo.mostradoltremare.it/event/concorso-inl-ispettorato-nazionale-del-lavoro/
LOCATION:Padiglioni 1-2-3B e reception padiglione 1\, Piazzale Tecchio\, Napoli\, 80125
CATEGORIES:Concorsi
ATTACH;FMTTYPE=image/jpeg:https://sviluppo.mostradoltremare.it/wp-content/uploads/2024/10/23782_image_logo_ispettorato2.jpg
ORGANIZER;CN="Formez PA":MAILTO:protocollo@pec_formez_it
END:VEVENT
BEGIN:VEVENT
DTSTART;TZID=UTC:20220713T093000
DTEND;TZID=UTC:20220715T180000
DTSTAMP:20260423T140324
CREATED:20241004T065958Z
LAST-MODIFIED:20241004T070015Z
UID:23786-1657704600-1657908000@sviluppo.mostradoltremare.it
SUMMARY:Concorso Ministero Istruzione
DESCRIPTION:Prove scritte Concorso pubblico per il reclutamento di complessive n. 304 unità di personale non dirigenziale\, a tempo indeterminato\, da inquadrare nell’area funzionale iii\, posizione economica f1\, vari profili professionali.\nPrima sessione giornaliera inizio ore 9\,30 – seconda sessione giornaliera inizio ore 14\,30\nIngressi candidati Piazzale Tecchio e Viale Kennedy
URL:https://sviluppo.mostradoltremare.it/event/concorso-ministero-istruzione/
LOCATION:Padiglioni 1-2-3B e reception padiglione 1\, Piazzale Tecchio\, Napoli\, 80125
CATEGORIES:Concorsi
ATTACH;FMTTYPE=image/png:https://sviluppo.mostradoltremare.it/wp-content/uploads/2024/10/23786_image_ministerodellistruzione.png
ORGANIZER;CN="Formez PA":MAILTO:protocollo@pec_formez_it
END:VEVENT
BEGIN:VEVENT
DTSTART;TZID=UTC:20220714T100000
DTEND;TZID=UTC:20220715T170000
DTSTAMP:20260423T140324
CREATED:20241004T070139Z
LAST-MODIFIED:20241004T070153Z
UID:23795-1657792800-1657904400@sviluppo.mostradoltremare.it
SUMMARY:Concorsi AGEA
DESCRIPTION:Prove scritte per il reclutamento di funzionari Area C\, posizione C1 (il 14 luglio per funzionario con formazione statistica ed il 15 luglio per funzionario esperto di auditing).\nInizio prove: 1^ sessione ore 10\,00 – 2^ sessione ore 14\,30\nIngressi Piazzale Tecchio e Viale Kennedy
URL:https://sviluppo.mostradoltremare.it/event/concorsi-agea/
LOCATION:Padiglione 10\, Piazzale Tecchio\, Napoli\, 80125
CATEGORIES:Concorsi
ATTACH;FMTTYPE=image/jpeg:https://sviluppo.mostradoltremare.it/wp-content/uploads/2024/10/23795_image_AGEA-1.jpg
ORGANIZER;CN="Accademia Art Ballet":MAILTO:accademiaartballet@hotmail_it
END:VEVENT
BEGIN:VEVENT
DTSTART;TZID=UTC:20220718T093000
DTEND;TZID=UTC:20220719T150000
DTSTAMP:20260423T140324
CREATED:20241004T070340Z
LAST-MODIFIED:20241004T070355Z
UID:23804-1658136600-1658242800@sviluppo.mostradoltremare.it
SUMMARY:Concorso MEF Ministero Economia e Finanze
DESCRIPTION:per titoli ed esami\, per il reclutamento di un contingente complessivo di 300 (trecento) unità di personale non dirigenziale a tempo indeterminato da inquadrare nell’Area III\, posizione economica F1 –\ncodici CONT\, TRIB e AMM.\nIl 18 luglio 2022 = inizio prima sessione ore 9\,30; inizio seconda sessione ore 14\,30 –\nIl 19 luglio 2022 = sessione unica ore 10\,00.\nIngressi Piazzale Tecchio\, Viale Kennedy
URL:https://sviluppo.mostradoltremare.it/event/concorso-mef-ministero-economia-e-finanze/
LOCATION:Padiglioni 1-2-3B e reception padiglione 1\, Piazzale Tecchio\, Napoli\, 80125
CATEGORIES:Concorsi
ATTACH;FMTTYPE=image/png:https://sviluppo.mostradoltremare.it/wp-content/uploads/2024/10/20596_image_banchetti.png
ORGANIZER;CN="Formez PA":MAILTO:protocollo@pec_formez_it
END:VEVENT
BEGIN:VEVENT
DTSTART;TZID=UTC:20220718T100000
DTEND;TZID=UTC:20220718T170000
DTSTAMP:20260423T140324
CREATED:20241004T070422Z
LAST-MODIFIED:20241004T070436Z
UID:23807-1658138400-1658163600@sviluppo.mostradoltremare.it
SUMMARY:Concorso AGEA
DESCRIPTION:Prove scritte per reclutamento funzionari con formazione contabile (Area C\, posizione C1).\nInizio 1^ sessione ore 10\,00 – inizio 2^ sessione ore 14\,30.\nIngressi Piazzale Tecchio e Viale Kennedy
URL:https://sviluppo.mostradoltremare.it/event/concorso-agea-2/
LOCATION:Padiglione 10\, Piazzale Tecchio\, Napoli\, 80125
CATEGORIES:Concorsi
ATTACH;FMTTYPE=image/jpeg:https://sviluppo.mostradoltremare.it/wp-content/uploads/2024/10/23795_image_AGEA-1.jpg
ORGANIZER;CN="Seventeen Dance Studio ASD":MAILTO:seventeendancestudio@hotmail_com
END:VEVENT
BEGIN:VEVENT
DTSTART;TZID=UTC:20220720T093000
DTEND;TZID=UTC:20220720T180000
DTSTAMP:20260423T140324
CREATED:20241004T070504Z
LAST-MODIFIED:20241004T070518Z
UID:23810-1658309400-1658340000@sviluppo.mostradoltremare.it
SUMMARY:Concorso Ministero dell'Interno
DESCRIPTION:Prova preselettiva del concorso pubblico per l’ammissione di 448 borsisti al corso-concorso “Co.A 2021” finalizzato al conseguimento dell’abilitazione richiesta per l’iscrizione di 345 Segretari Comunali nella fascia iniziale (Fascia “C”) dell’Albo.\nIngresso Piazzale Tecchio.\nInizio prima sessione ore 9\,30; inizio seconda sessione ore 14\,30
URL:https://sviluppo.mostradoltremare.it/event/concorso-ministero-dellinterno/
LOCATION:Padiglione 1\, Piazzale Tecchio\, Napoli\, 80125
CATEGORIES:Concorsi
ATTACH;FMTTYPE=image/png:https://sviluppo.mostradoltremare.it/wp-content/uploads/2024/10/20596_image_banchetti.png
ORGANIZER;CN="Formez PA":MAILTO:protocollo@pec_formez_it
END:VEVENT
BEGIN:VEVENT
DTSTART;TZID=UTC:20220721T100000
DTEND;TZID=UTC:20220722T150000
DTSTAMP:20260423T140324
CREATED:20241004T070543Z
LAST-MODIFIED:20241004T070558Z
UID:23813-1658397600-1658502000@sviluppo.mostradoltremare.it
SUMMARY:Concorso Agenzia delle Entrate
DESCRIPTION:Reclutamento 150 dirigenti di seconda fascia da destinare in via prioritaria alla direzione di uffici preposti ad attività operative di gestione\, riscossione e contenzioso dei tributi di competenza della Agenzia delle Entrate – prova scritta.\nIngressi Piazzale Tecchio e Viale Kennedy
URL:https://sviluppo.mostradoltremare.it/event/concorso-agenzia-delle-entrate-2/
LOCATION:Padiglioni 1 e 2\, Piazzale Tecchio\, Napoli\, 80125
CATEGORIES:Concorsi
ATTACH;FMTTYPE=image/png:https://sviluppo.mostradoltremare.it/wp-content/uploads/2024/10/23813_image_agenzia-delle-entrate.png
ORGANIZER;CN="Formez PA":MAILTO:protocollo@pec_formez_it
END:VEVENT
END:VCALENDAR