BEGIN:VCALENDAR
VERSION:2.0
PRODID:-//Mostra d&#039;Oltremare - ECPv6.7.0//NONSGML v1.0//EN
CALSCALE:GREGORIAN
METHOD:PUBLISH
X-WR-CALNAME:Mostra d&#039;Oltremare
X-ORIGINAL-URL:https://sviluppo.mostradoltremare.it
X-WR-CALDESC:Eventi per Mostra d&#039;Oltremare
REFRESH-INTERVAL;VALUE=DURATION:PT1H
X-Robots-Tag:noindex
X-PUBLISHED-TTL:PT1H
BEGIN:VTIMEZONE
TZID:UTC
BEGIN:STANDARD
TZOFFSETFROM:+0000
TZOFFSETTO:+0000
TZNAME:UTC
DTSTART:20220101T000000
END:STANDARD
END:VTIMEZONE
BEGIN:VEVENT
DTSTART;TZID=UTC:20220405T093000
DTEND;TZID=UTC:20220406T170000
DTSTAMP:20260423T203543
CREATED:20241002T215902Z
LAST-MODIFIED:20241002T215913Z
UID:23044-1649151000-1649264400@sviluppo.mostradoltremare.it
SUMMARY:Concorso AICS Agenzia Italiana per la Cooperazione allo Sviluppo e Ministero Transizione Ecologica
DESCRIPTION:Prova scritta per il reclutamento a tempo indeterminato di personale non dirigenziale Area Funzionale III.\nDue sessioni giornaliere: la 1^ alle ore 9\,30; la 2^ alle ore 14\,30.\nIngresso Viale Kennedy 54\nRegolamento\, avvisi\, etc al seguente link: Concorso RIPAM per Agenzia italiana per la cooperazione allo sviluppo e Ministero della transizione ecologica. Avviso prova scritta | Concorsi e riqualificazione PA (formez.it)
URL:https://sviluppo.mostradoltremare.it/event/concorso-aics-agenzia-italiana-per-la-cooperazione-allo-sviluppo-e-ministero-transizione-ecologica/
LOCATION:Padiglioni 2\, 3 e 3B\, Viale Kennedy 54\, Napoli\, Italia\, 80125
CATEGORIES:Concorsi
ATTACH;FMTTYPE=image/png:https://sviluppo.mostradoltremare.it/wp-content/uploads/2024/10/20619_image_banchetti-1.png
ORGANIZER;CN="Formez PA":MAILTO:protocollo@pec_formez_it
END:VEVENT
BEGIN:VEVENT
DTSTART;TZID=UTC:20220429T093000
DTEND;TZID=UTC:20220429T170000
DTSTAMP:20260423T203543
CREATED:20241002T220235Z
LAST-MODIFIED:20241002T220257Z
UID:23061-1651224600-1651251600@sviluppo.mostradoltremare.it
SUMMARY:Concorso Coesione 2. Prove suppletive
DESCRIPTION:Prove suppletive del Concorso Coesione Sud per i candidati risultati positivi al Covid-19 che ne hanno fatto richiesta e che hanno ricevuto comunicazione di accoglimento dell’istanza.\nPer il profilo FG/COE: sessione ore 9\,30\nPer il profilo FT/COE: sessione ore 14\,00\nIngresso Viale Kennedy 54
URL:https://sviluppo.mostradoltremare.it/event/concorso-coesione-2-prove-suppletive/
LOCATION:Sala Italia\, Napoli\, 80125
CATEGORIES:Concorsi
ATTACH;FMTTYPE=image/jpeg:https://sviluppo.mostradoltremare.it/wp-content/uploads/2024/10/23061_image_2021-concorso-coesione.jpg
ORGANIZER;CN="Formez PA":MAILTO:protocollo@pec_formez_it
END:VEVENT
END:VCALENDAR