BEGIN:VCALENDAR
VERSION:2.0
PRODID:-//Mostra d&#039;Oltremare - ECPv6.7.0//NONSGML v1.0//EN
CALSCALE:GREGORIAN
METHOD:PUBLISH
X-ORIGINAL-URL:https://sviluppo.mostradoltremare.it
X-WR-CALDESC:Eventi per Mostra d&#039;Oltremare
REFRESH-INTERVAL;VALUE=DURATION:PT1H
X-Robots-Tag:noindex
X-PUBLISHED-TTL:PT1H
BEGIN:VTIMEZONE
TZID:UTC
BEGIN:STANDARD
TZOFFSETFROM:+0000
TZOFFSETTO:+0000
TZNAME:UTC
DTSTART:20220101T000000
END:STANDARD
END:VTIMEZONE
BEGIN:VEVENT
DTSTART;TZID=UTC:20220224T093000
DTEND;TZID=UTC:20220224T170000
DTSTAMP:20260424T000326
CREATED:20241002T214946Z
LAST-MODIFIED:20241002T215016Z
UID:22998-1645695000-1645722000@sviluppo.mostradoltremare.it
SUMMARY:Concorso Università L'Orientale
DESCRIPTION:Concorso pubblico per la copertura di 6 posti di categoria D\, posizione economica D1\, area amministrativa-gestionale.\nIngresso Viale Marconi
URL:https://sviluppo.mostradoltremare.it/event/concorso-universita-lorientale/
LOCATION:Sala Ischia del Palacongressi
CATEGORIES:Concorsi
ATTACH;FMTTYPE=image/jpeg:https://sviluppo.mostradoltremare.it/wp-content/uploads/2024/10/22998_image_orientale.jpg
ORGANIZER;CN="Universita di Napoli L'Orientale":MAILTO:uffpers@unior_it
END:VEVENT
END:VCALENDAR