BEGIN:VCALENDAR
VERSION:2.0
PRODID:-//Mostra d&#039;Oltremare - ECPv6.7.0//NONSGML v1.0//EN
CALSCALE:GREGORIAN
METHOD:PUBLISH
X-ORIGINAL-URL:https://sviluppo.mostradoltremare.it
X-WR-CALDESC:Eventi per Mostra d&#039;Oltremare
REFRESH-INTERVAL;VALUE=DURATION:PT1H
X-Robots-Tag:noindex
X-PUBLISHED-TTL:PT1H
BEGIN:VTIMEZONE
TZID:UTC
BEGIN:STANDARD
TZOFFSETFROM:+0000
TZOFFSETTO:+0000
TZNAME:UTC
DTSTART:20210101T000000
END:STANDARD
END:VTIMEZONE
BEGIN:VEVENT
DTSTART;TZID=UTC:20211109T100000
DTEND;TZID=UTC:20211109T173000
DTSTAMP:20260424T042842
CREATED:20241008T204241Z
LAST-MODIFIED:20241008T204241Z
UID:24792-1636452000-1636479000@sviluppo.mostradoltremare.it
SUMMARY:Concorso AGEA - Prove Orali
DESCRIPTION:del Concorso Pubblico per Reclutamento Personale Interno Profilo Funzionario di Area. Ingressi: Via Marconi e Viale Kennedy. Primo turno ore 10\,00 – Secondo turno ore 14\,30
URL:https://sviluppo.mostradoltremare.it/event/concorso-agea-prove-orali/
LOCATION:Padiglione 2\, Viale Kennedy 54\, Napoli\, Italia\, 80125
CATEGORIES:Concorsi
ATTACH;FMTTYPE=image/jpeg:https://sviluppo.mostradoltremare.it/wp-content/uploads/2024/10/24792_image_2-agea-.jpg
ORGANIZER;CN="ASSOCIAZIONE%20CULTURALE%20EURO%20ARTISTS":MAILTO:info@vincerocompetition_org
END:VEVENT
BEGIN:VEVENT
DTSTART;TZID=UTC:20211124T083000
DTEND;TZID=UTC:20211126T170000
DTSTAMP:20260424T042843
CREATED:20241002T213126Z
LAST-MODIFIED:20241002T213139Z
UID:22914-1637742600-1637946000@sviluppo.mostradoltremare.it
SUMMARY:Concorso RIPAM Giustizia
DESCRIPTION:Prova  scritta di cui al bando di concorso pubblico\, per titoli ed esami\, su basi distrettuale\, per il reclutamento a tempo determinato di 8.171 unità di personale non dirigenziale dell’Area funzionale terza\, Fascia economica F1\, con il profilo di Addetto all’Ufficio per il Processo.\nIngresso Viale Kennedy 54\nSvolgimento prove in due sessioni giornaliere: prima sessione ore 8\,30; seconda sessione ore 14\,30.\nInfo\, istruzioni\, etc. al seguente link: Ministero della giustizia. Concorso per l’assunzione di 8.171 unità di personale a tempo determinato. Al via la prova scritta | Concorsi e riqualificazione PA (formez.it)
URL:https://sviluppo.mostradoltremare.it/event/concorso-ripam-giustizia/
LOCATION:Padiglioni 2\, 4\, 10 e Palacongressi\, Viale Kennedy 54\, Napoli\, Italia\, 80125
CATEGORIES:Concorsi
ATTACH;FMTTYPE=image/gif:https://sviluppo.mostradoltremare.it/wp-content/uploads/2024/10/22914_image_Giustizia.gif
ORGANIZER;CN="Istituto Paritario Il Cigno- Fimar Impresa Sociale srl":MAILTO:scuolailcigno@virgilio_it
END:VEVENT
END:VCALENDAR