BEGIN:VCALENDAR
VERSION:2.0
PRODID:-//Mostra d&#039;Oltremare - ECPv6.7.0//NONSGML v1.0//EN
CALSCALE:GREGORIAN
METHOD:PUBLISH
X-ORIGINAL-URL:https://sviluppo.mostradoltremare.it
X-WR-CALDESC:Eventi per Mostra d&#039;Oltremare
REFRESH-INTERVAL;VALUE=DURATION:PT1H
X-Robots-Tag:noindex
X-PUBLISHED-TTL:PT1H
BEGIN:VTIMEZONE
TZID:UTC
BEGIN:STANDARD
TZOFFSETFROM:+0000
TZOFFSETTO:+0000
TZNAME:UTC
DTSTART:20210101T000000
END:STANDARD
END:VTIMEZONE
BEGIN:VEVENT
DTSTART;TZID=UTC:20210913T083000
DTEND;TZID=UTC:20210913T150000
DTSTAMP:20260424T074800
CREATED:20241008T203015Z
LAST-MODIFIED:20241008T203015Z
UID:24713-1631521800-1631545200@sviluppo.mostradoltremare.it
SUMMARY:Concorso per Collaboratore Amministrativo Professionale
DESCRIPTION:Prova pratica d’esame in presenza del Concorso Pubblico per titoli ed esami per la copertura di posti di Collaboratore Amministrativo Professionale Categoria D della Azienda Sanitaria Locale Napoli 1 Centro. Per accedere alla Sala Concorsuale i candidati devono essere in possesso di quanto previsto dall’art.3 del D.L. n.105  del 23/7/2021 (certificazioni verdi Covid 19) Ingresso Viale Kennedy 54
URL:https://sviluppo.mostradoltremare.it/event/concorso-per-collaboratore-amministrativo-professionale/
LOCATION:Padiglione 6\, Viale Kennedy 54
CATEGORIES:Concorsi
ATTACH;FMTTYPE=image/jpeg:https://sviluppo.mostradoltremare.it/wp-content/uploads/2024/10/24713_image_immagine-asl-napoli-1-centro.jpg
ORGANIZER;CN="Spazio%20Danza%20di%20Rosa%20Varriale":MAILTO:info@spaziodanza_org
END:VEVENT
BEGIN:VEVENT
DTSTART;TZID=UTC:20210915T083000
DTEND;TZID=UTC:20210915T150000
DTSTAMP:20260424T074800
CREATED:20241008T203031Z
LAST-MODIFIED:20241008T203031Z
UID:24716-1631694600-1631718000@sviluppo.mostradoltremare.it
SUMMARY:Concorso per Assistente Amministrativo
DESCRIPTION:Prova pratica di esame in presenza del Concorso Pubblico per titoli ed esami per la copertura a tempo indeterminato di posti di Assistente Amministrativo Categoria C della Azienda Sanitaria Locale Napoli 1 Centro. Per accedere alle Sale Concorsuali i candidati devono essere in possesso di quanto previsto dall’Art.3 del D.L. n.105 del 23/7/2021 (certificazioni verdi Covid-19) Ingresso Viale Kennedy 54
URL:https://sviluppo.mostradoltremare.it/event/concorso-per-assistente-amministrativo/
LOCATION:Padiglioni 5 e 6\, Viale Kennedy 54\, Napoli\, 80125
CATEGORIES:Concorsi
ATTACH;FMTTYPE=image/jpeg:https://sviluppo.mostradoltremare.it/wp-content/uploads/2024/10/24716_image_immagine-asl-napoli-1-centro-1.jpg
ORGANIZER;CN="Spazio%20Danza%20di%20Rosa%20Varriale":MAILTO:info@spaziodanza_org
END:VEVENT
BEGIN:VEVENT
DTSTART;TZID=UTC:20210920T093000
DTEND;TZID=UTC:20211015T173000
DTSTAMP:20260424T074800
CREATED:20241008T203126Z
LAST-MODIFIED:20241008T203126Z
UID:24722-1632130200-1634319000@sviluppo.mostradoltremare.it
SUMMARY:Concorso Regione Campania
DESCRIPTION:Prove orali concorso interno Regione Campania Progressioni Verticali 2019 Categoria D nei seguenti profili professionali: Funzionario Amministrativo\, Funzionario Risorse Finanziarie\, Funzionario Sistemi Informativi e Tecnologie\, Funzionario Policy Regionale. Giorni di effettuazione delle prove: 20\, 21\, 22\, 23\, 24\, 27\, 29 e 30 settembre 2021 – 1\, 4\, 6\, 11\, 13 e 15 ottobre 2021 Ingressi Via Marconi e Viale Kennedy  
URL:https://sviluppo.mostradoltremare.it/event/concorso-regione-campania-4/
LOCATION:Sala Italia\, Interno Teatro Mediterraneo\, Napoli\, 80125
CATEGORIES:Concorsi
ATTACH;FMTTYPE=image/jpeg:https://sviluppo.mostradoltremare.it/wp-content/uploads/2024/10/24722_image_regione-campaniA.jpg
ORGANIZER;CN="Spazio%20Danza%20di%20Rosa%20Varriale":MAILTO:info@spaziodanza_org
END:VEVENT
BEGIN:VEVENT
DTSTART;TZID=UTC:20210927T090000
DTEND;TZID=UTC:20211007T170000
DTSTAMP:20260424T074800
CREATED:20241008T203203Z
LAST-MODIFIED:20241008T203203Z
UID:24725-1632733200-1633626000@sviluppo.mostradoltremare.it
SUMMARY:Concorso Istruttore Sistemi Informativi e Tecnologie
DESCRIPTION:A tempo indeterminato\, Categoria C \, da assegnare presso i Centri per l’Impiego della Regione Campania Prove scritte. Sessioni mattutine ore 9\,00; sessioni pomeridiane ore 14\,00. Ingressi Viale Marconi e Viale Kennedy
URL:https://sviluppo.mostradoltremare.it/event/concorso-istruttore-sistemi-informativi-e-tecnologie/
LOCATION:Padiglione 10\, Piazzale Tecchio\, Napoli\, 80125
CATEGORIES:Concorsi
ATTACH;FMTTYPE=image/jpeg:https://sviluppo.mostradoltremare.it/wp-content/uploads/2024/10/24587_image_centro-per-limpiego.jpg
ORGANIZER;CN="Spazio%20Danza%20di%20Rosa%20Varriale":MAILTO:info@spaziodanza_org
END:VEVENT
BEGIN:VEVENT
DTSTART;TZID=UTC:20210930T080000
DTEND;TZID=UTC:20211008T200000
DTSTAMP:20260424T074800
CREATED:20241008T203232Z
LAST-MODIFIED:20241008T203232Z
UID:24727-1632988800-1633723200@sviluppo.mostradoltremare.it
SUMMARY:Concorso Pubblico per Funzionari Amministrativi
DESCRIPTION:Prove scritte. Giornate di svolgimento: 30 settembre\, 1-4-5-6-7- e 8 ottobre 2021. Orari sessioni: 1^ sessione ore 8\,00; 2^ sessione ore 12\,30; 3^ sessione ore 17\,00. Ingressi Viale Kennedy e Via Marconi
URL:https://sviluppo.mostradoltremare.it/event/concorso-pubblico-per-funzionari-amministrativi/
LOCATION:Palacongressi\, Via Terracina 197\, Napoli\, 80125
CATEGORIES:Concorsi
ATTACH;FMTTYPE=image/jpeg:https://sviluppo.mostradoltremare.it/wp-content/uploads/2024/10/24727_image_ripam-funzionari-amministrativi.jpg
ORGANIZER;CN="Formez PA":MAILTO:protocollo@pec_formez_it
END:VEVENT
BEGIN:VEVENT
DTSTART;TZID=UTC:20210930T090000
DTEND;TZID=UTC:20210930T150000
DTSTAMP:20260424T074800
CREATED:20241008T203253Z
LAST-MODIFIED:20241008T203253Z
UID:24732-1632992400-1633014000@sviluppo.mostradoltremare.it
SUMMARY:Concorso Istruttori Direttivi Area Amministrativa Categoria D
DESCRIPTION:per il Settore delle Politiche Sociali del Comune di Ercolano. Sessioni giornaliere candidati ore 9\,00 e ore 12\,15 Ingresso Viale Marconi
URL:https://sviluppo.mostradoltremare.it/event/concorso-istruttori-direttivi-area-amministrativa-categoria-d/
LOCATION:Sala Marco Polo (Ristorante della Piscina Piano Superiore)
CATEGORIES:Concorsi
ATTACH;FMTTYPE=image/png:https://sviluppo.mostradoltremare.it/wp-content/uploads/2024/10/24732_image_Ercolano-Stemma-1.png
ORGANIZER;CN="Comune%20di%20Ercolano%20%28NA%29":MAILTO:protocollo_ercolano@legalmail_it
END:VEVENT
END:VCALENDAR