BEGIN:VCALENDAR
VERSION:2.0
PRODID:-//Mostra d&#039;Oltremare - ECPv6.7.0//NONSGML v1.0//EN
CALSCALE:GREGORIAN
METHOD:PUBLISH
X-ORIGINAL-URL:https://sviluppo.mostradoltremare.it
X-WR-CALDESC:Eventi per Mostra d&#039;Oltremare
REFRESH-INTERVAL;VALUE=DURATION:PT1H
X-Robots-Tag:noindex
X-PUBLISHED-TTL:PT1H
BEGIN:VTIMEZONE
TZID:UTC
BEGIN:STANDARD
TZOFFSETFROM:+0000
TZOFFSETTO:+0000
TZNAME:UTC
DTSTART:20210101T000000
END:STANDARD
END:VTIMEZONE
BEGIN:VEVENT
DTSTART;TZID=UTC:20210628T093000
DTEND;TZID=UTC:20210702T170000
DTSTAMP:20260424T111323
CREATED:20241008T202335Z
LAST-MODIFIED:20241008T202335Z
UID:24669-1624872600-1625245200@sviluppo.mostradoltremare.it
SUMMARY:Concorso Reclutamento Personale Categorie C e D presso sedi Regione Campania e Consiglio Regionale
DESCRIPTION:Prove scritte. Orari: 1° turno ore 9\,30 – 2° turno ore 14\,30 Ingresso Viale Kennedy
URL:https://sviluppo.mostradoltremare.it/event/concorso-reclutamento-personale-categorie-c-e-d-presso-sedi-regione-campania-e-consiglio-regionale/
LOCATION:Padiglione 5\, viale Kennedy 54\, Napoli\, NA\, 80125
CATEGORIES:Concorsi
ATTACH;FMTTYPE=image/jpeg:https://sviluppo.mostradoltremare.it/wp-content/uploads/2024/10/24669_image_2021-RIPAM-CAMPANIA.jpg
ORGANIZER;CN="Formez PA":MAILTO:protocollo@pec_formez_it
END:VEVENT
BEGIN:VEVENT
DTSTART;TZID=UTC:20210629T090000
DTEND;TZID=UTC:20210705T130000
DTSTAMP:20260424T111323
CREATED:20241008T202404Z
LAST-MODIFIED:20241008T202404Z
UID:24672-1624957200-1625490000@sviluppo.mostradoltremare.it
SUMMARY:Procedure Selettive Interne Regione Campania Progressioni Verticali
DESCRIPTION:Prove orali. Orari: 29 giugno\, 30 giugno e 1° luglio 2021 dalle 9\,00 alle 16\,00 2 luglio 2021 dalle 9\,00 alle 17\,00 5 luglio 2021 dalle 9\,00 alle 13\,00 Ingresso Via Marconi
URL:https://sviluppo.mostradoltremare.it/event/procedure-selettive-interne-regione-campania-progressioni-verticali-2/
LOCATION:Padiglione 10\, Piazzale Tecchio\, Napoli\, 80125
CATEGORIES:Concorsi
ATTACH;FMTTYPE=image/jpeg:https://sviluppo.mostradoltremare.it/wp-content/uploads/2024/10/24672_image_9656390a-77cb-4a38-9734-95ff5d40771c.jpg
ORGANIZER;CN="Percettiva%20S.c.%20a%20r.l.":MAILTO:meeter@meeter_it
END:VEVENT
BEGIN:VEVENT
DTSTART;TZID=UTC:20210630T080000
DTEND;TZID=UTC:20210708T200000
DTSTAMP:20260424T111323
CREATED:20241008T202457Z
LAST-MODIFIED:20241008T202457Z
UID:24675-1625040000-1625774400@sviluppo.mostradoltremare.it
SUMMARY:Concorso ADM - Agenzia Accise\, Dogane e Monopoli
DESCRIPTION:(con esclusione di sabato e domenica)  Concorso per figure professionali fascia retributiva F3 Le prove hanno luogo in 3 sessioni giornaliere\, con i seguenti orari di inizio:  \n1° turno ore 8\,002° turno ore 12\,303° turno ore 16\,30 \nIngresso Viale Kennedy 54
URL:https://sviluppo.mostradoltremare.it/event/concorso-adm-agenzia-accise-dogane-e-monopoli/
LOCATION:Padiglioni 3 e 3B\, Viale Kennedy 54\, Napoli\, Italia\, 80125
CATEGORIES:Concorsi
ATTACH;FMTTYPE=image/png:https://sviluppo.mostradoltremare.it/wp-content/uploads/2024/10/24675_image_dogane-e-monopoli.png
ORGANIZER;CN="Percettiva%20S.c.%20a%20r.l.":MAILTO:meeter@meeter_it
END:VEVENT
BEGIN:VEVENT
DTSTART;TZID=UTC:20210712T080000
DTEND;TZID=UTC:20210715T200000
DTSTAMP:20260424T111323
CREATED:20241008T202647Z
LAST-MODIFIED:20241008T202647Z
UID:24689-1626076800-1626379200@sviluppo.mostradoltremare.it
SUMMARY:Concorso ADM - Agenzia Dogane e Monopoli
DESCRIPTION:per il reclutamento di personale di fascia F1. Le prove hanno luogo in tre turni: 1° turno ore 8\,00 2° turno ore 12\,30 3° turno ore 16\,30 Ingresso Viale Kennedy 54
URL:https://sviluppo.mostradoltremare.it/event/concorso-adm-agenzia-dogane-e-monopoli/
LOCATION:Padiglioni 2\, 3 e 3B\, Viale Kennedy 54\, Napoli\, Italia\, 80125
CATEGORIES:Concorsi
ATTACH;FMTTYPE=image/png:https://sviluppo.mostradoltremare.it/wp-content/uploads/2024/10/24675_image_dogane-e-monopoli.png
ORGANIZER;CN="Spazio%20Danza%20di%20Rosa%20Varriale":MAILTO:info@spaziodanza_org
END:VEVENT
BEGIN:VEVENT
DTSTART;TZID=UTC:20210722T090000
DTEND;TZID=UTC:20210723T180000
DTSTAMP:20260424T111323
CREATED:20241008T202739Z
LAST-MODIFIED:20241008T202739Z
UID:24694-1626944400-1627063200@sviluppo.mostradoltremare.it
SUMMARY:Concorso Regione Campania
DESCRIPTION:Prove scritte Progressioni Verticali. Calendario Prove: 22 luglio 2021 per Funzionario Amministrativo =  1° turno ore 9\,30\, 2° turno ore 15\,00; 23 luglio 2021 per Funzionario Policy Regionali – Funzionario Sistemi Informativi – Funzionario Risorse Finanziarie = 1° turno ore 9\,30\, 2° turno ore 15\,00. Ingressi: Via Marconi e Viale Kennedy
URL:https://sviluppo.mostradoltremare.it/event/concorso-regione-campania-3/
LOCATION:Padiglione 10\, Piazzale Tecchio\, Napoli\, 80125
CATEGORIES:Concorsi
ATTACH;FMTTYPE=image/jpeg:https://sviluppo.mostradoltremare.it/wp-content/uploads/2024/10/24694_image_regione-campania-e1553008781832.jpg
ORGANIZER;CN="Spazio%20Danza%20di%20Rosa%20Varriale":MAILTO:info@spaziodanza_org
END:VEVENT
BEGIN:VEVENT
DTSTART;TZID=UTC:20210728T100000
DTEND;TZID=UTC:20210728T150000
DTSTAMP:20260424T111323
CREATED:20241008T202841Z
LAST-MODIFIED:20241008T202841Z
UID:24703-1627466400-1627484400@sviluppo.mostradoltremare.it
SUMMARY:Concorso MIBAC
DESCRIPTION:per il reclutamento di n. 1.052 unità di personale non dirigenziale a tempo indeterminato\, da inquadrare nella II Area\, posizione economica F2\, profilo professionale di Assistente alla fruizione\, accoglienza e vigilanza del Ministero della cultura. Ingresso Viale Kennedy
URL:https://sviluppo.mostradoltremare.it/event/concorso-mibac/
LOCATION:Padiglioni 5 e 6; Sala Italia\, Viale Kennedy 54\, Napoli
CATEGORIES:Concorsi
ATTACH;FMTTYPE=image/jpeg:https://sviluppo.mostradoltremare.it/wp-content/uploads/2024/10/24703_image_28-luglio-2021-concorso_mic.jpg
ORGANIZER;CN="Spazio%20Danza%20di%20Rosa%20Varriale":MAILTO:info@spaziodanza_org
END:VEVENT
BEGIN:VEVENT
DTSTART;TZID=UTC:20210728T100000
DTEND;TZID=UTC:20210728T180000
DTSTAMP:20260424T111323
CREATED:20241008T202824Z
LAST-MODIFIED:20241008T202824Z
UID:24699-1627466400-1627495200@sviluppo.mostradoltremare.it
SUMMARY:Concorso Università degli Studi di Napoli Federico II
DESCRIPTION:a n.8 posti di categoria C\, posizione economica C1\, area biblioteche. Ingresso Viale Kennedy
URL:https://sviluppo.mostradoltremare.it/event/concorso-universita-degli-studi-di-napoli-federico-ii/
LOCATION:Padiglioni 2-3-3B e 4
CATEGORIES:Concorsi
ATTACH;FMTTYPE=image/gif:https://sviluppo.mostradoltremare.it/wp-content/uploads/2024/10/24699_image_Logo_unina.gif
ORGANIZER;CN="Spazio%20Danza%20di%20Rosa%20Varriale":MAILTO:info@spaziodanza_org
END:VEVENT
BEGIN:VEVENT
DTSTART;TZID=UTC:20210729T083000
DTEND;TZID=UTC:20210729T180000
DTSTAMP:20260424T111323
CREATED:20241008T202908Z
LAST-MODIFIED:20241008T202908Z
UID:24707-1627547400-1627581600@sviluppo.mostradoltremare.it
SUMMARY:Concorso Ministero degli Interni
DESCRIPTION:a 200 posti per l’accesso alla qualifica iniziale della carriera prefettizia. 1° turno ore 8\,30 2° turno ore 14\,30 Ingresso Viale Kennedy
URL:https://sviluppo.mostradoltremare.it/event/concorso-ministero-degli-interni/
LOCATION:Padiglioni 2\, 3\, 3B\, 4\, 5 e 6\, Viale Kennedy 54\, Napoli\, 80125\, Italia
CATEGORIES:Concorsi
ATTACH;FMTTYPE=image/jpeg:https://sviluppo.mostradoltremare.it/wp-content/uploads/2024/10/24707_image_29-luglio-concorso_interni.jpg
ORGANIZER;CN="Spazio%20Danza%20di%20Rosa%20Varriale":MAILTO:info@spaziodanza_org
END:VEVENT
END:VCALENDAR